BEGIN:VCALENDAR
VERSION:2.0
PRODID:-//Mid-Southern California Area 09 - ECPv6.15.20//NONSGML v1.0//EN
CALSCALE:GREGORIAN
METHOD:PUBLISH
X-WR-CALNAME:Mid-Southern California Area 09
X-ORIGINAL-URL:https://msca09aa.org
X-WR-CALDESC:Events for Mid-Southern California Area 09
REFRESH-INTERVAL;VALUE=DURATION:PT1H
X-Robots-Tag:noindex
X-PUBLISHED-TTL:PT1H
BEGIN:VTIMEZONE
TZID:America/Los_Angeles
BEGIN:DAYLIGHT
TZOFFSETFROM:-0800
TZOFFSETTO:-0700
TZNAME:PDT
DTSTART:20200308T100000
END:DAYLIGHT
BEGIN:STANDARD
TZOFFSETFROM:-0700
TZOFFSETTO:-0800
TZNAME:PST
DTSTART:20201101T090000
END:STANDARD
BEGIN:DAYLIGHT
TZOFFSETFROM:-0800
TZOFFSETTO:-0700
TZNAME:PDT
DTSTART:20210314T100000
END:DAYLIGHT
BEGIN:STANDARD
TZOFFSETFROM:-0700
TZOFFSETTO:-0800
TZNAME:PST
DTSTART:20211107T090000
END:STANDARD
BEGIN:DAYLIGHT
TZOFFSETFROM:-0800
TZOFFSETTO:-0700
TZNAME:PDT
DTSTART:20220313T100000
END:DAYLIGHT
BEGIN:STANDARD
TZOFFSETFROM:-0700
TZOFFSETTO:-0800
TZNAME:PST
DTSTART:20221106T090000
END:STANDARD
END:VTIMEZONE
BEGIN:VEVENT
DTSTART;VALUE=DATE:20210917
DTEND;VALUE=DATE:20210920
DTSTAMP:20260423T013219
CREATED:20210515T223726Z
LAST-MODIFIED:20210515T223726Z
UID:4080-1631836800-1632095999@msca09aa.org
SUMMARY:NAATW 2021 Virtual Workshop
DESCRIPTION:The 2021 National AA Technology Workshop will host our annual Workshop on the weekend of Sep 17-19\, 2021. Expect two full days of content. \nThe workshop will be online only. While we hoped to be in person this year\, the Steering Committee concluded that the health and financial risks were just too high. Given the organizing time it takes to put on an event\, we needed to make this decision now and chose the safe road. \nWe are excited to see how we have grown and thrived. Join us as we share and explore where technology has changed\, and stayed the same\, this year. \nStay tuned for an email request for volunteers\, which we will send out shortly. \nDoug G\nNAATW 2021 Chair\nchair@naatw.org
URL:https://msca09aa.org/event/naatw-2021-virtual-workshop/
LOCATION:ZOOM\, United States
CATEGORIES:Special Event
ORGANIZER;CN="NAATW":MAILTO:chair@naatw.org
END:VEVENT
END:VCALENDAR