BEGIN:VCALENDAR
VERSION:2.0
PRODID:-//Mid-Southern California Area 09 - ECPv6.15.20//NONSGML v1.0//EN
CALSCALE:GREGORIAN
METHOD:PUBLISH
X-ORIGINAL-URL:https://msca09aa.org
X-WR-CALDESC:Events for Mid-Southern California Area 09
REFRESH-INTERVAL;VALUE=DURATION:PT1H
X-Robots-Tag:noindex
X-PUBLISHED-TTL:PT1H
BEGIN:VTIMEZONE
TZID:America/Los_Angeles
BEGIN:DAYLIGHT
TZOFFSETFROM:-0800
TZOFFSETTO:-0700
TZNAME:PDT
DTSTART:20220313T100000
END:DAYLIGHT
BEGIN:STANDARD
TZOFFSETFROM:-0700
TZOFFSETTO:-0800
TZNAME:PST
DTSTART:20221106T090000
END:STANDARD
BEGIN:DAYLIGHT
TZOFFSETFROM:-0800
TZOFFSETTO:-0700
TZNAME:PDT
DTSTART:20230312T100000
END:DAYLIGHT
BEGIN:STANDARD
TZOFFSETFROM:-0700
TZOFFSETTO:-0800
TZNAME:PST
DTSTART:20231105T090000
END:STANDARD
BEGIN:DAYLIGHT
TZOFFSETFROM:-0800
TZOFFSETTO:-0700
TZNAME:PDT
DTSTART:20240310T100000
END:DAYLIGHT
BEGIN:STANDARD
TZOFFSETFROM:-0700
TZOFFSETTO:-0800
TZNAME:PST
DTSTART:20241103T090000
END:STANDARD
END:VTIMEZONE
BEGIN:VEVENT
DTSTART;TZID=America/Los_Angeles:20230513T130000
DTEND;TZID=America/Los_Angeles:20230513T160000
DTSTAMP:20260421T144039
CREATED:20230421T231422Z
LAST-MODIFIED:20230421T231505Z
UID:8807-1683982800-1683993600@msca09aa.org
SUMMARY:Sponsorship Workshop
DESCRIPTION:Chapter 7\nWorking with Others\nSponsorship Workshop\n\nLaguna United Methodist Church\n24442 Moulton Pkwy\nLaguna Woods\, CA 92637\n\n1:00 – 1:45pm Lunch\n1:45 – 3:15pm Speakers\n3:15 – 4:00pm Q&A\nEvent Flyer: sponsorship workshop fly_001
URL:https://msca09aa.org/event/sponsorship-workshop/
LOCATION:Laguna United Methodist Church\, 24442 Moulton Pkwy\, Laguna Woods\, CA\, 92637\, United States
CATEGORIES:Workshop
ATTACH;FMTTYPE=image/png:https://msca09aa.org/wp-content/uploads/2023/04/Screenshot-2023-04-21-at-4.11.09-PM.png
END:VEVENT
END:VCALENDAR