BEGIN:VCALENDAR
VERSION:2.0
PRODID:-//Mid-Southern California Area 09 - ECPv6.15.20//NONSGML v1.0//EN
CALSCALE:GREGORIAN
METHOD:PUBLISH
X-WR-CALNAME:Mid-Southern California Area 09
X-ORIGINAL-URL:https://msca09aa.org
X-WR-CALDESC:Events for Mid-Southern California Area 09
REFRESH-INTERVAL;VALUE=DURATION:PT1H
X-Robots-Tag:noindex
X-PUBLISHED-TTL:PT1H
BEGIN:VTIMEZONE
TZID:America/Los_Angeles
BEGIN:DAYLIGHT
TZOFFSETFROM:-0800
TZOFFSETTO:-0700
TZNAME:PDT
DTSTART:20210314T100000
END:DAYLIGHT
BEGIN:STANDARD
TZOFFSETFROM:-0700
TZOFFSETTO:-0800
TZNAME:PST
DTSTART:20211107T090000
END:STANDARD
BEGIN:DAYLIGHT
TZOFFSETFROM:-0800
TZOFFSETTO:-0700
TZNAME:PDT
DTSTART:20220313T100000
END:DAYLIGHT
BEGIN:STANDARD
TZOFFSETFROM:-0700
TZOFFSETTO:-0800
TZNAME:PST
DTSTART:20221106T090000
END:STANDARD
BEGIN:DAYLIGHT
TZOFFSETFROM:-0800
TZOFFSETTO:-0700
TZNAME:PDT
DTSTART:20230312T100000
END:DAYLIGHT
BEGIN:STANDARD
TZOFFSETFROM:-0700
TZOFFSETTO:-0800
TZNAME:PST
DTSTART:20231105T090000
END:STANDARD
END:VTIMEZONE
BEGIN:VEVENT
DTSTART;TZID=America/Los_Angeles:20221112T180000
DTEND;TZID=America/Los_Angeles:20221112T210000
DTSTAMP:20260422T050337
CREATED:20220924T172421Z
LAST-MODIFIED:20220924T173042Z
UID:7502-1668276000-1668286800@msca09aa.org
SUMMARY:SERVATHON of 2022
DESCRIPTION:“It’s All About Service”\nSERVATHON of 2022\nGreat Gatsby Theme\nBack to the Roaring ’20’sthon\n\nSaturday Night\nNovember 12\, 2022\n6:00 to 9:00pm\n\n1025 N Vine Avenue\nOntario\, CA 91762
URL:https://msca09aa.org/event/servathon-of-2022/
LOCATION:Ontario Masonic Lodge\, 1025 N Vine Ave\, Ontario\, CA\, 91762\, United States
CATEGORIES:Special Event
ATTACH;FMTTYPE=image/png:https://msca09aa.org/wp-content/uploads/2022/09/Screen-Shot-2022-09-24-at-10.01.39-AM.png
ORGANIZER;CN="Districts 8 & 11":MAILTO:clvcv1@gmail.com
END:VEVENT
END:VCALENDAR