BEGIN:VCALENDAR
VERSION:2.0
PRODID:-//Mid-Southern California Area 09 - ECPv6.15.20//NONSGML v1.0//EN
CALSCALE:GREGORIAN
METHOD:PUBLISH
X-ORIGINAL-URL:https://msca09aa.org
X-WR-CALDESC:Events for Mid-Southern California Area 09
REFRESH-INTERVAL;VALUE=DURATION:PT1H
X-Robots-Tag:noindex
X-PUBLISHED-TTL:PT1H
BEGIN:VTIMEZONE
TZID:America/Los_Angeles
BEGIN:DAYLIGHT
TZOFFSETFROM:-0800
TZOFFSETTO:-0700
TZNAME:PDT
DTSTART:20200308T100000
END:DAYLIGHT
BEGIN:STANDARD
TZOFFSETFROM:-0700
TZOFFSETTO:-0800
TZNAME:PST
DTSTART:20201101T090000
END:STANDARD
BEGIN:DAYLIGHT
TZOFFSETFROM:-0800
TZOFFSETTO:-0700
TZNAME:PDT
DTSTART:20210314T100000
END:DAYLIGHT
BEGIN:STANDARD
TZOFFSETFROM:-0700
TZOFFSETTO:-0800
TZNAME:PST
DTSTART:20211107T090000
END:STANDARD
BEGIN:DAYLIGHT
TZOFFSETFROM:-0800
TZOFFSETTO:-0700
TZNAME:PDT
DTSTART:20220313T100000
END:DAYLIGHT
BEGIN:STANDARD
TZOFFSETFROM:-0700
TZOFFSETTO:-0800
TZNAME:PST
DTSTART:20221106T090000
END:STANDARD
END:VTIMEZONE
BEGIN:VEVENT
DTSTART;TZID=America/Los_Angeles:20211113T090000
DTEND;TZID=America/Los_Angeles:20211113T140000
DTSTAMP:20260423T073041
CREATED:20201222T062036Z
LAST-MODIFIED:20211031T184847Z
UID:1213-1636794000-1636812000@msca09aa.org
SUMMARY:Area 09 Servathon (Hybrid)
DESCRIPTION:Servathon\n\nSaturday\, November 13\, 2021\n9:00 a.m. – 2:00 p.m.\n\nWest Torrance High School\n20401 Victor St.\nTorrance 90503\nPark at the corner lot on Del Amo 8/vd. and Víctor St.\n\n\n\n\nRegister in advance for this meeting:\nhttps://us06web.zoom.us/meeting/register/tZIvde-trDktHNeLe8nVSjYjIow8zEs1TUmn\n\n\n\n\n\nFlyer:  Servathon-MSCA09-English-2021\nFlyer: Servathon-MSCA09-Spanish-2021
URL:https://msca09aa.org/event/area-09-servathon/
LOCATION:West Torrance High School\, 20401 Victor Street\, Torrance\, CA\, 90503\, United States
CATEGORIES:Special Event
END:VEVENT
END:VCALENDAR