BEGIN:VCALENDAR
VERSION:2.0
PRODID:-//Mid-Southern California Area 09 - ECPv6.15.20//NONSGML v1.0//EN
CALSCALE:GREGORIAN
METHOD:PUBLISH
X-ORIGINAL-URL:https://msca09aa.org
X-WR-CALDESC:Events for Mid-Southern California Area 09
REFRESH-INTERVAL;VALUE=DURATION:PT1H
X-Robots-Tag:noindex
X-PUBLISHED-TTL:PT1H
BEGIN:VTIMEZONE
TZID:America/Los_Angeles
BEGIN:DAYLIGHT
TZOFFSETFROM:-0800
TZOFFSETTO:-0700
TZNAME:PDT
DTSTART:20220313T100000
END:DAYLIGHT
BEGIN:STANDARD
TZOFFSETFROM:-0700
TZOFFSETTO:-0800
TZNAME:PST
DTSTART:20221106T090000
END:STANDARD
BEGIN:DAYLIGHT
TZOFFSETFROM:-0800
TZOFFSETTO:-0700
TZNAME:PDT
DTSTART:20230312T100000
END:DAYLIGHT
BEGIN:STANDARD
TZOFFSETFROM:-0700
TZOFFSETTO:-0800
TZNAME:PST
DTSTART:20231105T090000
END:STANDARD
BEGIN:DAYLIGHT
TZOFFSETFROM:-0800
TZOFFSETTO:-0700
TZNAME:PDT
DTSTART:20240310T100000
END:DAYLIGHT
BEGIN:STANDARD
TZOFFSETFROM:-0700
TZOFFSETTO:-0800
TZNAME:PST
DTSTART:20241103T090000
END:STANDARD
END:VTIMEZONE
BEGIN:VEVENT
DTSTART;TZID=America/Los_Angeles:20230325T090000
DTEND;TZID=America/Los_Angeles:20230325T150000
DTSTAMP:20260423T001034
CREATED:20230218T185043Z
LAST-MODIFIED:20240210T024215Z
UID:8370-1679734800-1679756400@msca09aa.org
SUMMARY:Pre-Conference Bootcamp
DESCRIPTION:Hosted by Districts 6\,12\, and 18.\nTopic: Bootcamp Pre ConferenceTime: Mar 25\, 2023 09:00 AM Pacific Time (US and Canada)\n\nJoin In-Person\nWalton Intermediate School\n12181 Buaro Street\nGarden Grove\, CA\n\nJoin Zoom Meetinghttps://us06web.zoom.us/j/83389847473?pwd=WUVoS0MyeGxsWFZ2U09CcVI1cW5FZz09Meeting ID: 833 8984 7473Passcode: serviceOne tap mobile+16699006833\,\,83389847473#\,\,\,\,*4806904# US (San Jose)+16694449171\,\,83389847473#\,\,\,\,*4806904# US
URL:https://msca09aa.org/event/pre-conference-bootcamp/
LOCATION:Walton Intermediate School\, 12181 Buaro St.\, Garden Grove\, CA\, 92840\, United States
CATEGORIES:Special Event
ATTACH;FMTTYPE=image/jpeg:https://msca09aa.org/wp-content/uploads/2023/02/bootcamp-logo.jpg
END:VEVENT
END:VCALENDAR