BEGIN:VCALENDAR
VERSION:2.0
PRODID:-//Mid-Southern California Area 09 - ECPv6.15.20//NONSGML v1.0//EN
CALSCALE:GREGORIAN
METHOD:PUBLISH
X-ORIGINAL-URL:https://msca09aa.org
X-WR-CALDESC:Events for Mid-Southern California Area 09
REFRESH-INTERVAL;VALUE=DURATION:PT1H
X-Robots-Tag:noindex
X-PUBLISHED-TTL:PT1H
BEGIN:VTIMEZONE
TZID:America/Los_Angeles
BEGIN:DAYLIGHT
TZOFFSETFROM:-0800
TZOFFSETTO:-0700
TZNAME:PDT
DTSTART:20210314T100000
END:DAYLIGHT
BEGIN:STANDARD
TZOFFSETFROM:-0700
TZOFFSETTO:-0800
TZNAME:PST
DTSTART:20211107T090000
END:STANDARD
BEGIN:DAYLIGHT
TZOFFSETFROM:-0800
TZOFFSETTO:-0700
TZNAME:PDT
DTSTART:20220313T100000
END:DAYLIGHT
BEGIN:STANDARD
TZOFFSETFROM:-0700
TZOFFSETTO:-0800
TZNAME:PST
DTSTART:20221106T090000
END:STANDARD
BEGIN:DAYLIGHT
TZOFFSETFROM:-0800
TZOFFSETTO:-0700
TZNAME:PDT
DTSTART:20230312T100000
END:DAYLIGHT
BEGIN:STANDARD
TZOFFSETFROM:-0700
TZOFFSETTO:-0800
TZNAME:PST
DTSTART:20231105T090000
END:STANDARD
END:VTIMEZONE
BEGIN:VEVENT
DTSTART;VALUE=DATE:20220304
DTEND;VALUE=DATE:20220307
DTSTAMP:20260424T070548
CREATED:20210821T221433Z
LAST-MODIFIED:20220302T192540Z
UID:4978-1646352000-1646611199@msca09aa.org
SUMMARY:PRAASA 2022
DESCRIPTION:PRAASA 2022 is going virtual! Please Join Us March 4-6\, 2022\nRegister Online Now!\n**Important Update**\n \nIn the interest of safety\, unity\, and the common welfare of all the participating Areas in the region\, we have made the difficult but important decision to facilitate the entire PRAASA 2022 as a virtual-only event.  Though we wish we could see everyone in person\, we plan to do our best to carry the message through remote meeting technology to bring the magic of PRAASA to all who wish to attend next March 4-6\, 2022. \nThank you for your patience as we have worked through this difficult process.  We are excited to see you all in the remote meetings next March! \n\nWHAT IS PRAASA? It is 3 day program which includes panel presentations on the General Service Conference theme and agenda items\, roundtable discussions for members to network with others who share their service position\, open mic sharing\, questions and Al-Anon participation. \nWHAT IS PRAASA’S PURPOSE? The purpose of PRAASA is to develop greater unity among the members\, groups\, and Areas of the Pacific Region; to encourage the exchange of ideas and experiences; and to provide an opportunity for members to discuss pertinent aspects of AA. The Assembly and the PRAASA committee should always foster the Recovery\, Unity and Service legacies of AA. \nAN EXPERIENCE YOU MUST NOT MISS! Come join over 1\,500 excited AA members from all over the Pacific Region and be part of this unforgettable event. ASL and Spanish translation available. \n\nPRINTED SCHEDULES: PRAASAProgram-English-2022 / PRAASAProgram-Spanish-2022 \n 
URL:https://msca09aa.org/event/praasa-2022-save-the-date/
LOCATION:ZOOM\, United States
CATEGORIES:Special Event
ATTACH;FMTTYPE=image/png:https://msca09aa.org/wp-content/uploads/2021/08/PRAASA2022_seal_v2_tan_15perc.png
END:VEVENT
END:VCALENDAR