BEGIN:VCALENDAR
VERSION:2.0
PRODID:-//Mid-Southern California Area 09 - ECPv6.15.20//NONSGML v1.0//EN
CALSCALE:GREGORIAN
METHOD:PUBLISH
X-WR-CALNAME:Mid-Southern California Area 09
X-ORIGINAL-URL:https://msca09aa.org
X-WR-CALDESC:Events for Mid-Southern California Area 09
REFRESH-INTERVAL;VALUE=DURATION:PT1H
X-Robots-Tag:noindex
X-PUBLISHED-TTL:PT1H
BEGIN:VTIMEZONE
TZID:America/Los_Angeles
BEGIN:DAYLIGHT
TZOFFSETFROM:-0800
TZOFFSETTO:-0700
TZNAME:PDT
DTSTART:20230312T100000
END:DAYLIGHT
BEGIN:STANDARD
TZOFFSETFROM:-0700
TZOFFSETTO:-0800
TZNAME:PST
DTSTART:20231105T090000
END:STANDARD
BEGIN:DAYLIGHT
TZOFFSETFROM:-0800
TZOFFSETTO:-0700
TZNAME:PDT
DTSTART:20240310T100000
END:DAYLIGHT
BEGIN:STANDARD
TZOFFSETFROM:-0700
TZOFFSETTO:-0800
TZNAME:PST
DTSTART:20241103T090000
END:STANDARD
BEGIN:DAYLIGHT
TZOFFSETFROM:-0800
TZOFFSETTO:-0700
TZNAME:PDT
DTSTART:20250309T100000
END:DAYLIGHT
BEGIN:STANDARD
TZOFFSETFROM:-0700
TZOFFSETTO:-0800
TZNAME:PST
DTSTART:20251102T090000
END:STANDARD
END:VTIMEZONE
BEGIN:VEVENT
DTSTART;TZID=America/Los_Angeles:20240810T130000
DTEND;TZID=America/Los_Angeles:20240810T160000
DTSTAMP:20260421T100041
CREATED:20240708T225400Z
LAST-MODIFIED:20240709T203022Z
UID:52064-1723294800-1723305600@msca09aa.org
SUMMARY:Secretary & Treasurer Workshop - Hybrid Event
DESCRIPTION:Hosted by districts 01 & 03\n  \n[su_row][su_column size=”1/4″ center=”no” class=””][/su_column] [su_column size=”1/4″ center=”no” class=””]   [/su_column][/su_row]
URL:https://msca09aa.org/event/secretary-treasurer-workshop-hybrid-event/
LOCATION:Southbay Alano Club\, 702 11th Pl\, Hermosa Beach\, CA\, 90254\, United States
CATEGORIES:Workshop
ATTACH;FMTTYPE=image/png:https://msca09aa.org/wp-content/uploads/2024/07/SecTreasWorkshopDistrict1.png
END:VEVENT
END:VCALENDAR