BEGIN:VCALENDAR
VERSION:2.0
PRODID:-//Mid-Southern California Area 09 - ECPv6.15.20//NONSGML v1.0//EN
CALSCALE:GREGORIAN
METHOD:PUBLISH
X-ORIGINAL-URL:https://msca09aa.org
X-WR-CALDESC:Events for Mid-Southern California Area 09
REFRESH-INTERVAL;VALUE=DURATION:PT1H
X-Robots-Tag:noindex
X-PUBLISHED-TTL:PT1H
BEGIN:VTIMEZONE
TZID:America/Los_Angeles
BEGIN:DAYLIGHT
TZOFFSETFROM:-0800
TZOFFSETTO:-0700
TZNAME:PDT
DTSTART:20220313T100000
END:DAYLIGHT
BEGIN:STANDARD
TZOFFSETFROM:-0700
TZOFFSETTO:-0800
TZNAME:PST
DTSTART:20221106T090000
END:STANDARD
BEGIN:DAYLIGHT
TZOFFSETFROM:-0800
TZOFFSETTO:-0700
TZNAME:PDT
DTSTART:20230312T100000
END:DAYLIGHT
BEGIN:STANDARD
TZOFFSETFROM:-0700
TZOFFSETTO:-0800
TZNAME:PST
DTSTART:20231105T090000
END:STANDARD
BEGIN:DAYLIGHT
TZOFFSETFROM:-0800
TZOFFSETTO:-0700
TZNAME:PDT
DTSTART:20240310T100000
END:DAYLIGHT
BEGIN:STANDARD
TZOFFSETFROM:-0700
TZOFFSETTO:-0800
TZNAME:PST
DTSTART:20241103T090000
END:STANDARD
END:VTIMEZONE
BEGIN:VEVENT
DTSTART;TZID=America/Los_Angeles:20231205T170000
DTEND;TZID=America/Los_Angeles:20231205T180000
DTSTAMP:20260421T095502
CREATED:20230527T180520Z
LAST-MODIFIED:20230527T180520Z
UID:9022-1701795600-1701799200@msca09aa.org
SUMMARY:DCMC School
DESCRIPTION:DCMC School\n\nThe DCM School meets the 1st Tuesday of the month at 5-6pm PST\nMeeting ID: 819 9776 8403Passcode: DCM
URL:https://msca09aa.org/event/dcmc-school-7/
LOCATION:ZOOM\, United States
CATEGORIES:Committee Meeting
ATTACH;FMTTYPE=image/jpeg:https://msca09aa.org/wp-content/uploads/2020/12/DCM-School.jpg
END:VEVENT
END:VCALENDAR