BEGIN:VCALENDAR
VERSION:2.0
PRODID:-//Mid-Southern California Area 09 - ECPv6.15.20//NONSGML v1.0//EN
CALSCALE:GREGORIAN
METHOD:PUBLISH
X-WR-CALNAME:Mid-Southern California Area 09
X-ORIGINAL-URL:https://msca09aa.org
X-WR-CALDESC:Events for Mid-Southern California Area 09
REFRESH-INTERVAL;VALUE=DURATION:PT1H
X-Robots-Tag:noindex
X-PUBLISHED-TTL:PT1H
BEGIN:VTIMEZONE
TZID:America/Los_Angeles
BEGIN:DAYLIGHT
TZOFFSETFROM:-0800
TZOFFSETTO:-0700
TZNAME:PDT
DTSTART:20220313T100000
END:DAYLIGHT
BEGIN:STANDARD
TZOFFSETFROM:-0700
TZOFFSETTO:-0800
TZNAME:PST
DTSTART:20221106T090000
END:STANDARD
BEGIN:DAYLIGHT
TZOFFSETFROM:-0800
TZOFFSETTO:-0700
TZNAME:PDT
DTSTART:20230312T100000
END:DAYLIGHT
BEGIN:STANDARD
TZOFFSETFROM:-0700
TZOFFSETTO:-0800
TZNAME:PST
DTSTART:20231105T090000
END:STANDARD
BEGIN:DAYLIGHT
TZOFFSETFROM:-0800
TZOFFSETTO:-0700
TZNAME:PDT
DTSTART:20240310T100000
END:DAYLIGHT
BEGIN:STANDARD
TZOFFSETFROM:-0700
TZOFFSETTO:-0800
TZNAME:PST
DTSTART:20241103T090000
END:STANDARD
END:VTIMEZONE
BEGIN:VEVENT
DTSTART;TZID=America/Los_Angeles:20230528T150000
DTEND;TZID=America/Los_Angeles:20230528T235900
DTSTAMP:20260421T134815
CREATED:20230430T014123Z
LAST-MODIFIED:20230520T164218Z
UID:8821-1685286000-1685318340@msca09aa.org
SUMMARY:AOCYPAA Presents "STEPS COME ALIVE"
DESCRIPTION:
URL:https://msca09aa.org/event/aocypaa-presents-steps-come-alive/
LOCATION:Laguna Beach Canyon Club\, 20456 Laguna Canyon Road\, Laguna Beach\, CA\, 92651\, United States
CATEGORIES:Special Event
ATTACH;FMTTYPE=image/jpeg:https://msca09aa.org/wp-content/uploads/2023/04/WhatsApp-Image-2023-04-29-at-18.32.55-11.jpg
END:VEVENT
END:VCALENDAR