BEGIN:VCALENDAR
VERSION:2.0
PRODID:-//Mid-Southern California Area 09 - ECPv6.15.20//NONSGML v1.0//EN
CALSCALE:GREGORIAN
METHOD:PUBLISH
X-WR-CALNAME:Mid-Southern California Area 09
X-ORIGINAL-URL:https://msca09aa.org
X-WR-CALDESC:Events for Mid-Southern California Area 09
REFRESH-INTERVAL;VALUE=DURATION:PT1H
X-Robots-Tag:noindex
X-PUBLISHED-TTL:PT1H
BEGIN:VTIMEZONE
TZID:America/Los_Angeles
BEGIN:DAYLIGHT
TZOFFSETFROM:-0800
TZOFFSETTO:-0700
TZNAME:PDT
DTSTART:20220313T100000
END:DAYLIGHT
BEGIN:STANDARD
TZOFFSETFROM:-0700
TZOFFSETTO:-0800
TZNAME:PST
DTSTART:20221106T090000
END:STANDARD
BEGIN:DAYLIGHT
TZOFFSETFROM:-0800
TZOFFSETTO:-0700
TZNAME:PDT
DTSTART:20230312T100000
END:DAYLIGHT
BEGIN:STANDARD
TZOFFSETFROM:-0700
TZOFFSETTO:-0800
TZNAME:PST
DTSTART:20231105T090000
END:STANDARD
BEGIN:DAYLIGHT
TZOFFSETFROM:-0800
TZOFFSETTO:-0700
TZNAME:PDT
DTSTART:20240310T100000
END:DAYLIGHT
BEGIN:STANDARD
TZOFFSETFROM:-0700
TZOFFSETTO:-0800
TZNAME:PST
DTSTART:20241103T090000
END:STANDARD
END:VTIMEZONE
BEGIN:VEVENT
DTSTART;TZID=America/Los_Angeles:20230521T090000
DTEND;TZID=America/Los_Angeles:20230521T150000
DTSTAMP:20260421T072242
CREATED:20221226T192054Z
LAST-MODIFIED:20230411T033008Z
UID:7881-1684659600-1684681200@msca09aa.org
SUMMARY:MSCA 09 Area Assembly - Delegate Shareback
DESCRIPTION:Hosted by District 14\n\n\nSunday – May 21\, 2023 | 9am to 3pm\nHemet Seven-Day Adventist Church\n27025 Girard Street\nHemet\, CA 92544\n\nRegister in advance for this meeting:\nhttps://us06web.zoom.us/meeting/register/tZcud-ytqTkuG9FKjrJvXo1VTUAfh7wcNecw\nAfter registering\, you will receive a confirmation email containing information about joining the meeting.\n\nEnglish Flyer: Shareback flyer- Hemet (1)\nSpanish Flyer:  Coming Soon
URL:https://msca09aa.org/event/msca-09-area-assembly-delegate-shareback/
LOCATION:Hemet Seven-Day Adventist Church\, 27025 Girard Street\, Hemet\, CA\, 92544\, United States
CATEGORIES:Assembly
ATTACH;FMTTYPE=image/png:https://msca09aa.org/wp-content/uploads/2022/12/Screenshot-2023-04-10-at-8.25.23-PM.png
END:VEVENT
END:VCALENDAR