BEGIN:VCALENDAR
VERSION:2.0
PRODID:-//Mid-Southern California Area 09 - ECPv6.15.20//NONSGML v1.0//EN
CALSCALE:GREGORIAN
METHOD:PUBLISH
X-ORIGINAL-URL:https://msca09aa.org
X-WR-CALDESC:Events for Mid-Southern California Area 09
REFRESH-INTERVAL;VALUE=DURATION:PT1H
X-Robots-Tag:noindex
X-PUBLISHED-TTL:PT1H
BEGIN:VTIMEZONE
TZID:America/Los_Angeles
BEGIN:DAYLIGHT
TZOFFSETFROM:-0800
TZOFFSETTO:-0700
TZNAME:PDT
DTSTART:20210314T100000
END:DAYLIGHT
BEGIN:STANDARD
TZOFFSETFROM:-0700
TZOFFSETTO:-0800
TZNAME:PST
DTSTART:20211107T090000
END:STANDARD
BEGIN:DAYLIGHT
TZOFFSETFROM:-0800
TZOFFSETTO:-0700
TZNAME:PDT
DTSTART:20220313T100000
END:DAYLIGHT
BEGIN:STANDARD
TZOFFSETFROM:-0700
TZOFFSETTO:-0800
TZNAME:PST
DTSTART:20221106T090000
END:STANDARD
BEGIN:DAYLIGHT
TZOFFSETFROM:-0800
TZOFFSETTO:-0700
TZNAME:PDT
DTSTART:20230312T100000
END:DAYLIGHT
BEGIN:STANDARD
TZOFFSETFROM:-0700
TZOFFSETTO:-0800
TZNAME:PST
DTSTART:20231105T090000
END:STANDARD
END:VTIMEZONE
BEGIN:VEVENT
DTSTART;TZID=America/Los_Angeles:20220109T090000
DTEND;TZID=America/Los_Angeles:20220109T150000
DTSTAMP:20260422T084402
CREATED:20210926T203909Z
LAST-MODIFIED:20211103T182636Z
UID:5380-1641718800-1641740400@msca09aa.org
SUMMARY:MSCA 09 Area Assembly (Hybrid)
DESCRIPTION:This is the first Assembly of Panel 72 and will be held as a hybrid session.\n\n\nJanuary 10\, 2022 Assembly  @ 8:30 a.m. – 3 p.m.\nHosted by District 12\n\n\n\n\n\n\nUFCW Local 324\n8530 Stanton Avenue Buena Park\, CA 90620\n\nhybrid event\n\n\n\n\n\nRegister in advance for this meeting:\nhttps://us06web.zoom.us/meeting/register/tZMlcO-hqT0tG9Pxf3rzncBVCVa-wLte-mgA
URL:https://msca09aa.org/event/msca-09-area-assembly/
LOCATION:UFCW Local #324 Union Hall\, 8550 Stanton Avenue\, Buena Park\, CA\, 90622\, United States
CATEGORIES:Assembly
END:VEVENT
END:VCALENDAR