BEGIN:VCALENDAR
VERSION:2.0
PRODID:-//Mid-Southern California Area 09 - ECPv6.15.20//NONSGML v1.0//EN
CALSCALE:GREGORIAN
METHOD:PUBLISH
X-ORIGINAL-URL:https://msca09aa.org
X-WR-CALDESC:Events for Mid-Southern California Area 09
REFRESH-INTERVAL;VALUE=DURATION:PT1H
X-Robots-Tag:noindex
X-PUBLISHED-TTL:PT1H
BEGIN:VTIMEZONE
TZID:America/Los_Angeles
BEGIN:DAYLIGHT
TZOFFSETFROM:-0800
TZOFFSETTO:-0700
TZNAME:PDT
DTSTART:20230312T100000
END:DAYLIGHT
BEGIN:STANDARD
TZOFFSETFROM:-0700
TZOFFSETTO:-0800
TZNAME:PST
DTSTART:20231105T090000
END:STANDARD
BEGIN:DAYLIGHT
TZOFFSETFROM:-0800
TZOFFSETTO:-0700
TZNAME:PDT
DTSTART:20240310T100000
END:DAYLIGHT
BEGIN:STANDARD
TZOFFSETFROM:-0700
TZOFFSETTO:-0800
TZNAME:PST
DTSTART:20241103T090000
END:STANDARD
BEGIN:DAYLIGHT
TZOFFSETFROM:-0800
TZOFFSETTO:-0700
TZNAME:PDT
DTSTART:20250309T100000
END:DAYLIGHT
BEGIN:STANDARD
TZOFFSETFROM:-0700
TZOFFSETTO:-0800
TZNAME:PST
DTSTART:20251102T090000
END:STANDARD
END:VTIMEZONE
BEGIN:VEVENT
DTSTART;TZID=America/Los_Angeles:20240114T083000
DTEND;TZID=America/Los_Angeles:20240114T150000
DTSTAMP:20260420T162202
CREATED:20231204T060840Z
LAST-MODIFIED:20240113T234729Z
UID:10478-1705221000-1705244400@msca09aa.org
SUMMARY:MSCA09 Area Assembly
DESCRIPTION:Hosted by District 12\nNiguel Hills Middle School\n29070 Shark Bay\, Laguna Niguel\, CA\n Jan 14\, 2024\, 08:30 AM to 3:00 PM – Pacific Time (US and Canada)\n\n\n\n\nYou are invited to a Zoom meeting.\nRegister in advance for this meeting:  Meeting ID: 824 3753 9221 \nhttps://us06web.zoom.us/meeting/register/tZYpdO6trTIoGNWQG6A9MuiZb5TPrelGhY-n \n\nAfter registering\, you will receive a confirmation email containing information about joining the meeting.
URL:https://msca09aa.org/event/msca09-area-assembly-2/
LOCATION:Niguel Hills Middle School\, 29070 Shark Bay\, Laguna Niguel\, CA
CATEGORIES:Assembly
END:VEVENT
END:VCALENDAR