BEGIN:VCALENDAR
VERSION:2.0
PRODID:-//Mid-Southern California Area 09 - ECPv6.15.20//NONSGML v1.0//EN
CALSCALE:GREGORIAN
METHOD:PUBLISH
X-ORIGINAL-URL:https://msca09aa.org
X-WR-CALDESC:Events for Mid-Southern California Area 09
REFRESH-INTERVAL;VALUE=DURATION:PT1H
X-Robots-Tag:noindex
X-PUBLISHED-TTL:PT1H
BEGIN:VTIMEZONE
TZID:America/Los_Angeles
BEGIN:DAYLIGHT
TZOFFSETFROM:-0800
TZOFFSETTO:-0700
TZNAME:PDT
DTSTART:20220313T100000
END:DAYLIGHT
BEGIN:STANDARD
TZOFFSETFROM:-0700
TZOFFSETTO:-0800
TZNAME:PST
DTSTART:20221106T090000
END:STANDARD
BEGIN:DAYLIGHT
TZOFFSETFROM:-0800
TZOFFSETTO:-0700
TZNAME:PDT
DTSTART:20230312T100000
END:DAYLIGHT
BEGIN:STANDARD
TZOFFSETFROM:-0700
TZOFFSETTO:-0800
TZNAME:PST
DTSTART:20231105T090000
END:STANDARD
BEGIN:DAYLIGHT
TZOFFSETFROM:-0800
TZOFFSETTO:-0700
TZNAME:PDT
DTSTART:20240310T100000
END:DAYLIGHT
BEGIN:STANDARD
TZOFFSETFROM:-0700
TZOFFSETTO:-0800
TZNAME:PST
DTSTART:20241103T090000
END:STANDARD
END:VTIMEZONE
BEGIN:VEVENT
DTSTART;TZID=America/Los_Angeles:20230910T090000
DTEND;TZID=America/Los_Angeles:20230910T150000
DTSTAMP:20260420T220310
CREATED:20221226T192202Z
LAST-MODIFIED:20230831T171841Z
UID:7883-1694336400-1694358000@msca09aa.org
SUMMARY:MSCA 09 Area Assembly
DESCRIPTION:Hosted by District 23\n\nSeptember ASA – Sept 10th\n\n\nJurupa Area Recreation and Park District\n4810 Jurupa Road\nJurupa Valley\, CA 92509\nTime:  9am – 3pm\n\n\n\nJoin Zoom Meeting\nhttps://us06web.zoom.us/j/88545608278?pwd=T2dkQnhvdFZDTm04OUJuTC9hdmNYQT09\nMeeting ID: 885 4560 8278\nPasscode: ASA\n\nMSCA09 ASA Flyer_2023-09-10_English-Final-Rev\nMSCA09 ASA Flyer_2023-09-10_Spanish-Final-Rev
URL:https://msca09aa.org/event/msca-09-area-assembly-4/
LOCATION:Jurupa Area Recreation and Park District\, 4810 Jurupa Road\, Jurupa Valley\, CA\, 92509\, United States
CATEGORIES:Assembly
ATTACH;FMTTYPE=image/png:https://msca09aa.org/wp-content/uploads/2022/12/Screenshot-2023-08-31-at-10.17.55-AM.png
END:VEVENT
END:VCALENDAR