BEGIN:VCALENDAR
VERSION:2.0
PRODID:-//Mid-Southern California Area 09 - ECPv6.15.20//NONSGML v1.0//EN
CALSCALE:GREGORIAN
METHOD:PUBLISH
X-ORIGINAL-URL:https://msca09aa.org
X-WR-CALDESC:Events for Mid-Southern California Area 09
REFRESH-INTERVAL;VALUE=DURATION:PT1H
X-Robots-Tag:noindex
X-PUBLISHED-TTL:PT1H
BEGIN:VTIMEZONE
TZID:America/Los_Angeles
BEGIN:DAYLIGHT
TZOFFSETFROM:-0800
TZOFFSETTO:-0700
TZNAME:PDT
DTSTART:20220313T100000
END:DAYLIGHT
BEGIN:STANDARD
TZOFFSETFROM:-0700
TZOFFSETTO:-0800
TZNAME:PST
DTSTART:20221106T090000
END:STANDARD
BEGIN:DAYLIGHT
TZOFFSETFROM:-0800
TZOFFSETTO:-0700
TZNAME:PDT
DTSTART:20230312T100000
END:DAYLIGHT
BEGIN:STANDARD
TZOFFSETFROM:-0700
TZOFFSETTO:-0800
TZNAME:PST
DTSTART:20231105T090000
END:STANDARD
BEGIN:DAYLIGHT
TZOFFSETFROM:-0800
TZOFFSETTO:-0700
TZNAME:PDT
DTSTART:20240310T100000
END:DAYLIGHT
BEGIN:STANDARD
TZOFFSETFROM:-0700
TZOFFSETTO:-0800
TZNAME:PST
DTSTART:20241103T090000
END:STANDARD
END:VTIMEZONE
BEGIN:VEVENT
DTSTART;TZID=America/Los_Angeles:20230826T110000
DTEND;TZID=America/Los_Angeles:20230826T160000
DTSTAMP:20260420T224548
CREATED:20230607T160957Z
LAST-MODIFIED:20230813T214822Z
UID:9140-1693047600-1693065600@msca09aa.org
SUMMARY:4 Area DCM Sharing Session
DESCRIPTION:“Our Great Responsibility”\nThe Future of AA\nHosted by Area 9\, 8\, 93 & 5\n\nAugust 26\, 2023\n11am to 5pm\nThe Norma Hertzog Community Center\n1845 Park Avenue\nCosta Mesa\, CA 92627\nZoom:  873 6607 8505\nPasscode:  Area09p72\nFood will be served.\n\nSpeakers:\nTrish R.\, Trustee at Large – Canada\nOlga M.\, Area 8\nCarrie B.\, Area 58 – Dis05rict 5 DCM\n\nTo be of service and for more information\, contact:\nJulie F. (951) 334-7619\nRamon R. (424) 399-2684\nHeather B. (951) 306-2236\n\nFLYER – 4 Area DCM Sharing Session.pptx (2)\nFLYER – 4 Area DCM Sharing Session.pptx (2)_Spanish\n  \n 
URL:https://msca09aa.org/event/4-area-dcm-sharing-session-2/
LOCATION:Norma Hertzog Community Center\, 1845 Park Avenue\, Costa Mesa\, CA\, 92627\, United States
CATEGORIES:Special Event
ATTACH;FMTTYPE=image/png:https://msca09aa.org/wp-content/uploads/2023/06/Screenshot-2023-08-13-at-2.39.20-PM.png
END:VEVENT
END:VCALENDAR