BEGIN:VCALENDAR
VERSION:2.0
PRODID:-//Mid-Southern California Area 09 - ECPv6.15.20//NONSGML v1.0//EN
CALSCALE:GREGORIAN
METHOD:PUBLISH
X-ORIGINAL-URL:https://msca09aa.org
X-WR-CALDESC:Events for Mid-Southern California Area 09
REFRESH-INTERVAL;VALUE=DURATION:PT1H
X-Robots-Tag:noindex
X-PUBLISHED-TTL:PT1H
BEGIN:VTIMEZONE
TZID:America/Los_Angeles
BEGIN:DAYLIGHT
TZOFFSETFROM:-0800
TZOFFSETTO:-0700
TZNAME:PDT
DTSTART:20220313T100000
END:DAYLIGHT
BEGIN:STANDARD
TZOFFSETFROM:-0700
TZOFFSETTO:-0800
TZNAME:PST
DTSTART:20221106T090000
END:STANDARD
BEGIN:DAYLIGHT
TZOFFSETFROM:-0800
TZOFFSETTO:-0700
TZNAME:PDT
DTSTART:20230312T100000
END:DAYLIGHT
BEGIN:STANDARD
TZOFFSETFROM:-0700
TZOFFSETTO:-0800
TZNAME:PST
DTSTART:20231105T090000
END:STANDARD
BEGIN:DAYLIGHT
TZOFFSETFROM:-0800
TZOFFSETTO:-0700
TZNAME:PDT
DTSTART:20240310T100000
END:DAYLIGHT
BEGIN:STANDARD
TZOFFSETFROM:-0700
TZOFFSETTO:-0800
TZNAME:PST
DTSTART:20241103T090000
END:STANDARD
END:VTIMEZONE
BEGIN:VEVENT
DTSTART;TZID=America/Los_Angeles:20230713T193000
DTEND;TZID=America/Los_Angeles:20230713T210000
DTSTAMP:20260421T030506
CREATED:20230611T174040Z
LAST-MODIFIED:20230611T174123Z
UID:9194-1689276600-1689282000@msca09aa.org
SUMMARY:First Four Editions of the Big Book
DESCRIPTION:The First Four Editions of the Big Book\nwith Michelle Mirza\nGSO Archivist\nwith Spanish Translation\n\nThursday – July 13\, 2023\n7:30pm to 9:00pm\nRoom opens at 7:00pm\nZoom ID: 998 938 7641\nPasscode:  714921\n\nFlyer: BB Workshop 7-13-23
URL:https://msca09aa.org/event/first-four-editions-of-the-big-book/
LOCATION:ZOOM\, United States
CATEGORIES:Workshop
ATTACH;FMTTYPE=image/png:https://msca09aa.org/wp-content/uploads/2023/06/Screenshot-2023-06-11-at-10.32.45-AM.png
END:VEVENT
END:VCALENDAR