BEGIN:VCALENDAR
VERSION:2.0
PRODID:-//Mid-Southern California Area 09 - ECPv6.15.20//NONSGML v1.0//EN
CALSCALE:GREGORIAN
METHOD:PUBLISH
X-WR-CALNAME:Mid-Southern California Area 09
X-ORIGINAL-URL:https://msca09aa.org
X-WR-CALDESC:Events for Mid-Southern California Area 09
REFRESH-INTERVAL;VALUE=DURATION:PT1H
X-Robots-Tag:noindex
X-PUBLISHED-TTL:PT1H
BEGIN:VTIMEZONE
TZID:America/Los_Angeles
BEGIN:DAYLIGHT
TZOFFSETFROM:-0800
TZOFFSETTO:-0700
TZNAME:PDT
DTSTART:20240310T100000
END:DAYLIGHT
BEGIN:STANDARD
TZOFFSETFROM:-0700
TZOFFSETTO:-0800
TZNAME:PST
DTSTART:20241103T090000
END:STANDARD
BEGIN:DAYLIGHT
TZOFFSETFROM:-0800
TZOFFSETTO:-0700
TZNAME:PDT
DTSTART:20250309T100000
END:DAYLIGHT
BEGIN:STANDARD
TZOFFSETFROM:-0700
TZOFFSETTO:-0800
TZNAME:PST
DTSTART:20251102T090000
END:STANDARD
BEGIN:DAYLIGHT
TZOFFSETFROM:-0800
TZOFFSETTO:-0700
TZNAME:PDT
DTSTART:20260308T100000
END:DAYLIGHT
BEGIN:STANDARD
TZOFFSETFROM:-0700
TZOFFSETTO:-0800
TZNAME:PST
DTSTART:20261101T090000
END:STANDARD
END:VTIMEZONE
BEGIN:VEVENT
DTSTART;TZID=America/Los_Angeles:20250810T090000
DTEND;TZID=America/Los_Angeles:20250810T150000
DTSTAMP:20260419T091945
CREATED:20250728T163659Z
LAST-MODIFIED:20250728T170551Z
UID:54533-1754816400-1754838000@msca09aa.org
SUMMARY:August 10th Area Service Committee (Online Only) 9am-3pm
DESCRIPTION:August 10th Area Service Committee (Online Only) 9am-3pm
URL:https://msca09aa.org/event/august-10th-area-service-committee-online-only-9am-3pm/
ATTACH;FMTTYPE=image/png:https://msca09aa.org/wp-content/uploads/2025/07/2025-07-28-10_54_27-Mail-Devin-Bowermaster-Outlook.png
END:VEVENT
BEGIN:VEVENT
DTSTART;TZID=America/Los_Angeles:20250821T170000
DTEND;TZID=America/Los_Angeles:20250821T193000
DTSTAMP:20260419T091945
CREATED:20250107T003431Z
LAST-MODIFIED:20250616T154137Z
UID:53355-1755795600-1755804600@msca09aa.org
SUMMARY:2025 MSCA 09 Monthly Service Study and Committee Sharing - 8/21
DESCRIPTION:WHAT: 2024-2026 (Revised and Updated) Service Manual Study \nPRESENTERS: Jimmy W.\, Panel 74 Delegate of Area 64 (Tennessee) and Panel 75 Chair of Report and Charter Committee; Kade W.\, Panel 74 Delegate of Area 18 (Idaho) Delegate and Panel 75 Archives Chair; and Special Guests!\nWHEN: 3rd Third Thursday of each month (July to December 2025).\nWHERE: “Virtual Only” with Spanish Translation!!*\n\n\nMeeting ID: 873 6607 8505 (https://us06web.zoom.us/j/87366078505_) Passcode: Area09p74\n5:00 pm — 6:30 pm-PST SERVICE MANUAL STUDY\n6:30 pm—7:30 pm-PST STAY FOR THE MSCA 09 COMMITTEE SHARING SESSION!\n\n*ALL ARE WELCOME TO ATTEND!* \nHosted by Alex W. and Manya W.  \nContact information:  \n\nAlex W.: msca09.delegatep74@gmail.com; \nManya W.: msca09.altdelegate@gmail.com\n\n  \n\n*This meeting will be recorded and posted to the Area 09 website. Please view all recordings here: Area 09 Recordings – Mid-Southern California Area 09; Password Protected: service
URL:https://msca09aa.org/event/2025-msca-09-monthly-service-study-and-committee-sharing-8-21/
LOCATION:ZOOM Service Study\, ZOOM Virtual only\, Meeting ID: 873 6607 8505 Passcode: Area09p74
CATEGORIES:Service Study 3rd Thursday
ATTACH;FMTTYPE=image/png:https://msca09aa.org/wp-content/uploads/2025/06/2025-06-16-09_34_58-MSCA09-2025-Monthly-Service-Meeting-Flyer_2025-06_EN-1.pdf-Adobe-Acrobat-64.png
ORGANIZER;CN="Alt Delegate - Manya W.":MAILTO:delegatealt@msca09aa.org
END:VEVENT
BEGIN:VEVENT
DTSTART;TZID=America/Los_Angeles:20250824T100000
DTEND;TZID=America/Los_Angeles:20250824T140000
DTSTAMP:20260419T091945
CREATED:20250616T161320Z
LAST-MODIFIED:20250616T212126Z
UID:54429-1756029600-1756044000@msca09aa.org
SUMMARY:Area 9 District 7 GSR Workshop
DESCRIPTION:
URL:https://msca09aa.org/event/area-8-district-7-gsr-workshop/
LOCATION:Garden Grove Alano Club\, 9845 Belfast Drive\, Garden Grove\, CA\, 92844\, United States
ATTACH;FMTTYPE=image/jpeg:https://msca09aa.org/wp-content/uploads/2025/06/GSR-workshop-2025-English.jpg
END:VEVENT
BEGIN:VEVENT
DTSTART;TZID=America/Los_Angeles:20250828T190000
DTEND;TZID=America/Los_Angeles:20250828T200000
DTSTAMP:20260419T091945
CREATED:20250728T172056Z
LAST-MODIFIED:20250818T162539Z
UID:54567-1756407600-1756411200@msca09aa.org
SUMMARY:MSCA09 Treatment Committee
DESCRIPTION:Monthly Treatment Committee meeting that meets on Zoom every 4th\nThursday of the month at 7PM PST. Meeting ID: 854 3755 0762 /\nPasscode: 244472 \n  \n  \n  \n 
URL:https://msca09aa.org/event/msca09-treatment-committee-4/
END:VEVENT
END:VCALENDAR