BEGIN:VCALENDAR
VERSION:2.0
PRODID:-//Mid-Southern California Area 09 - ECPv6.15.20//NONSGML v1.0//EN
CALSCALE:GREGORIAN
METHOD:PUBLISH
X-WR-CALNAME:Mid-Southern California Area 09
X-ORIGINAL-URL:https://msca09aa.org
X-WR-CALDESC:Events for Mid-Southern California Area 09
REFRESH-INTERVAL;VALUE=DURATION:PT1H
X-Robots-Tag:noindex
X-PUBLISHED-TTL:PT1H
BEGIN:VTIMEZONE
TZID:America/Los_Angeles
BEGIN:DAYLIGHT
TZOFFSETFROM:-0800
TZOFFSETTO:-0700
TZNAME:PDT
DTSTART:20230312T100000
END:DAYLIGHT
BEGIN:STANDARD
TZOFFSETFROM:-0700
TZOFFSETTO:-0800
TZNAME:PST
DTSTART:20231105T090000
END:STANDARD
BEGIN:DAYLIGHT
TZOFFSETFROM:-0800
TZOFFSETTO:-0700
TZNAME:PDT
DTSTART:20240310T100000
END:DAYLIGHT
BEGIN:STANDARD
TZOFFSETFROM:-0700
TZOFFSETTO:-0800
TZNAME:PST
DTSTART:20241103T090000
END:STANDARD
BEGIN:DAYLIGHT
TZOFFSETFROM:-0800
TZOFFSETTO:-0700
TZNAME:PDT
DTSTART:20250309T100000
END:DAYLIGHT
BEGIN:STANDARD
TZOFFSETFROM:-0700
TZOFFSETTO:-0800
TZNAME:PST
DTSTART:20251102T090000
END:STANDARD
END:VTIMEZONE
BEGIN:VEVENT
DTSTART;TZID=America/Los_Angeles:20240712T080000
DTEND;TZID=America/Los_Angeles:20240714T170000
DTSTAMP:20260420T002108
CREATED:20240115T202724Z
LAST-MODIFIED:20240626T174510Z
UID:11250-1720771200-1720976400@msca09aa.org
SUMMARY:Pacific Region Forum July 12 -14
DESCRIPTION:  \nRegistration link: CLICK HERE \n[su_row][su_column size=”1/3″ center=”no” class=””]2024 Pacific Region Forum  – Program[/su_column] [su_column size=”1/8″ center=”no” class=””] ENGLISH [/su_column] \n[su_column size=”1/8″ center=”no” class=””] SPANISH [/su_column] \n[/su_row] \n[su_row][su_column size=”1/3″ center=”no” class=””] FAQ for a great RF experience [/su_column] [su_column size=”1/8″ center=”no” class=””] ENGLISH [/su_column] \n[su_column size=”1/8″ center=”no” class=””] SPANISH [/su_column] \n[/su_row] \n[su_row][su_column size=”1/8″ center=”no” class=””][/su_column] [su_column size=”1/8″ center=”no” class=””][/su_column][/su_row] \n 
URL:https://msca09aa.org/event/pacific-region-forum-july-12-14/
LOCATION:Westgate Resort and Casino\, Las Vegas\, NV\, United States
CATEGORIES:Forum,Special Event
ATTACH;FMTTYPE=image/png:https://msca09aa.org/wp-content/uploads/2024/05/PACIFIC-REG-Forum-2024.png
END:VEVENT
BEGIN:VEVENT
DTSTART;TZID=America/Los_Angeles:20240707T090000
DTEND;TZID=America/Los_Angeles:20240707T150000
DTSTAMP:20260420T002108
CREATED:20231204T063542Z
LAST-MODIFIED:20240707T004559Z
UID:10490-1720342800-1720364400@msca09aa.org
SUMMARY:FORO 2024
DESCRIPTION:Hosted by District 20\nMeeting ID: 873 6607 8505 \nPasscode: Area09p74 \n  \n[su_row][su_column size=”1/8″ center=”no” class=””][/su_column] [su_column size=”2/4″ center=”no” class=””] \nCome join us for food\, fun\, and fellowship at the 33rd MSCA FORO! \nTROPICAL STYLE! Dress to Impress!\nThe 33rd MSCA FORO is hosted by District 20 and the Panel 74 Alternate Delegate!\nAll are welcome!!  Click here to read about: \n1. What is a FORO (Forum)? \n2. What is the purpose of a FORO (Forum)n at MSCA 09? \n3. Do we need the area forums? \nFORO Quick Reference \n[/su_column][/su_row] \n  \n[su_row][su_column size=”1/8″ center=”no” class=””][/su_column] [su_column size=”2/4″ center=”no” class=””] \nÚnase a nosotros para disfrutar de la comida\, la diversión y el compañerismo \nen la 33ª edición de MSCA FORO! \n¡ESTILO TROPICAL! ¡Vístete para impresionar! ¡El 33º FORO de MSCA es  \norganizado por el Distrito 20 y el Delegado Alterno del Panel 74! \n¡Todos son bienvenidos! \nHaga clic aquí para leer sobre: \n1. ¿Qué es un FORO? \n2. ¿Cuál es el propósito de un FORO en MSCA 09? \n3. ¿Necesitamos los foros de el Area? \nReferencia rápida de FORO \n[/su_column][/su_row] \n 
URL:https://msca09aa.org/event/foro-2024/
LOCATION:Norma Hertzog Community Center\, 1845 Park Avenue\, Costa Mesa\, CA\, 92627\, United States
CATEGORIES:Assembly
ATTACH;FMTTYPE=image/png:https://msca09aa.org/wp-content/uploads/2024/06/2024-FORO-En.png
END:VEVENT
BEGIN:VEVENT
DTSTART;TZID=America/Los_Angeles:20240704T080000
DTEND;TZID=America/Los_Angeles:20240707T170000
DTSTAMP:20260420T002108
CREATED:20240514T030326Z
LAST-MODIFIED:20240514T050758Z
UID:51443-1720080000-1720371600@msca09aa.org
SUMMARY:64th ICYPAA Conference - Austin\, TX
DESCRIPTION:– https://www.icypaa.org/event-details/the-64th-icypaa-conference-1
URL:https://msca09aa.org/event/64th-icypaa-conference-austin-tx/
CATEGORIES:Special Event
ATTACH;FMTTYPE=image/png:https://msca09aa.org/wp-content/uploads/2024/05/64thICYPAA-conference-2024-Austin-TX.png
END:VEVENT
BEGIN:VEVENT
DTSTART;TZID=America/Los_Angeles:20240620T180000
DTEND;TZID=America/Los_Angeles:20240620T201500
DTSTAMP:20260420T002108
CREATED:20240113T040945Z
LAST-MODIFIED:20240619T150124Z
UID:11116-1718906400-1718914500@msca09aa.org
SUMMARY:Service Manual Study - 6/20/2024
DESCRIPTION:Zoom link: https://us06web.zoom.us/j/87366078505\n\nPasscode: Area09p74 \n\n\n6:00 p.m.: Very excited for the following presenters this month:\n\n\n\n\n\n\n\n\nChapter 2: The District and its DCM\nNick E.\nPanel 74\, Area 18 Alternate Delegate\n\n\nChapter 3: The Area Assembly and its Activities\nNikki U.\nPanel 73\, Area 5 Alternate Delegate\n\n\n\n\n7:15 p.m.: The DCM and Committee Sharing Session begins at 7:15 pm\, and the agenda is HERE! \n\n\nAmongst other things\, please note that we will be discussing the July 7 FORO\, hosted by District 20\, at the Norma Hertzog Center in Costa Mesa!! Please read and share the following information with your groups and districts! Come support our Spanish-speaking community!\n\n\nPurpose and why our area needs a FORO (Quick Reference) \n\n\nCall for volunteers: Scribes and co-moderators (bi-lingual preferably) \n\n\n\n\nEnlace de zoom: https://us06web.zoom.us/j/87366078505 \nCódigo de acceso: Area09p74 \n6:00 p.m.: Muy emocionado por los siguientes presentadores de este mes: \n\n\n\n\nCapítulo 2: El Distrito y su MCD \n\n\nNick E. \n\n\nPanel 74\, Área 18 Delegado Suplente \n\n\n\n\nCapítulo 3: La Asamblea de Área y sus actividades \n\n\nNikki U. \n\n\nPanel 73\, Área 5 Delegado Suplente \n\n\n\n\n7:15 p.m.: La Sesión de Intercambio de DCM y Comité comienza a las 7:15 pm\, ¡y la agenda está AQUÍ! \n\nEntre otras cosas\, tenga en cuenta que discutiremos el FORO del 7 de julio\, organizado por el Distrito 20\, en el Centro Norma Hertzog en Costa Mesa. ¡Por favor\, lea y comparta la siguiente información con sus grupos y distritos! ¡Ven a apoyar a nuestra comunidad de habla hispana!\n\nA.    Propósito y por qué nuestra área necesita un FORO (Referencia rápida) \nB.    Convocatoria de voluntarios: Escribas y co-moderadores (preferiblemente bilingüe) \nTenemos algunas discusiones geniales que cubrir\, ¡así que espero que puedas asistir a ambas sesiones!
URL:https://msca09aa.org/event/service-manual-workshop-6-20-2024/
LOCATION:ZOOM Service Study Meeting
CATEGORIES:Alt Delegate,Service Study 3rd Thursday
ORGANIZER;CN="Alt Delegate - Manya W.":MAILTO:delegatealt@msca09aa.org
END:VEVENT
BEGIN:VEVENT
DTSTART;TZID=America/Los_Angeles:20240616T150000
DTEND;TZID=America/Los_Angeles:20240616T170000
DTSTAMP:20260420T002108
CREATED:20240606T221840Z
LAST-MODIFIED:20240609T010653Z
UID:51830-1718550000-1718557200@msca09aa.org
SUMMARY:Delegate's Report Back District 09
DESCRIPTION:Meeting ID:\n928 8170 4093\nPasscode: 642408 \n  \n  \n[su_row][su_column size=”1/4″ center=”no” class=””][/su_column] [su_column size=”1/4″ center=”no” class=””] [/su_column][/su_row] \n 
URL:https://msca09aa.org/event/delegates-report-back/
LOCATION:A.A. Central Office\, 35-325 DATE PALM DR\, Cathedral City\, CA\, United States
CATEGORIES:Workshop
ATTACH;FMTTYPE=image/png:https://msca09aa.org/wp-content/uploads/2024/06/delegatereportsback202406.png
END:VEVENT
BEGIN:VEVENT
DTSTART;TZID=America/Los_Angeles:20240615T090000
DTEND;TZID=America/Los_Angeles:20240615T130000
DTSTAMP:20260420T002108
CREATED:20240606T223017Z
LAST-MODIFIED:20240609T010825Z
UID:51835-1718442000-1718456400@msca09aa.org
SUMMARY:GSR’S Get a Bad Rap! District 09 GSR Workshop
DESCRIPTION:GSR’S Get a Bad Rap!    RSVP HERE \n  \n[su_row][su_column size=”1/4″ center=”no” class=””][/su_column] [su_column size=”1/4″ center=”no” class=””] [/su_column][/su_row]
URL:https://msca09aa.org/event/gsrs-get-a-bad-rap-district-09-gsr-workshop/
LOCATION:Cathedral City Senior Center\, 37171 W Buddy Rogers Ave.\, Cathedral City\, CA\, United States
CATEGORIES:Workshop
ATTACH;FMTTYPE=image/png:https://msca09aa.org/wp-content/uploads/2024/06/gsrworkshop20240615.png
ORGANIZER;CN="District 09":MAILTO:district09events@gmail.com
END:VEVENT
BEGIN:VEVENT
DTSTART;TZID=America/Los_Angeles:20240613T190000
DTEND;TZID=America/Los_Angeles:20240613T203000
DTSTAMP:20260420T002108
CREATED:20240508T182130Z
LAST-MODIFIED:20240515T232204Z
UID:13150-1718305200-1718310600@msca09aa.org
SUMMARY:74th GSC Report Back Event - District 05
DESCRIPTION:
URL:https://msca09aa.org/event/74th-gsc-report-back-event-district-05/
LOCATION:Corner of Dodge & Newport)\, 19211 Dodge Avenue No. Tustin/Santa Ana\, CA\, Santa Ana\, CA\, 19211
CATEGORIES:Special Event
ATTACH;FMTTYPE=image/png:https://msca09aa.org/wp-content/uploads/2024/05/74thGSC-report-back.png
END:VEVENT
BEGIN:VEVENT
DTSTART;TZID=America/Los_Angeles:20240609T090000
DTEND;TZID=America/Los_Angeles:20240609T150000
DTSTAMP:20260420T002108
CREATED:20231204T054728Z
LAST-MODIFIED:20240608T152319Z
UID:10464-1717923600-1717945200@msca09aa.org
SUMMARY:Area Service Committee (ASC)
DESCRIPTION:Hosted by: District 1 & 3\nJune ASC\n\nJoin Zoom Meeting\nJoin Zoom Meeting\nhttps://us06web.zoom.us/j/89661666203?pwd=WQAQbswqxDwlCmbiMI852nxafbUJBA.1 \nZOOM INFO:\nMEETING I.D: 89661666203\nPASSWORD: P74service \n[su_row][su_column size=”1/4″ center=”no” class=””][/su_column] [su_column size=”1/4″ center=”no” class=””][/su_column][/su_row]\nEl Camino College Lot C.  Torrance\, CA 90506\n  \n  \n  \n\n  \n 
URL:https://msca09aa.org/event/area-service-committee-asc-20240609/
LOCATION:El Camino College\, 16007 Crenshaw Blvd\, Torrance\, CA\, 90506\, Armenia
CATEGORIES:ASC
ATTACH;FMTTYPE=image/png:https://msca09aa.org/wp-content/uploads/2023/11/circlesoflove800x885-e1705107119501.png
END:VEVENT
BEGIN:VEVENT
DTSTART;TZID=America/Los_Angeles:20240601T093000
DTEND;TZID=America/Los_Angeles:20240601T130000
DTSTAMP:20260420T002108
CREATED:20240408T213520Z
LAST-MODIFIED:20240510T035058Z
UID:12903-1717234200-1717246800@msca09aa.org
SUMMARY:4 Area DCM Sharing Session 2024
DESCRIPTION:
URL:https://msca09aa.org/event/4-area-dcm-sharing-session-2024/
LOCATION:PalaAdministrationBuilding\, 12196 Mission Rd.\, Pala\, CA\, 92059
CATEGORIES:Workshop
ATTACH;FMTTYPE=image/jpeg:https://msca09aa.org/wp-content/uploads/2024/04/4AreaDCM-2024_ver2-scaled.jpg
END:VEVENT
BEGIN:VEVENT
DTSTART;TZID=America/Los_Angeles:20240531T080000
DTEND;TZID=America/Los_Angeles:20240602T170000
DTSTAMP:20260420T002108
CREATED:20240514T030215Z
LAST-MODIFIED:20240514T043509Z
UID:51441-1717142400-1717347600@msca09aa.org
SUMMARY:Sunshine of the Spirit High Desert Convention
DESCRIPTION:REGISTRATION LINK CLICK HERE
URL:https://msca09aa.org/event/sunshine-of-the-spirit-high-desert-convention/
LOCATION:Marriott Courtyard – Hesperia\, 9619 Mariposa Road\, Hesperia\, CA\, 92345
CATEGORIES:Convention,Special Event
ATTACH;FMTTYPE=image/png:https://msca09aa.org/wp-content/uploads/2024/05/SOTS-convention.png
END:VEVENT
BEGIN:VEVENT
DTSTART;TZID=America/Los_Angeles:20240520T130000
DTEND;TZID=America/Los_Angeles:20240520T170000
DTSTAMP:20260420T002108
CREATED:20240516T230450Z
LAST-MODIFIED:20240516T230450Z
UID:51557-1716210000-1716224400@msca09aa.org
SUMMARY:La Viña Workshop Held by the Grapevine Board
DESCRIPTION:Please add the below events. \nLa Viña Workshop Held by the Grapevine Board. \nJoin us for our next Workshop – Tuesday\, May 20\, 2024\, at 3 pm EST/1 pm PST\nMeeting ID: 815 9593 1777
URL:https://msca09aa.org/event/la-vina-workshop-held-by-the-grapevine-board/
END:VEVENT
BEGIN:VEVENT
DTSTART;TZID=America/Los_Angeles:20240519T090000
DTEND;TZID=America/Los_Angeles:20240519T150000
DTSTAMP:20260420T002108
CREATED:20240123T011903Z
LAST-MODIFIED:20240517T003533Z
UID:11386-1716109200-1716130800@msca09aa.org
SUMMARY:Delegate Report Back to Area 09
DESCRIPTION:   
URL:https://msca09aa.org/event/delegate-report-back-to-area-09/
LOCATION:SKYVIEW EVENT CENTER\, 5257 Wineville Avenue\, Jurupa Valley\, CA\, CA\, 92752
CATEGORIES:Assembly
ATTACH;FMTTYPE=image/png:https://msca09aa.org/wp-content/uploads/2024/01/BreakingNews.png
END:VEVENT
BEGIN:VEVENT
DTSTART;TZID=America/Los_Angeles:20240516T180000
DTEND;TZID=America/Los_Angeles:20240516T201500
DTSTAMP:20260420T002108
CREATED:20240113T040524Z
LAST-MODIFIED:20240515T053107Z
UID:11108-1715882400-1715890500@msca09aa.org
SUMMARY:Service Manual Study - 5/16/2024
DESCRIPTION:MAY — DECEMBER 2024: SERVICE MANUAL WORKSHOP\nWHEN: Third Thursday of Every Month\nWHERE: “Virtual Only”\nMeeting ID: 873 6607 8505 Passcode: Area09p74\n6:00 p.m. Foreword: Introduction: Welcome to General Service Paul E. Area 42 Alternate Delegate\n6:20 p.m. Chapter 1: The Group and Its GSR Carrie B. Area 58 Treatment Committee Chair
URL:https://msca09aa.org/event/service-manual-study-5-16-2024/
LOCATION:ZOOM Service Study Meeting
CATEGORIES:Alt Delegate,Service Study 3rd Thursday
ORGANIZER;CN="Alt Delegate - Manya W.":MAILTO:delegatealt@msca09aa.org
END:VEVENT
BEGIN:VEVENT
DTSTART;TZID=America/Los_Angeles:20240511T100000
DTEND;TZID=America/Los_Angeles:20240511T130000
DTSTAMP:20260420T002108
CREATED:20240428T141153Z
LAST-MODIFIED:20240428T161427Z
UID:13034-1715421600-1715432400@msca09aa.org
SUMMARY:Archives Open House
DESCRIPTION:   
URL:https://msca09aa.org/event/archives-open-house/
CATEGORIES:Special Event
ATTACH;FMTTYPE=image/png:https://msca09aa.org/wp-content/uploads/2024/04/archivesFlyerEnglish.png
END:VEVENT
BEGIN:VEVENT
DTSTART;VALUE=DATE:20240503
DTEND;VALUE=DATE:20240506
DTSTAMP:20260420T002108
CREATED:20240110T175216Z
LAST-MODIFIED:20240426T052735Z
UID:10940-1714694400-1714953599@msca09aa.org
SUMMARY:No. and So. California H & I Conference save the date.
DESCRIPTION:2024 H&I Conference\, Northern & Southern California H&I Intergroups hosting |  \nSouthern California Hospitals and Institutions Intergroup (socalhandi.com) \nMay 3 @ 4:00 pm – May 5 @ 12:00 pm \nREGISTRATION: $30.00 – $75.00 \n\n2024 Annual Hospitals and Institutions Intergroup Conference ~ \nHosted together by both the Northern & Southern California Intergroups!! \nCome learn about H&I and have fun doing it.  Register here.\n\nH and I Conference – May 3-5\, 2024\nH and I Conference Registration Form\n\n\n————————–\n\nConferencia anual de intergrupos de hospitales e instituciones de 2024 ~ \n¡Organizada conjuntamente por los intergrupos del norte y del sur de California! \nVen a aprender sobre HeI y diviértete haciéndolo.  Register here.\n \n 
URL:https://msca09aa.org/event/no-and-so-california-h-i-conference-save-the-date/
LOCATION:DoubleTree by Hilton Bakersfield\, 3100 Camino Del Reio Ct\, Bakersfield\, CA
CATEGORIES:Special Event
ATTACH;FMTTYPE=image/png:https://msca09aa.org/wp-content/uploads/2024/02/HandIconferene-full-page-flyer.png
END:VEVENT
BEGIN:VEVENT
DTSTART;TZID=America/Los_Angeles:20240420T110000
DTEND;TZID=America/Los_Angeles:20240420T143000
DTSTAMP:20260420T002108
CREATED:20240312T204807Z
LAST-MODIFIED:20240426T052807Z
UID:12592-1713610800-1713623400@msca09aa.org
SUMMARY:Traditions and Principles Workshop
DESCRIPTION:A workshop with speakers and open discussions on the AA Traditions and Principles\nFREE RAFFLE and SNACKS!!!\nHosted by District 10 G.S.R.s
URL:https://msca09aa.org/event/traditions-and-principles-workshop/
LOCATION:Recovery Road\, 2370 E Orangethorpe Ave\, Anaheim\, CA\, 92831\, United States
CATEGORIES:Workshop
ATTACH;FMTTYPE=image/png:https://msca09aa.org/wp-content/uploads/2024/03/Traditions-And-Principles-Workshop-4-20-2024-1.png
END:VEVENT
BEGIN:VEVENT
DTSTART;TZID=America/Los_Angeles:20240418T180000
DTEND;TZID=America/Los_Angeles:20240418T201500
DTSTAMP:20260420T002108
CREATED:20240113T034912Z
LAST-MODIFIED:20240426T052832Z
UID:11103-1713463200-1713471300@msca09aa.org
SUMMARY:Service Study and Sharing Apr 18
DESCRIPTION:APRIL 18th\, 2024: TRADITIONS 10 — 12\nTradition 10 Kerri (NM Area 46 Panel 74 Delegate)\nTradition 11 Meg J. (Area 15 District 8 Alternate GSR)\nTradition 12 Aubrey O. (Area 9–Hybrid Meeting–Denver Group Business Chair)\nWHEN: Third Thursday of Every Month\nWHERE: “Virtual Only”Meeting ID: 873 6607 8505 Passcode: Area09p74TIME: 6:00pm — 7:00pm PST SERVICE STUDY7:15pm — 8:15pm PST MSCA 09 COMMITTEE SHARING SESSION
URL:https://msca09aa.org/event/service-study-and-sharing-apr-18/
LOCATION:ZOOM\, United States
CATEGORIES:Alt Delegate,Service Study 3rd Thursday
ORGANIZER;CN="Alt Delegate - Manya W.":MAILTO:delegatealt@msca09aa.org
END:VEVENT
BEGIN:VEVENT
DTSTART;TZID=America/Los_Angeles:20240406T130000
DTEND;TZID=America/Los_Angeles:20240407T160000
DTSTAMP:20260420T002108
CREATED:20240123T011246Z
LAST-MODIFIED:20240426T052925Z
UID:11383-1712408400-1712505600@msca09aa.org
SUMMARY:Pre-Conference Mock General Service Conference Apr 6th-online | Apr 7th-hybrid
DESCRIPTION:       \nApril 6th and 7th zoom link. Click to join:  https://us06web.zoom.us/j/85480069965?pwd= \nDAY 1 is an ONLINE event: GSR Pre-Conference Workshop – Saturday\, April 6 via Zoom from 1 pm to 5 pm | Meeting ID: 854 8006 9965 Passcode: Panel74 |  \n  \nDay 2 is a HYBRID event: Pre-Conference Mock General Service Conference – Sunday\, April 7 at Backs Community Main Building 8 am to 4 pm | Meeting ID: 854 8006 9965 Passcode: Panel74
URL:https://msca09aa.org/event/pre-conference-mock-general-service-conference-apr-6th-online-apr-7th-hybrid/
LOCATION:Backs Community Building\, 201 Bradford Avenue (Located in Kraemer Memorial Park)\, Placentia\, CA\, 92870\, United States
CATEGORIES:Assembly,Delegate,Review Agenda Items Panel74
ATTACH;FMTTYPE=image/png:https://msca09aa.org/wp-content/uploads/2024/01/Pre-conference-Assembly-2024-EN.png
ORGANIZER;CN="Alt Delegate - Manya W.":MAILTO:delegatealt@msca09aa.org
END:VEVENT
BEGIN:VEVENT
DTSTART;TZID=America/Los_Angeles:20240331T080000
DTEND;TZID=America/Los_Angeles:20240331T120000
DTSTAMP:20260420T002108
CREATED:20240123T011011Z
LAST-MODIFIED:20240426T053010Z
UID:11381-1711872000-1711886400@msca09aa.org
SUMMARY:Interdistrict Pre-Conference 03/31/2024 In person
DESCRIPTION:
URL:https://msca09aa.org/event/interdistrict-pre-conference-03-31-2024-in-person/
CATEGORIES:Delegate,Review Agenda Items Panel74,Workshop
END:VEVENT
BEGIN:VEVENT
DTSTART;TZID=America/Los_Angeles:20240328T190000
DTEND;TZID=America/Los_Angeles:20240328T203000
DTSTAMP:20260420T002108
CREATED:20240121T231634Z
LAST-MODIFIED:20240426T053033Z
UID:11326-1711652400-1711657800@msca09aa.org
SUMMARY:Review Agenda Items Per Committee March 28th - Online
DESCRIPTION:Meeting ID: 854 8006 9965             Passcode: Panel74
URL:https://msca09aa.org/event/review-agenda-items-per-committee-march-28th-online/
CATEGORIES:Delegate,Review Agenda Items Panel74,Workshop
END:VEVENT
BEGIN:VEVENT
DTSTART;TZID=America/Los_Angeles:20240321T180000
DTEND;TZID=America/Los_Angeles:20240321T201500
DTSTAMP:20260420T002108
CREATED:20240113T034557Z
LAST-MODIFIED:20240426T054152Z
UID:11109-1711044000-1711052100@msca09aa.org
SUMMARY:Service Study and Sharing March 21
DESCRIPTION:MARCH 21st\, 2024: TRADITIONS 7 — 9\nTradition 7 Dawn M.\nTradition 8 Ed L. (Area 9 Panel 70 Past Delegate)\nTradition 9 Paul H. (Area 73 Panel 73 Delegate)\nWHEN: Third Thursday of Every Month\nWHERE: “Virtual Only”Meeting ID: 873 6607 8505 Passcode: Area09p74TIME: 6:00pm — 7:00pm PST SERVICE STUDY7:15pm — 8:15pm PST MSCA 09 COMMITTEE SHARING SESSION
URL:https://msca09aa.org/event/service-study-and-sharing-march-21/
LOCATION:ZOOM\, United States
CATEGORIES:Alt Delegate,Service Study 3rd Thursday
ORGANIZER;CN="Alt Delegate - Manya W.":MAILTO:delegatealt@msca09aa.org
END:VEVENT
BEGIN:VEVENT
DTSTART;TZID=America/Los_Angeles:20240320T190000
DTEND;TZID=America/Los_Angeles:20240320T203000
DTSTAMP:20260420T002108
CREATED:20240121T230922Z
LAST-MODIFIED:20240426T054112Z
UID:11324-1710961200-1710966600@msca09aa.org
SUMMARY:Review Agenda Items Per Committee March 20th - Online
DESCRIPTION:Meeting ID: 854 8006 9965             Passcode: Panel74
URL:https://msca09aa.org/event/review-agenda-items-per-committee-march-20th-online/
CATEGORIES:Delegate,Review Agenda Items Panel74,Workshop
END:VEVENT
BEGIN:VEVENT
DTSTART;TZID=America/Los_Angeles:20240317T093000
DTEND;TZID=America/Los_Angeles:20240317T123000
DTSTAMP:20260420T002108
CREATED:20240224T211338Z
LAST-MODIFIED:20240426T053932Z
UID:12269-1710667800-1710678600@msca09aa.org
SUMMARY:Grapevine and La Vina Agenda Item Review & Feedback
DESCRIPTION:Location: MSCA09 Archives\, 711 Arlington Ave\, Suite B\, Riverside\, CA\, 92680\nOnline: ZOOM Meeting ID: 854 8006 9965 Passcode: Panel74 \nFeaturing: History from Alvaro and Martin\nGV Chair: Paz P – General service Class B Trustee \n09:30 AM – 10:00 AM Registration / Coffee\n10:00 AM – 12:00 PM Workshop\n12:00 PM – 12:30 PM Lunch \n 
URL:https://msca09aa.org/event/grapevine-and-la-vina-agenda-item-review-feedback/
LOCATION:Archives\, 7111 Arlington Avenue - Suite B\, Riverside\, CA\, 92503\, United States
CATEGORIES:Delegate,Review Agenda Items Panel74,Workshop
ATTACH;FMTTYPE=image/png:https://msca09aa.org/wp-content/uploads/2024/02/LaVinaWorkshopEN.png
END:VEVENT
BEGIN:VEVENT
DTSTART;TZID=America/Los_Angeles:20240310T080000
DTEND;TZID=America/Los_Angeles:20240310T160000
DTSTAMP:20260420T002108
CREATED:20231204T054144Z
LAST-MODIFIED:20240426T053848Z
UID:10462-1710057600-1710086400@msca09aa.org
SUMMARY:Area Service Committee (ASC)
DESCRIPTION:Hosted by: District 9\nMarch ASC\nHYBRID EVENT\nSUNDAY.MARCH 10\, 2024 \nRegistration 8 AM \nAssembly 9 AM to 4 PM \n\nIn person:  Mizell Center\n\n\n\n480 South Sunrise Way\nPalm Springs\, CA 92262\n\n\nJoin Zoom Meeting\nhttps://us06web.zoom.us/j/89661666203?pwd=WQAQbswqxDwlCmbiMI852nxafbUJBA.1 \nZOOM INFO:\nMEETING I.D: 89661666203\nPASSWORD: P74service \n  \n\n  \n  \n  \n\n  \n 
URL:https://msca09aa.org/event/area-service-committee-asc-20240310/
LOCATION:Mizell Center\, 480 South Sunrise Way\, Palm Springs\, CA\, 92262\, United States
CATEGORIES:ASC
ATTACH;FMTTYPE=image/png:https://msca09aa.org/wp-content/uploads/2024/02/msca09March10ASC_EN.png
END:VEVENT
BEGIN:VEVENT
DTSTART;TZID=America/Los_Angeles:20240309T083000
DTEND;TZID=America/Los_Angeles:20240309T123000
DTSTAMP:20260420T002108
CREATED:20240227T032418Z
LAST-MODIFIED:20240426T053815Z
UID:12330-1709973000-1709987400@msca09aa.org
SUMMARY:Pre-conference Bootcamp
DESCRIPTION:Hosted by Districts 6\, 12\, & 18 \n–IN PERSON–\nNorma Hertzog Community Center\n1845 Park Ave\, Costa Mesa\, CA 9262\n–ON ZOOM–\nzoom id: 81964282551 \npasscode: GSRbootcmp
URL:https://msca09aa.org/event/pre-conference-bootcamp-2/
LOCATION:Norma Hertzog Community Center\, 1845 Park Avenue\, Costa Mesa\, CA\, 92627\, United States
CATEGORIES:Review Agenda Items Panel74
ATTACH;FMTTYPE=image/jpeg:https://msca09aa.org/wp-content/uploads/2024/02/2024-Bootcamp-D18_12_6.jpg
ORGANIZER;CN="Districts 6%2C 12 & 18":MAILTO:delegate@msca09aa.org
END:VEVENT
BEGIN:VEVENT
DTSTART;TZID=America/Los_Angeles:20240306T190000
DTEND;TZID=America/Los_Angeles:20240306T203000
DTSTAMP:20260420T002108
CREATED:20240121T225913Z
LAST-MODIFIED:20240426T053737Z
UID:11312-1709751600-1709757000@msca09aa.org
SUMMARY:Review Agenda Items Per Committee March 6th - Online
DESCRIPTION:Meeting ID: 854 8006 9965             Passcode: Panel74
URL:https://msca09aa.org/event/review-agenda-items-per-committee-march-6th-online/
CATEGORIES:Delegate,Review Agenda Items Panel74,Workshop
END:VEVENT
BEGIN:VEVENT
DTSTART;VALUE=DATE:20240229
DTEND;VALUE=DATE:20240303
DTSTAMP:20260420T002108
CREATED:20231103T021503Z
LAST-MODIFIED:20240123T054554Z
UID:10125-1709164800-1709423999@msca09aa.org
SUMMARY:PRAASA 2024
DESCRIPTION:PRAASA 2024\nFeb 29 – Mar 3\, 2024\nRegister: praasa.org/register\n  \nWhat Happens at PRAASA\nThe Pacific Region Alcoholics Anonymous Service Assembly is a mix of panel presentations\, roundtable discussions\, open mic sharing\, and speakers. Many attendees also come for the great fellowship and bonding that takes place with others from the same service Area and with new friends made from other Areas. Topics for the presentations and sharing are focused on general service. PRAASA is held prior to the General Service Conference and includes topics that will be discussed at the upcoming conference along with issues that are of interest to members involved in general service. Roundtables provide an opportunity for members to discuss topics with people who have the same service position\, like the Corrections or DCM and GSR roundtables\, or who are interested in a particular topic such as Newsletter\, Grapevine or Information Technology. Come join over 1000 excited AA members from all over the Pacific Region and be part of this unforgettable event!
URL:https://msca09aa.org/event/praasa-2024/
LOCATION:San Francisco Marriott Marquis\, 780 Mission St.\, San Francisco\, CA\, CA\, 94103\, United States
CATEGORIES:Special Event
ATTACH;FMTTYPE=image/png:https://msca09aa.org/wp-content/uploads/2023/12/PRAASA-2024-Flyer.png
END:VEVENT
BEGIN:VEVENT
DTSTART;TZID=America/Los_Angeles:20240228T190000
DTEND;TZID=America/Los_Angeles:20240228T203000
DTSTAMP:20260420T002108
CREATED:20240121T224253Z
LAST-MODIFIED:20240121T231434Z
UID:11307-1709146800-1709152200@msca09aa.org
SUMMARY:Information Review (Summaries/Background and Access to information)
DESCRIPTION:ZOOM Meeting ID: 854 8006 9965             Passcode: Panel74 \n 
URL:https://msca09aa.org/event/information-review-summaries-background-and-access-to-information/
LOCATION:ZOOM\, United States
CATEGORIES:Delegate,Review Agenda Items Panel74
END:VEVENT
BEGIN:VEVENT
DTSTART;TZID=America/Los_Angeles:20240220T190000
DTEND;TZID=America/Los_Angeles:20240220T200000
DTSTAMP:20260420T002108
CREATED:20240123T052757Z
LAST-MODIFIED:20240123T074815Z
UID:11399-1708455600-1708459200@msca09aa.org
SUMMARY:Plain Language Big Book Information Session - 4 Area Event
DESCRIPTION:How: Zoom (only)\nZoom ID: 829 8381 7449\nZoom PW: PLBB58993\nZoom Link:\nhttps://us06web.zoom.us/j/82983817449\n\n*ASL & Spanish Interpretation*\n  \n    
URL:https://msca09aa.org/event/plain-language-big-book-information-session-4-area-event/
CATEGORIES:Delegate,PLBB,Workshop
ATTACH;FMTTYPE=image/png:https://msca09aa.org/wp-content/uploads/2024/01/PlainLanguageBigBookInfoSessionEN-1.png
END:VEVENT
BEGIN:VEVENT
DTSTART;TZID=America/Los_Angeles:20240215T180000
DTEND;TZID=America/Los_Angeles:20240215T201500
DTSTAMP:20260420T002108
CREATED:20240113T032639Z
LAST-MODIFIED:20240122T182909Z
UID:11066-1708020000-1708028100@msca09aa.org
SUMMARY:Service Study and Sharing Feb 15
DESCRIPTION:FEBRUARY 15th\, 2024: TRADITIONS 4 — 6\nTradition 4 Julie S. (Area 24 Panel 73 Delegate)\nTradition 5 Kade (Area 18 Panel 74 Delegate)\nTradition 6 David R. (Area 69 Panel 73 Delegate)\nWHEN: Third Thursday of Every Month\nWHERE: “Virtual Only”Meeting ID: 873 6607 8505 Passcode: Area09p74TIME: 6:00pm — 7:00pm PST SERVICE STUDY7:15pm — 8:15pm PST MSCA 09 COMMITTEE SHARING SESSION
URL:https://msca09aa.org/event/service-study-and-sharing-feb-15/
LOCATION:ZOOM\, United States
CATEGORIES:Alt Delegate,Service Study 3rd Thursday
ORGANIZER;CN="Alt Delegate - Manya W.":MAILTO:delegatealt@msca09aa.org
END:VEVENT
END:VCALENDAR