BEGIN:VCALENDAR
VERSION:2.0
PRODID:-//Mid-Southern California Area 09 - ECPv6.15.20//NONSGML v1.0//EN
CALSCALE:GREGORIAN
METHOD:PUBLISH
X-WR-CALNAME:Mid-Southern California Area 09
X-ORIGINAL-URL:https://msca09aa.org
X-WR-CALDESC:Events for Mid-Southern California Area 09
REFRESH-INTERVAL;VALUE=DURATION:PT1H
X-Robots-Tag:noindex
X-PUBLISHED-TTL:PT1H
BEGIN:VTIMEZONE
TZID:America/Los_Angeles
BEGIN:DAYLIGHT
TZOFFSETFROM:-0800
TZOFFSETTO:-0700
TZNAME:PDT
DTSTART:20230312T100000
END:DAYLIGHT
BEGIN:STANDARD
TZOFFSETFROM:-0700
TZOFFSETTO:-0800
TZNAME:PST
DTSTART:20231105T090000
END:STANDARD
BEGIN:DAYLIGHT
TZOFFSETFROM:-0800
TZOFFSETTO:-0700
TZNAME:PDT
DTSTART:20240310T100000
END:DAYLIGHT
BEGIN:STANDARD
TZOFFSETFROM:-0700
TZOFFSETTO:-0800
TZNAME:PST
DTSTART:20241103T090000
END:STANDARD
BEGIN:DAYLIGHT
TZOFFSETFROM:-0800
TZOFFSETTO:-0700
TZNAME:PDT
DTSTART:20250309T100000
END:DAYLIGHT
BEGIN:STANDARD
TZOFFSETFROM:-0700
TZOFFSETTO:-0800
TZNAME:PST
DTSTART:20251102T090000
END:STANDARD
BEGIN:DAYLIGHT
TZOFFSETFROM:-0800
TZOFFSETTO:-0700
TZNAME:PDT
DTSTART:20260308T100000
END:DAYLIGHT
BEGIN:STANDARD
TZOFFSETFROM:-0700
TZOFFSETTO:-0800
TZNAME:PST
DTSTART:20261101T090000
END:STANDARD
END:VTIMEZONE
BEGIN:VEVENT
DTSTART;VALUE=DATE:20250307
DTEND;VALUE=DATE:20250310
DTSTAMP:20260419T132128
CREATED:20250129T165954Z
LAST-MODIFIED:20250129T165954Z
UID:53546-1741305600-1741564799@msca09aa.org
SUMMARY:PRASSA 2025
DESCRIPTION:March 7 -9th Anchorage\, Alaska – Book a room at PRAASA.org
URL:https://msca09aa.org/event/prassa-2025/
ATTACH;FMTTYPE=image/png:https://msca09aa.org/wp-content/uploads/2025/01/PRASSA-1.png
END:VEVENT
BEGIN:VEVENT
DTSTART;TZID=America/Los_Angeles:20250220T180000
DTEND;TZID=America/Los_Angeles:20250220T201500
DTSTAMP:20260419T132128
CREATED:20250107T001124Z
LAST-MODIFIED:20250109T215647Z
UID:53341-1740074400-1740082500@msca09aa.org
SUMMARY:2025 MSCA 09 Monthly Service Study and Committee Sharing - 2/20
DESCRIPTION:2025 MSCA 09 Monthly Service Study\n& Committee Sharing Session\n\n\n\n\nWHEN: 3rd Thursday of Every Month\nWHERE: “Virtual Only”\nMeeting ID: 873 6607 8505 (Zoom link: https://us06web.zoom.us/j/87366078505_) \nPasscode: Area09p74 \n6:00 pm—7:00pm-pst SERVICE STUDY \n7:15 pm—8:15pm-pst MSCA 09 COMMITTEE SHARING SESSION \n*ALL ARE WELCOME TO ATTEND! \n\n\n\n\nJanuary 2025 to June 2025:MSCA 09’s “The Twelve Concepts of World Service” Study – hosted by various members within Area 09 and the 93 areas!\n\nFeb 20\, 2025 – Concepts 3 and 4\nConcept 3 – Kevin R.\, Panel 72 Past DCMC of District 6/Area 09 and Past Area 09 Archives Chair\nConcept 4 – Spencer D.\, GSR of District 18/Area 09\n\n\n[su_row][su_column size=”1/4″ center=”no” class=””][/su_column] [su_column size=”1/4″ center=”no” class=””][/su_column][/su_row]
URL:https://msca09aa.org/event/2025-msca-09-monthly-service-study-and-committee-sharing-2-20/
LOCATION:ZOOM Service Study\, ZOOM Virtual only\, Meeting ID: 873 6607 8505 Passcode: Area09p74
CATEGORIES:Service Study 3rd Thursday
ATTACH;FMTTYPE=image/png:https://msca09aa.org/wp-content/uploads/2025/01/ServiceManualStudy_English.png
ORGANIZER;CN="Alt Delegate - Manya W.":MAILTO:delegatealt@msca09aa.org
END:VEVENT
BEGIN:VEVENT
DTSTART;TZID=America/Los_Angeles:20250211T080000
DTEND;TZID=America/Los_Angeles:20250211T170000
DTSTAMP:20260419T132128
CREATED:20250211T160459Z
LAST-MODIFIED:20250211T160459Z
UID:53699-1739260800-1739293200@msca09aa.org
SUMMARY:La Zona Maravilla: Desvelando los misterios de aa.org y aagrapevine.org
DESCRIPTION:ID de reunión: 858 6213 6789\nCódigo de acceso: 308536
URL:https://msca09aa.org/event/la-zona-maravilla-desvelando-los-misterios-de-aa-org-y-aagrapevine-org/
LOCATION:ZOOM\, United States
ATTACH;FMTTYPE=image/png:https://msca09aa.org/wp-content/uploads/2025/02/2025-02-11-09_00_15-NUEVO-Taller-de-Vid-Adobe-Acrobat-Reader-64-bit.png
END:VEVENT
BEGIN:VEVENT
DTSTART;TZID=America/Los_Angeles:20250209T090000
DTEND;TZID=America/Los_Angeles:20250209T150000
DTSTAMP:20260419T132128
CREATED:20250127T201302Z
LAST-MODIFIED:20250127T201452Z
UID:53492-1739091600-1739113200@msca09aa.org
SUMMARY:Area Service Committee
DESCRIPTION:February 2025 ASC Flyer_EN-FINAL \nFebruary 2025 ASC Flyer_SP-FINAL \nVIRTUAL:\nMeeting ID: 896 6166 6203 // Passcode: P74service\nhttps://us06web.zoom.us/j/89661666203?pwd=WQAQbswqxDwlCmbiMI852nxafbUJBA.1
URL:https://msca09aa.org/event/area-service-committee-2/
LOCATION:Victor Valley Colledge\, 18422 Bear Valley road\, Victorville\, California\, 92395
CATEGORIES:ASC
END:VEVENT
BEGIN:VEVENT
DTSTART;TZID=America/Los_Angeles:20250116T180000
DTEND;TZID=America/Los_Angeles:20250116T201500
DTSTAMP:20260419T132128
CREATED:20250107T000755Z
LAST-MODIFIED:20250109T214524Z
UID:53336-1737050400-1737058500@msca09aa.org
SUMMARY:2025 MSCA 09 Monthly Service Study and Committee Sharing - 1/16
DESCRIPTION:2025 MSCA 09 Monthly Service Study\n& Committee Sharing Session\n\n\n\n\nWHEN: 3rd Thursday of Every Month\nWHERE: “Virtual Only”\nMeeting ID: 873 6607 8505 (Zoom link: https://us06web.zoom.us/j/87366078505_) \nPasscode: Area09p74 \n6:00 pm—7:00pm-pst SERVICE STUDY \n7:15 pm—8:15pm-pst MSCA 09 COMMITTEE SHARING SESSION \n*ALL ARE WELCOME TO ATTEND! \n\n\n\n\nJanuary 2025 to June 2025: MSCA 09’s “The Twelve Concepts of World Service” Study – hosted by various members within Area 09 and the 93 areas!\n\nJan 16\, 2025 – Concepts 1 and 2\nConcept 1 – Adrian O.\, Panel 74 Alternate Delegate of Area 08 (Imperial County and San Diego) \nConcept 2 – Stacey A.\, Panel 74 Alternate DCMC of District 8\, Area 09\n[su_row][su_column size=”1/4″ center=”no” class=””][/su_column] [su_column size=”1/4″ center=”no” class=””][/su_column][/su_row]
URL:https://msca09aa.org/event/2025-msca-09-monthly-service-study-and-committee-sharing-1-16/
LOCATION:ZOOM Service Study\, ZOOM Virtual only\, Meeting ID: 873 6607 8505 Passcode: Area09p74
CATEGORIES:Service Study 3rd Thursday
ATTACH;FMTTYPE=image/png:https://msca09aa.org/wp-content/uploads/2025/01/ServiceManualStudy_English.png
ORGANIZER;CN="Alt Delegate - Manya W.":MAILTO:delegatealt@msca09aa.org
END:VEVENT
BEGIN:VEVENT
DTSTART;TZID=America/Los_Angeles:20250112T080000
DTEND;TZID=America/Los_Angeles:20250112T150000
DTSTAMP:20260419T132128
CREATED:20241230T194018Z
LAST-MODIFIED:20250109T220137Z
UID:53271-1736668800-1736694000@msca09aa.org
SUMMARY:Jan 12\, 2025\, Area Service Assembly (ASA)
DESCRIPTION:[su_row][su_column size=”1/4″ center=”no” class=””][/su_column] [su_column size=”1/4″ center=”no” class=””]  [/su_column][/su_row] \n[su_row][su_column size=”1/4″ center=”no” class=””]ASA Agenda Click Here[/su_column] [su_column size=”1/4″ center=”no” class=””] Spanish Agenda Click Here[/su_column][/su_row]https://us06web.zoom.us/j/89661666203?pwd=WQAQbswqxDwlCmbiMI852nxafbUJBA.1 \nMeeting ID: 896 6166 6203 // Passcode: P74service \nID de reunión: 896 6166 6203 // Código de accesso: P74service
URL:https://msca09aa.org/event/jan-12-2025-area-service-assembly-asa/
LOCATION:Yorba Linda Community Center\, 4501 Casa Loma Ave\, Yorba Linda\, California\, 92886
CATEGORIES:Assembly
ATTACH;FMTTYPE=image/png:https://msca09aa.org/wp-content/uploads/2024/12/ASA-2025-01-12-English.png
END:VEVENT
BEGIN:VEVENT
DTSTART;TZID=America/Los_Angeles:20241214T110000
DTEND;TZID=America/Los_Angeles:20241214T143000
DTSTAMP:20260419T132128
CREATED:20241121T222338Z
LAST-MODIFIED:20241130T192205Z
UID:53077-1734174000-1734186600@msca09aa.org
SUMMARY:AA SERVICE COMMITMENTS WORKSHOP  Hosted by District 10
DESCRIPTION:[su_row][su_column size=”1/4″ center=”no” class=””][/su_column] [su_column size=”1/4″ center=”no” class=””][/su_column][/su_row]
URL:https://msca09aa.org/event/aa-service-commitments-workshop-hosted-by-district-10/
LOCATION:Recovery Road\, 2370 E Orangethorpe Ave\, Anaheim\, CA\, 92831\, United States
CATEGORIES:Workshop
ATTACH;FMTTYPE=image/png:https://msca09aa.org/wp-content/uploads/2024/11/Updated-District-10-Service-Workshop-Flyer.png
END:VEVENT
BEGIN:VEVENT
DTSTART;TZID=America/Los_Angeles:20241214T090000
DTEND;TZID=America/Los_Angeles:20241214T210000
DTSTAMP:20260419T132128
CREATED:20240525T162931Z
LAST-MODIFIED:20240525T163250Z
UID:51686-1734166800-1734210000@msca09aa.org
SUMMARY:Hispanic H&I Conference of Southern California 
DESCRIPTION:
URL:https://msca09aa.org/event/hispanic-hi-conference-of-southern-california/
LOCATION:Santa Monica Hall\, 1622 W 6th\, Santa Ana\, CA\, 92703\, United States
CATEGORIES:Special Event
END:VEVENT
BEGIN:VEVENT
DTSTART;TZID=America/Los_Angeles:20241208T080000
DTEND;TZID=America/Los_Angeles:20241208T150000
DTSTAMP:20260419T132128
CREATED:20231204T055609Z
LAST-MODIFIED:20241029T144925Z
UID:10474-1733644800-1733670000@msca09aa.org
SUMMARY:December 2024 Area Service Committee (ASC)
DESCRIPTION:Hosted by: District 17\nDec ASC\n\nJoin Zoom Meeting\nJoin Zoom Meeting\nhttps://us06web.zoom.us/j/89661666203?pwd=WQAQbswqxDwlCmbiMI852nxafbUJBA.1 \nZOOM INFO:\nMEETING I.D: 89661666203\nPASSWORD: P74service \n\nLocation:\nLake Community Center\n310 W. Graham Ave.\nLake Elsinore\, CA 92530\nTime: 8am Registration and Continental Breakfast\nMeeting Time: 9am – 3pm\n\n  \n  \n  \n  \n\n  \n 
URL:https://msca09aa.org/event/december-2024-area-service-committee-asc/
LOCATION:Lake Community Center\, 310 W. Graham Ave.\, Lake Elsinore\, CA\, 92530
CATEGORIES:ASC
ATTACH;FMTTYPE=image/png:https://msca09aa.org/wp-content/uploads/2023/11/circlesoflove800x885-e1705107119501.png
END:VEVENT
BEGIN:VEVENT
DTSTART;TZID=America/Los_Angeles:20241207T103000
DTEND;TZID=America/Los_Angeles:20241207T123000
DTSTAMP:20260419T132128
CREATED:20241119T180500Z
LAST-MODIFIED:20241119T180500Z
UID:53065-1733567400-1733574600@msca09aa.org
SUMMARY:Hybrid AA Grapevine /Literature Workshop Area 09 & District 09
DESCRIPTION:Online and in person: \nMeeting ID: 811 3388 3970\nPasscode: 868895 \n[su_row][su_column size=”1/4″ center=”no” class=””][/su_column] [su_column size=”1/4″ center=”no” class=””][/su_column][/su_row] \nCome learn ALL that the Grapevine has to\noffer\, rediscover AA literature\, and discover\nnew pieces of literature
URL:https://msca09aa.org/event/hybrid-aa-grapevine-literature-workshop-area-09-district-09/
LOCATION:Cathedral City Senior Center\, 37171 W Buddy Rogers Ave.\, Cathedral City\, CA\, United States
CATEGORIES:Workshop
ATTACH;FMTTYPE=image/png:https://msca09aa.org/wp-content/uploads/2024/11/literatureWS-A09-D09-1.png
END:VEVENT
BEGIN:VEVENT
DTSTART;TZID=America/Los_Angeles:20241117T130000
DTEND;TZID=America/Los_Angeles:20241117T180000
DTSTAMP:20260419T132128
CREATED:20231204T063028Z
LAST-MODIFIED:20241005T224940Z
UID:10487-1731848400-1731866400@msca09aa.org
SUMMARY:SERVATHON of 2024
DESCRIPTION:Break out your poodle skirts and Oxford shoes for the \n“The 1951 General Service Conference – Nifty 50s Car Show and Sock Hop”\nNovember 17 @ 1:00 pm – 6:00 pmBreak out your poodle skirts and Oxford shoes for the“The 1951 General Service Conference – Nifty 50s Car Show and Sock Hop”Hosted by MSCA09 Alt-Delegate and District 6 \n17 de noviembre a las 13:00 – 18:00 horasSaca tus faldas de caniche y tus zapatos Oxford para el“La Conferencia de Servicios Generales de 1951: exhibición de autos Nifty 50s y Sock Hop”Organizado por el delegado alternativo de MSCA09 y el Distrito 6\n\n\n[su_row][su_column size=”1/4″ center=”no” class=””][/su_column] [su_column size=”1/4″ center=”no” class=””] \n [/su_column][/su_row]
URL:https://msca09aa.org/event/servathon-of-2024/
LOCATION:Norma Hertzog Community Center\, 1845 Park Avenue\, Costa Mesa\, CA\, 92627\, United States
CATEGORIES:Assembly
ATTACH;FMTTYPE=image/png:https://msca09aa.org/wp-content/uploads/2024/09/2024-Servathon.png
END:VEVENT
BEGIN:VEVENT
DTSTART;TZID=America/Los_Angeles:20241114T180000
DTEND;TZID=America/Los_Angeles:20241114T201500
DTSTAMP:20260419T132128
CREATED:20240515T015426Z
LAST-MODIFIED:20240620T212537Z
UID:51529-1731607200-1731615300@msca09aa.org
SUMMARY:Service Manual Study - 11/14/2024
DESCRIPTION:MAY — DECEMBER 2024: SERVICE MANUAL WORKSHOP\nHosted by various members within 93 Areas \nZoom link: https://us06web.zoom.us/j/87366078505\n\nPasscode: Area09p74 \n\nWHEN: Third Thursday of Every Month\nWHERE: “Virtual Only”\nMeeting ID: 873 6607 8505 Passcode: Area09p74\n6:00 p.m. Chapter 12: A.A. Grapevine Paz P. General Service Trustee/AA Grapevine Director\n7:15pm — 8:15pm PST MSCA 09 COMMITTEE SHARING SESSION
URL:https://msca09aa.org/event/service-manual-study-11-14-2024/
LOCATION:ZOOM Service Study Meeting
CATEGORIES:Alt Delegate,Service Study 3rd Thursday
ORGANIZER;CN="Alt Delegate - Manya W.":MAILTO:delegatealt@msca09aa.org
END:VEVENT
BEGIN:VEVENT
DTSTART;TZID=America/Los_Angeles:20241109T110000
DTEND;TZID=America/Los_Angeles:20241109T110000
DTSTAMP:20260419T132128
CREATED:20241029T204241Z
LAST-MODIFIED:20241029T204546Z
UID:52944-1731150000-1731150000@msca09aa.org
SUMMARY:TRADITIONS DAY 2024 - District 12
DESCRIPTION:Mid Southern California\nArea 9 – District 12 Presents \nA FREE EVENT OPEN TO ALL\nCOME JOIN US FOR FUN & FELLOWSHIP\nTRADITIONS DAY PLAY\nSPEAKER MEETING & LUNCH WILL BE PROVIDED \nNovember 9\, 2024 – 11am – 2pm\nLaguna Country United Methodist Church\n24442 Moulton Pkwy\, Laguna Woods\, CA \n[su_row][su_column size=”1/4″ center=”no” class=””][/su_column] [su_column size=”1/4″ center=”no” class=””] [/su_column][/su_row]
URL:https://msca09aa.org/event/traditions-day-2024-district-12/
LOCATION:Laguna United Methodist Church\, 24442 Moulton Pkwy\, Laguna Woods\, CA\, 92637\, United States
CATEGORIES:Workshop
ATTACH;FMTTYPE=image/jpeg:https://msca09aa.org/wp-content/uploads/2024/10/District-12-Traditions-Day-2024-Flyer-scaled.jpg
END:VEVENT
BEGIN:VEVENT
DTSTART;TZID=America/Los_Angeles:20241108T080000
DTEND;TZID=America/Los_Angeles:20241110T170000
DTSTAMP:20260419T132128
CREATED:20240922T205032Z
LAST-MODIFIED:20240922T205032Z
UID:52743-1731052800-1731258000@msca09aa.org
SUMMARY:72nd Southern California A.A. Convention
DESCRIPTION:November 8 to 10: 72nd Southern California A.A. Convention with Al-Anon Participation: https://www.aasocal.com/
URL:https://msca09aa.org/event/72nd-southern-california-a-a-convention/
CATEGORIES:Alt Delegate,Special Event
END:VEVENT
BEGIN:VEVENT
DTSTART;TZID=America/Los_Angeles:20241026T180000
DTEND;TZID=America/Los_Angeles:20241026T230000
DTSTAMP:20260419T132128
CREATED:20240923T170530Z
LAST-MODIFIED:20241004T165423Z
UID:52747-1729965600-1729983600@msca09aa.org
SUMMARY:Halloween Costume Party Dance And Speaker Meeting 
DESCRIPTION:Who: districts 4 and 18\n\nWhat: Halloween Dance and speaker meeting\nSpeaker Matthew M.\nWhen: October 26th from 6-11\nWhy: because general service is fun\nHow: from our trusted servants who can create an event for sober AAs and their friends to get together in fellowship\n\n\nHope everyone can join us. Especially everyone in area 09\n\n\n\n[su_row][su_column size=”1/4″ center=”no” class=””][/su_column] [su_column size=”1/4″ center=”no” class=””]  [/su_column][/su_row]
URL:https://msca09aa.org/event/halloween-costume-party-dance-and-speaker-meeting/
CATEGORIES:Special Event
ATTACH;FMTTYPE=image/jpeg:https://msca09aa.org/wp-content/uploads/2024/09/HalloweenCostumeParty.jpeg
END:VEVENT
BEGIN:VEVENT
DTSTART;TZID=America/Los_Angeles:20241024T190000
DTEND;TZID=America/Los_Angeles:20241024T203000
DTSTAMP:20260419T132128
CREATED:20240816T184504Z
LAST-MODIFIED:20240816T184504Z
UID:52405-1729796400-1729801800@msca09aa.org
SUMMARY:MSCA09 Treatment Committee
DESCRIPTION:Monthly Treatment Committee meeting that meets on Zoom\nevery 4th Thursday of the month at 7PM PT.\nMeeting ID: 854 3755 0762 / Passcode: 244472
URL:https://msca09aa.org/event/msca09-treatment-committee-3/
LOCATION:Treatment Committee Monthly Meeting on Zoom\, Meeting ID: 854 3755 0762 / Passcode: 244472
CATEGORIES:Standing-Committees,Treatment-Facilities-Committee
ATTACH;FMTTYPE=image/png:https://msca09aa.org/wp-content/uploads/2024/04/btg.png
END:VEVENT
BEGIN:VEVENT
DTSTART;TZID=America/Los_Angeles:20241017T180000
DTEND;TZID=America/Los_Angeles:20241017T201500
DTSTAMP:20260419T132128
CREATED:20240515T015150Z
LAST-MODIFIED:20240620T212445Z
UID:51527-1729188000-1729196100@msca09aa.org
SUMMARY:Service Manual Study - 10/17/2024
DESCRIPTION:MAY — DECEMBER 2024: SERVICE MANUAL WORKSHOP\nHosted by various members within 93 Areas \nZoom link: https://us06web.zoom.us/j/87366078505\n\nPasscode: Area09p74 \n\nWHEN: Third Thursday of Every Month\nWHERE: “Virtual Only”\nMeeting ID: 873 6607 8505 Passcode: Area09p74\n6:00 p.m. Chapter 10: The General Service Office TBD\n6:20 p.m. Chapter 11: A.A. World Services\, Inc. Reilly K. Pacific Region Trustee\n7:15pm — 8:15pm PST MSCA 09 COMMITTEE SHARING SESSION
URL:https://msca09aa.org/event/service-manual-study-10-17-2024/
LOCATION:ZOOM Service Study Meeting
CATEGORIES:Alt Delegate,Service Study 3rd Thursday
ORGANIZER;CN="Alt Delegate - Manya W.":MAILTO:delegatealt@msca09aa.org
END:VEVENT
BEGIN:VEVENT
DTSTART;TZID=America/Los_Angeles:20241013T090000
DTEND;TZID=America/Los_Angeles:20241013T150000
DTSTAMP:20260419T132128
CREATED:20231204T055332Z
LAST-MODIFIED:20240916T221933Z
UID:10472-1728810000-1728831600@msca09aa.org
SUMMARY:Area Service Committee (ASC)
DESCRIPTION:Hosted by: District 21\nOct ASC\n\nJoin Zoom Meeting\nJoin Zoom Meeting\nhttps://us06web.zoom.us/j/89661666203?pwd=WQAQbswqxDwlCmbiMI852nxafbUJBA.1 \nZOOM INFO:\nMEETING I.D: 89661666203\nPASSWORD: P74service \n[su_row][su_column size=”1/4″ center=”no” class=””][/su_column] [su_column size=”1/4″ center=”no” class=””] [/su_column][/su_row] \n  \n  \n  \n\n  \n 
URL:https://msca09aa.org/event/area-service-committee-asc-20241013/
CATEGORIES:ASC
ATTACH;FMTTYPE=image/png:https://msca09aa.org/wp-content/uploads/2023/11/circlesoflove800x885-e1705107119501.png
END:VEVENT
BEGIN:VEVENT
DTSTART;TZID=America/Los_Angeles:20240926T190000
DTEND;TZID=America/Los_Angeles:20240926T203000
DTSTAMP:20260419T132128
CREATED:20240518T153502Z
LAST-MODIFIED:20240816T184201Z
UID:51630-1727377200-1727382600@msca09aa.org
SUMMARY:MSCA09 Treatment Committee
DESCRIPTION:Monthly Treatment Committee meeting that meets on Zoom\nevery 4th Thursday of the month at 7PM PT.\nMeeting ID: 854 3755 0762 / Passcode: 244472
URL:https://msca09aa.org/event/msca09-treatment-committee-2/
LOCATION:Treatment Committee Monthly Meeting on Zoom\, Meeting ID: 854 3755 0762 / Passcode: 244472
CATEGORIES:Standing-Committees,Treatment-Facilities-Committee
ATTACH;FMTTYPE=image/png:https://msca09aa.org/wp-content/uploads/2024/04/btg.png
END:VEVENT
BEGIN:VEVENT
DTSTART;TZID=America/Los_Angeles:20240919T180000
DTEND;TZID=America/Los_Angeles:20240919T201500
DTSTAMP:20260419T132128
CREATED:20240515T014921Z
LAST-MODIFIED:20240620T212349Z
UID:51525-1726768800-1726776900@msca09aa.org
SUMMARY:Service Manual Study - 9/19/2024
DESCRIPTION:MAY — DECEMBER 2024: SERVICE MANUAL WORKSHOP\nHosted by various members within 93 Areas \nZoom link: https://us06web.zoom.us/j/87366078505\n\nPasscode: Area09p74 \n\nWHEN: Third Thursday of Every Month\nWHERE: “Virtual Only”\nMeeting ID: 873 6607 8505 Passcode: Area09p74\n6:00 p.m. Chapter 8: The General Service Board – Scott H.\, Class B General Service Board Chair\n6:20 p.m. Chapter 9: The Board’s Operating Corporations – Billy N\, Past General Service Conference Trustee\n7:15pm — 8:15pm PST MSCA 09 COMMITTEE SHARING SESSION \n 
URL:https://msca09aa.org/event/service-manual-study-9-19-2024/
LOCATION:ZOOM Service Study Meeting
CATEGORIES:Alt Delegate,Service Study 3rd Thursday
ORGANIZER;CN="Alt Delegate - Manya W.":MAILTO:delegatealt@msca09aa.org
END:VEVENT
BEGIN:VEVENT
DTSTART;TZID=America/Los_Angeles:20240908T083000
DTEND;TZID=America/Los_Angeles:20240908T150000
DTSTAMP:20260419T132128
CREATED:20231204T061940Z
LAST-MODIFIED:20240815T161218Z
UID:10481-1725784200-1725807600@msca09aa.org
SUMMARY:MSCA09 Area Assembly
DESCRIPTION:Hosted by District 5\n\n\n\n\nYou are invited to a Zoom meeting.\nWhen: Sep 08\, 20240 8:30 AM Pacific Time (US and Canada)\nRegister in advance for this meeting: \n\nhttps://us06web.zoom.us/meeting/register/tZEufuCopjIrG9Xd-_lgCTJjKCO2RwyzinvO\nAfter registering\, you will receive a confirmation email containing information about joining the meeting.\n[su_row][su_column size=”1/4″ center=”no” class=””][/su_column] [su_column size=”1/4″ center=”no” class=””]  [/su_column][/su_row]
URL:https://msca09aa.org/event/msca09-area-assembly-20240908/
LOCATION:Valadez Middle School Academy\, 161 E La Jolla Street\, Placentia\, CA\, 92870\, United States
CATEGORIES:Assembly
ATTACH;FMTTYPE=image/png:https://msca09aa.org/wp-content/uploads/2024/08/msca09-Sept08-Assembly-EN.png
END:VEVENT
BEGIN:VEVENT
DTSTART;TZID=America/Los_Angeles:20240830T080000
DTEND;TZID=America/Los_Angeles:20240902T170000
DTSTAMP:20260419T132128
CREATED:20240514T030741Z
LAST-MODIFIED:20240514T050708Z
UID:51447-1725004800-1725296400@msca09aa.org
SUMMARY:2024 40th South Bay Roundup
DESCRIPTION:– https://rcs.squaredroot.net/convention/view/1
URL:https://msca09aa.org/event/2024-40th-south-bay-roundup/
LOCATION:Sonesta Hotel in the Redondo Beach Marina\, 300 N. Harbor Dr.\, Redondo Beach\, CA\, 90277
CATEGORIES:Special Event
ATTACH;FMTTYPE=image/png:https://msca09aa.org/wp-content/uploads/2024/05/Southbay-Roundup-2024.png
END:VEVENT
BEGIN:VEVENT
DTSTART;TZID=America/Los_Angeles:20240822T190000
DTEND;TZID=America/Los_Angeles:20240822T203000
DTSTAMP:20260419T132128
CREATED:20240426T050544Z
LAST-MODIFIED:20240816T181226Z
UID:13016-1724353200-1724358600@msca09aa.org
SUMMARY:MSCA09 Treatment Committee
DESCRIPTION:Title: \nDate: Aug 22\, 2024 @ 7PM PST\nMonthly Treatment Committee meeting that meets on Zoom every 4th Thursday of the month at 7PM PT. Meeting ID: 854 3755 0762 / Passcode: 244472
URL:https://msca09aa.org/event/msca09-treatment-committee/
LOCATION:Treatment Committee Monthly Meeting on Zoom\, Meeting ID: 854 3755 0762 / Passcode: 244472
CATEGORIES:Standing-Committees,Treatment-Facilities-Committee
ATTACH;FMTTYPE=image/png:https://msca09aa.org/wp-content/uploads/2024/04/btg.png
END:VEVENT
BEGIN:VEVENT
DTSTART;TZID=America/Los_Angeles:20240821T183000
DTEND;TZID=America/Los_Angeles:20240821T203000
DTSTAMP:20260419T132128
CREATED:20240729T221359Z
LAST-MODIFIED:20240731T194751Z
UID:52195-1724265000-1724272200@msca09aa.org
SUMMARY:District 08 - Delegate Report Back Workshop
DESCRIPTION:7 –8:30pm\nDoors Open at 6:30pm \nZOOM Information\n909-951-1212
URL:https://msca09aa.org/event/district-08-delegate-report-back-workshop/
LOCATION:Riverside Center for Spiritual Living\, 3891 Ridge Road\, Riverside\, CA\, 92501
CATEGORIES:Workshop
ATTACH;FMTTYPE=image/png:https://msca09aa.org/wp-content/uploads/2024/07/District08-delegate-shareback.png
END:VEVENT
BEGIN:VEVENT
DTSTART;TZID=America/Los_Angeles:20240815T180000
DTEND;TZID=America/Los_Angeles:20240815T201500
DTSTAMP:20260419T132128
CREATED:20240515T014638Z
LAST-MODIFIED:20240620T212311Z
UID:51523-1723744800-1723752900@msca09aa.org
SUMMARY:Service Manual Study - 8/15/2024
DESCRIPTION:MAY — DECEMBER 2024: SERVICE MANUAL WORKSHOP\nHosted by various members within 93 Areas \nZoom link: https://us06web.zoom.us/j/87366078505\n\nPasscode: Area09p74 \n\nWHEN: Third Thursday of Every Month\nWHERE: “Virtual Only”\nMeeting ID: 873 6607 8505 Passcode: Area09p74\n6:00 p.m. Chapter 6: The Annual General Service Conference –Mitchell B. Past Area 09 Delegate – Panel 72\n6:20 p.m. Chapter 7: Conference Committees –Rick W\, Current Delegate of Northeast Texas Area 65 and General Service Conference Chair of Grapevine and La Vina\n7:15pm — 8:15pm PST MSCA 09 COMMITTEE SHARING SESSION
URL:https://msca09aa.org/event/service-manual-study-8-15-2024/
LOCATION:ZOOM Service Study Meeting
CATEGORIES:Alt Delegate,Service Study 3rd Thursday
ORGANIZER;CN="Alt Delegate - Manya W.":MAILTO:delegatealt@msca09aa.org
END:VEVENT
BEGIN:VEVENT
DTSTART;TZID=America/Los_Angeles:20240811T090000
DTEND;TZID=America/Los_Angeles:20240811T150000
DTSTAMP:20260419T132128
CREATED:20231204T054541Z
LAST-MODIFIED:20240731T155610Z
UID:10463-1723366800-1723388400@msca09aa.org
SUMMARY:Area Service Committee (ASC)
DESCRIPTION:Hosted by: District 23\nAug ASC\n\nJoin Zoom Meeting\nJoin Zoom Meeting\nhttps://us06web.zoom.us/j/89661666203?pwd=WQAQbswqxDwlCmbiMI852nxafbUJBA.1 \nZOOM INFO:\nMEETING I.D: 89661666203\nPASSWORD: P74service \nAugust ASC Agenda – English\n[su_row][su_column size=”1/4″ center=”no” class=””][/su_column] [su_column size=”1/4″ center=”no” class=””] [/su_column][/su_row] \n  \n  \nAgendas and Motions page link.\n  \n\n  \n 
URL:https://msca09aa.org/event/area-service-committee-asc-20240811/
LOCATION:SKYVIEW EVENT CENTER\, 5257 Wineville Avenue\, Jurupa Valley\, CA\, CA\, 92752
CATEGORIES:ASC
ATTACH;FMTTYPE=image/png:https://msca09aa.org/wp-content/uploads/2024/07/asc-08-11-2024.png
END:VEVENT
BEGIN:VEVENT
DTSTART;TZID=America/Los_Angeles:20240810T130000
DTEND;TZID=America/Los_Angeles:20240810T160000
DTSTAMP:20260419T132128
CREATED:20240708T225400Z
LAST-MODIFIED:20240709T203022Z
UID:52064-1723294800-1723305600@msca09aa.org
SUMMARY:Secretary & Treasurer Workshop - Hybrid Event
DESCRIPTION:Hosted by districts 01 & 03\n  \n[su_row][su_column size=”1/4″ center=”no” class=””][/su_column] [su_column size=”1/4″ center=”no” class=””]   [/su_column][/su_row]
URL:https://msca09aa.org/event/secretary-treasurer-workshop-hybrid-event/
LOCATION:Southbay Alano Club\, 702 11th Pl\, Hermosa Beach\, CA\, 90254\, United States
CATEGORIES:Workshop
ATTACH;FMTTYPE=image/png:https://msca09aa.org/wp-content/uploads/2024/07/SecTreasWorkshopDistrict1.png
END:VEVENT
BEGIN:VEVENT
DTSTART;TZID=America/Los_Angeles:20240801T180000
DTEND;TZID=America/Los_Angeles:20240801T193000
DTSTAMP:20260419T132128
CREATED:20240514T030559Z
LAST-MODIFIED:20240731T023001Z
UID:51445-1722535200-1722540600@msca09aa.org
SUMMARY:PAI Workshop - 6:00pm PST
DESCRIPTION:Meeting ID: 883-9037-5258 Passcode: 827826 \nHosted by:  Reily K.\, Pacific Region Trustee \nGo to the PAI Information page for more information. \n  \n[su_row][su_column size=”1/4″ center=”no” class=””][/su_column] [su_column size=”1/4″ center=”no” class=””]  [/su_column][/su_row]
URL:https://msca09aa.org/event/pai-workshop-600pm-pst/
LOCATION:ZOOM PAI Workshop\, Meeting ID: 883-9037-5258 Passcode: 827826
CATEGORIES:Workshop
ATTACH;FMTTYPE=image/png:https://msca09aa.org/wp-content/uploads/2024/06/PAI_Workshop_v03.png
END:VEVENT
BEGIN:VEVENT
DTSTART;TZID=America/Los_Angeles:20240718T180000
DTEND;TZID=America/Los_Angeles:20240718T201500
DTSTAMP:20260419T132128
CREATED:20240515T014128Z
LAST-MODIFIED:20240620T212211Z
UID:51518-1721325600-1721333700@msca09aa.org
SUMMARY:Service Manual Study - 7/18/2024
DESCRIPTION:MAY — DECEMBER 2024: SERVICE MANUAL WORKSHOP\nHosted by various members within 93 Areas \nZoom link: https://us06web.zoom.us/j/87366078505\n\nPasscode: Area09p74 \n\nWHEN: Third Thursday of Every Month\nWHERE: “Virtual Only” \n\nMeeting ID: 873 6607 8505 Passcode: Area09p74 \n\n6:00 p.m. Chapter 4: The Area Committee Deborah S. Area 17 Alternate Delegate\n6:20 p.m. Chapter 5: The Delegate Jeryl T. Past Area 09 Delegate – Panel 62te\n7:15pm — 8:15pm PST MSCA 09 COMMITTEE SHARING SESSION
URL:https://msca09aa.org/event/service-manual-study-7-18-2024/
LOCATION:ZOOM Service Study Meeting
CATEGORIES:Alt Delegate,Service Study 3rd Thursday
ORGANIZER;CN="Alt Delegate - Manya W.":MAILTO:delegatealt@msca09aa.org
END:VEVENT
BEGIN:VEVENT
DTSTART;TZID=America/Los_Angeles:20240712T080000
DTEND;TZID=America/Los_Angeles:20240714T170000
DTSTAMP:20260419T132128
CREATED:20240115T202724Z
LAST-MODIFIED:20240626T174510Z
UID:11250-1720771200-1720976400@msca09aa.org
SUMMARY:Pacific Region Forum July 12 -14
DESCRIPTION:  \nRegistration link: CLICK HERE \n[su_row][su_column size=”1/3″ center=”no” class=””]2024 Pacific Region Forum  – Program[/su_column] [su_column size=”1/8″ center=”no” class=””] ENGLISH [/su_column] \n[su_column size=”1/8″ center=”no” class=””] SPANISH [/su_column] \n[/su_row] \n[su_row][su_column size=”1/3″ center=”no” class=””] FAQ for a great RF experience [/su_column] [su_column size=”1/8″ center=”no” class=””] ENGLISH [/su_column] \n[su_column size=”1/8″ center=”no” class=””] SPANISH [/su_column] \n[/su_row] \n[su_row][su_column size=”1/8″ center=”no” class=””][/su_column] [su_column size=”1/8″ center=”no” class=””][/su_column][/su_row] \n 
URL:https://msca09aa.org/event/pacific-region-forum-july-12-14/
LOCATION:Westgate Resort and Casino\, Las Vegas\, NV\, United States
CATEGORIES:Forum,Special Event
ATTACH;FMTTYPE=image/png:https://msca09aa.org/wp-content/uploads/2024/05/PACIFIC-REG-Forum-2024.png
END:VEVENT
END:VCALENDAR