BEGIN:VCALENDAR
VERSION:2.0
PRODID:-//Mid-Southern California Area 09 - ECPv6.15.20//NONSGML v1.0//EN
CALSCALE:GREGORIAN
METHOD:PUBLISH
X-WR-CALNAME:Mid-Southern California Area 09
X-ORIGINAL-URL:https://msca09aa.org
X-WR-CALDESC:Events for Mid-Southern California Area 09
REFRESH-INTERVAL;VALUE=DURATION:PT1H
X-Robots-Tag:noindex
X-PUBLISHED-TTL:PT1H
BEGIN:VTIMEZONE
TZID:America/Los_Angeles
BEGIN:DAYLIGHT
TZOFFSETFROM:-0800
TZOFFSETTO:-0700
TZNAME:PDT
DTSTART:20200308T100000
END:DAYLIGHT
BEGIN:STANDARD
TZOFFSETFROM:-0700
TZOFFSETTO:-0800
TZNAME:PST
DTSTART:20201101T090000
END:STANDARD
BEGIN:DAYLIGHT
TZOFFSETFROM:-0800
TZOFFSETTO:-0700
TZNAME:PDT
DTSTART:20210314T100000
END:DAYLIGHT
BEGIN:STANDARD
TZOFFSETFROM:-0700
TZOFFSETTO:-0800
TZNAME:PST
DTSTART:20211107T090000
END:STANDARD
BEGIN:DAYLIGHT
TZOFFSETFROM:-0800
TZOFFSETTO:-0700
TZNAME:PDT
DTSTART:20220313T100000
END:DAYLIGHT
BEGIN:STANDARD
TZOFFSETFROM:-0700
TZOFFSETTO:-0800
TZNAME:PST
DTSTART:20221106T090000
END:STANDARD
BEGIN:DAYLIGHT
TZOFFSETFROM:-0800
TZOFFSETTO:-0700
TZNAME:PDT
DTSTART:20230312T100000
END:DAYLIGHT
BEGIN:STANDARD
TZOFFSETFROM:-0700
TZOFFSETTO:-0800
TZNAME:PST
DTSTART:20231105T090000
END:STANDARD
END:VTIMEZONE
BEGIN:VEVENT
DTSTART;VALUE=DATE:20220410
DTEND;VALUE=DATE:20220411
DTSTAMP:20260420T155156
CREATED:20220220T174248Z
LAST-MODIFIED:20220220T174248Z
UID:6400-1649548800-1649635199@msca09aa.org
SUMMARY:MSCA Area 09 Committee Chair Quarterly Check-In
DESCRIPTION:
URL:https://msca09aa.org/event/msca-area-09-committee-chair-quarterly-check-in/
LOCATION:ZOOM\, United States
CATEGORIES:Alt Delegate
END:VEVENT
BEGIN:VEVENT
DTSTART;TZID=America/Los_Angeles:20220409T080000
DTEND;TZID=America/Los_Angeles:20220409T150000
DTSTAMP:20260420T155156
CREATED:20221226T192810Z
LAST-MODIFIED:20221226T192810Z
UID:7889-1649491200-1649516400@msca09aa.org
SUMMARY:MSCA09 Pre-Conference
DESCRIPTION:MSCA09 Pre-Conference\nHosted by District 18
URL:https://msca09aa.org/event/msca09-pre-conference/
CATEGORIES:Assembly,Special Event
ATTACH;FMTTYPE=image/png:https://msca09aa.org/wp-content/uploads/2022/12/Circles_Chart_B_EN.png
END:VEVENT
BEGIN:VEVENT
DTSTART;TZID=America/Los_Angeles:20220320T090000
DTEND;TZID=America/Los_Angeles:20220320T130000
DTSTAMP:20260420T155156
CREATED:20220314T170259Z
LAST-MODIFIED:20220314T170406Z
UID:6657-1647766800-1647781200@msca09aa.org
SUMMARY:Pre-Conference Boot Camp
DESCRIPTION:Pre-Conference Boot Camp \nIn Person\nWalton Intermediate School\n12181 Burro Street\nGarden Grove\, CA 92840 \nOnline\nZOOM Meeting ID: 817 1860 2268\nPasscode: Bootcamp22
URL:https://msca09aa.org/event/pre-conference-boot-camp/
LOCATION:Walton Intermediate School\, 12181 Buaro St.\, Garden Grove\, CA\, 92840\, United States
CATEGORIES:Special Event
ATTACH;FMTTYPE=image/png:https://msca09aa.org/wp-content/uploads/2022/03/Screen-Shot-2022-03-14-at-9.54.35-AM.png
END:VEVENT
BEGIN:VEVENT
DTSTART;TZID=America/Los_Angeles:20220317T190000
DTEND;TZID=America/Los_Angeles:20220317T200000
DTSTAMP:20260420T155156
CREATED:20220220T165543Z
LAST-MODIFIED:20220220T172206Z
UID:6360-1647543600-1647547200@msca09aa.org
SUMMARY:MSCA Area 09 Service Workshop
DESCRIPTION:Third Thursday of Every Month \nMeeting ID:  873 6607 8505\nPasscode: Area09p72
URL:https://msca09aa.org/event/msca-area-09-service-workshop/
LOCATION:ZOOM\, United States
CATEGORIES:Alt Delegate
ATTACH;FMTTYPE=image/png:https://msca09aa.org/wp-content/uploads/2022/02/image0-2.png
END:VEVENT
BEGIN:VEVENT
DTSTART;TZID=America/Los_Angeles:20220313T083000
DTEND;TZID=America/Los_Angeles:20220313T143000
DTSTAMP:20260420T155156
CREATED:20210926T204216Z
LAST-MODIFIED:20220311T180438Z
UID:5384-1647160200-1647181800@msca09aa.org
SUMMARY:Area Service Committee (ASC)
DESCRIPTION:HYBRID MSCA Area 09 Area Service Committee\n(ASC-2)\nSunday\, March 13\, 2022 –  VENUE CHANGE \n\nHÍBRIDO Área 09 de MSCA Comité de Servicio de Área (ASC-2)\nDomingo\, 13 de Marzo 2022 – CAMBIO DE SEDE \nThis email is to inform the Area 09 membership that the in-person location for the March 13\, 2022 Area Service Committee (ASC-2) meeting has been changed. The new meeting location information is below.  (REMEMBER THAT IT IS DAYLIGHT SAVINGS TIME! SET YOUR CLOCKS FORWARD!) \n—— \nEste correo electrónico es para informar a los miembros del Área 09 que se ha cambiado la ubicación en persona para la reunión del Comité de Servicio de Área (ASC-2) del 13 de marzo de 2022. La nueva información sobre la ubicación de la reunión se encuentra a continuación. (¡RECUERDE QUE ES EL HORARIO DE VERANO! ¡ADELANTA TUS RELOJES!)\n\n\n\n\n\n\n\n\n\n\n\n\n\n\n\n\n\n\n\n\n\n\n\n\n\n\n\n\n\n\n\n\n1. HYBRID MSCA 09 Area Service Committee (ASC-2) Sunday\, March 13\, 2022 / Comité de Servicio de Área (ASC-2) HÍBRIDO MSCA 09 Domingo 13 de marzo de 2022\n\nVENUE CHANGE: IN-PERSON LOCATION / CAMBIO DE SEDE UBICACIÓN EN PERSONA\n\nHosted by District 5 / Anfitriona por el Distrito 5\nNewport Beach Civic Center\n100 Civic Center Drive\nNewport Beach\, CA 92660\nTime / Hora (REMEMBER IT IS DAYLIGHT SAVINGS TIME! SET YOUR CLOCKS FORWARD!)\n(¡RECUERDE QUE ES EL HORARIO DE VERANO! ¡ADELANTA TUS RELOJES!) \n\n8:00 AM In-Person Registration / Registro en persona\n9:00 AM Meeting begins / Comienza la reunión \nIMPORTANT: Please abide by mask and social distancing requirements.\nIMPORTANTE: Cumpla con los requisitos de máscara y distanciamiento social.  \n\nVIRTUAL VIA ZOOM / VIRTUAL A TRAVÉS DEL ZOOM\nRegister in advance for this meeting / Regístrese con anticipación para esta reunión:\nhttps://us06web.zoom.us/meeting/register/tZIucOigrzovG9zPnaStFQPjj5su0R6NMrOt \n  \nTime / Hora\n8:30 AM Waiting room opens\, Zoom visiting / Se abre la sala de espera\, visitas con Zoom\n9:00 AM Meeting begins / Comienza la reunión\n\n\n\n\n\n\n\n\n\n\n\n\n\n\n\nUPDATED March 2022 ASC Agenda (English)\n\n\n\n\n\n\n\n\n\n\n\n\n\n\nACTUALIZADO Agenda del ASC marzo 2022 (Español)\n\n\n\n\n\n\n\n\n\n\n\n\n\n\n\n\n\n\n\n\n\n\n\n\n\n\n\n\n\nOther Useful Links / Otros enlaces útiles\nPrevious Area 09 Email Attachments (Archivos adjuntos de correo electrónico del Área anterior 09)\nMSCA 09 Area Website (Sitio web del área MSCA 09)\nAA Website (Sitio web de AA) \nCONFIDENTIAL: MAY CONTAIN FULL NAMES OF AA MEMBERS. DO NOT POST. FORWARD WITH CARE. \nCONFIDENCIAL: PUEDE CONTENER LOS NOMBRES COMPLETOS DE LOS MIEMBROS DE AA. NO PUBLICAR. ADELANTE CON CUIDADO.
URL:https://msca09aa.org/event/area-service-committee-asc-8/
LOCATION:Newport Beach Civic Center\, 100 Civic Center Drive\, Newport Beach\, CA\, 92660\, United States
CATEGORIES:ASC
END:VEVENT
BEGIN:VEVENT
DTSTART;VALUE=DATE:20220304
DTEND;VALUE=DATE:20220307
DTSTAMP:20260420T155156
CREATED:20210821T221433Z
LAST-MODIFIED:20220302T192540Z
UID:4978-1646352000-1646611199@msca09aa.org
SUMMARY:PRAASA 2022
DESCRIPTION:PRAASA 2022 is going virtual! Please Join Us March 4-6\, 2022\nRegister Online Now!\n**Important Update**\n \nIn the interest of safety\, unity\, and the common welfare of all the participating Areas in the region\, we have made the difficult but important decision to facilitate the entire PRAASA 2022 as a virtual-only event.  Though we wish we could see everyone in person\, we plan to do our best to carry the message through remote meeting technology to bring the magic of PRAASA to all who wish to attend next March 4-6\, 2022. \nThank you for your patience as we have worked through this difficult process.  We are excited to see you all in the remote meetings next March! \n\nWHAT IS PRAASA? It is 3 day program which includes panel presentations on the General Service Conference theme and agenda items\, roundtable discussions for members to network with others who share their service position\, open mic sharing\, questions and Al-Anon participation. \nWHAT IS PRAASA’S PURPOSE? The purpose of PRAASA is to develop greater unity among the members\, groups\, and Areas of the Pacific Region; to encourage the exchange of ideas and experiences; and to provide an opportunity for members to discuss pertinent aspects of AA. The Assembly and the PRAASA committee should always foster the Recovery\, Unity and Service legacies of AA. \nAN EXPERIENCE YOU MUST NOT MISS! Come join over 1\,500 excited AA members from all over the Pacific Region and be part of this unforgettable event. ASL and Spanish translation available. \n\nPRINTED SCHEDULES: PRAASAProgram-English-2022 / PRAASAProgram-Spanish-2022 \n 
URL:https://msca09aa.org/event/praasa-2022-save-the-date/
LOCATION:ZOOM\, United States
CATEGORIES:Special Event
ATTACH;FMTTYPE=image/png:https://msca09aa.org/wp-content/uploads/2021/08/PRAASA2022_seal_v2_tan_15perc.png
END:VEVENT
BEGIN:VEVENT
DTSTART;TZID=America/Los_Angeles:20220213T083000
DTEND;TZID=America/Los_Angeles:20220213T143000
DTSTAMP:20260420T155156
CREATED:20210926T204104Z
LAST-MODIFIED:20220119T230352Z
UID:5382-1644741000-1644762600@msca09aa.org
SUMMARY:Area Service Committee (ASC) Hybrid
DESCRIPTION:Hosted by District 18 \n————–\n\nRegister in advance for this meeting: / Regístrese con anticipación para esta reunión: \nhttps://us06web.zoom.us/meeting/register/tZYkf-ypqj0vE9UHAHHt5_H36apA-C8z406u \nAfter registering\, you will receive a confirmation email containing information about joining the meeting. / Después de registrarse\, recibirá un correo electrónico de confirmación que contiene información sobre cómo unirse a la reunión. \n—————
URL:https://msca09aa.org/event/area-service-committee-asc-7/
LOCATION:Walton Intermediate School\, 12181 Buaro St.\, Garden Grove\, CA\, 92840\, United States
CATEGORIES:ASC
END:VEVENT
BEGIN:VEVENT
DTSTART;TZID=America/Los_Angeles:20220109T090000
DTEND;TZID=America/Los_Angeles:20220109T150000
DTSTAMP:20260420T155156
CREATED:20210926T203909Z
LAST-MODIFIED:20211103T182636Z
UID:5380-1641718800-1641740400@msca09aa.org
SUMMARY:MSCA 09 Area Assembly (Hybrid)
DESCRIPTION:This is the first Assembly of Panel 72 and will be held as a hybrid session.\n\n\nJanuary 10\, 2022 Assembly  @ 8:30 a.m. – 3 p.m.\nHosted by District 12\n\n\n\n\n\n\nUFCW Local 324\n8530 Stanton Avenue Buena Park\, CA 90620\n\nhybrid event\n\n\n\n\n\nRegister in advance for this meeting:\nhttps://us06web.zoom.us/meeting/register/tZMlcO-hqT0tG9Pxf3rzncBVCVa-wLte-mgA
URL:https://msca09aa.org/event/msca-09-area-assembly/
LOCATION:UFCW Local #324 Union Hall\, 8550 Stanton Avenue\, Buena Park\, CA\, 90622\, United States
CATEGORIES:Assembly
END:VEVENT
BEGIN:VEVENT
DTSTART;TZID=America/Los_Angeles:20220102T110000
DTEND;TZID=America/Los_Angeles:20220102T120000
DTSTAMP:20260420T155156
CREATED:20211227T225837Z
LAST-MODIFIED:20211227T225837Z
UID:6010-1641121200-1641124800@msca09aa.org
SUMMARY:Area Registrar Office Hours
DESCRIPTION:Thursdays @ 3PM \nOR \nSundays @ 11AM \n****************************** \nZoom Meeting ID \n985 665 2064 \nMeeting Password \n042582
URL:https://msca09aa.org/event/area-registrar-office-hours-2/
LOCATION:ZOOM\, United States
CATEGORIES:Meeting
ORGANIZER;CN="Registrar":MAILTO:area09registrar@gmail.com
END:VEVENT
BEGIN:VEVENT
DTSTART;TZID=America/Los_Angeles:20211230T150000
DTEND;TZID=America/Los_Angeles:20211230T160000
DTSTAMP:20260420T155156
CREATED:20211227T225728Z
LAST-MODIFIED:20211227T225728Z
UID:6007-1640876400-1640880000@msca09aa.org
SUMMARY:Area Registrar Office Hours
DESCRIPTION:Thursdays @ 3PM \nOR \nSundays @ 11AM \n****************************** \nZoom Meeting ID \n985 665 2064 \nMeeting Password \n042582
URL:https://msca09aa.org/event/area-registrar-office-hours/
LOCATION:ZOOM\, United States
CATEGORIES:Meeting
ORGANIZER;CN="Registrar":MAILTO:area09registrar@gmail.com
END:VEVENT
BEGIN:VEVENT
DTSTART;TZID=America/Los_Angeles:20211218T140000
DTEND;TZID=America/Los_Angeles:20211218T163000
DTSTAMP:20260420T155156
CREATED:20211128T204108Z
LAST-MODIFIED:20211128T205842Z
UID:5829-1639836000-1639845000@msca09aa.org
SUMMARY:33rd Annual Heritage Day
DESCRIPTION:El comite de Archivos\ndel Area 09 medio – sure de California presenta\n33avo Anual dia de la Herencia\nSabado 18 de Diciembre 2021\n\nDistrito #24 Anfitrion\n330 N State College Blvd.\nAnaheim\, CA 92806\n2:00 – 4:00 pm\nAn in-person event (no online). Spanish-to-English translation will be available.\n\nEl Dia de la Herencia es un evento anual presentado por el Comite de Archivos del Area 09.  El Comite pide ayuda de un distrito para organizar el evento.  Este ano tenemos el honor de contar con el Distrito 24 como distrito anfitrion.  El proposito del evento es ayudar a preservar la historia de nuestra Area eventrevistando a miembros del AREA con mas anos de Sobriedad.  El evento consta de cuatro veteranos en AA con (30 anos o mas) que se les entrevista para saber su experiencia en sus primeros anos en AA. \nEl evento es grabado por el Comite de Comunicacicones del Area.  Todas la grabaciones de los eventos pasados de Dia de la Herencia estan disponibles para ser escuchados en los Archivos. \n  \nFlyer:  Flyer-Heritage-Day-Anaheim-CA-2021.12.18
URL:https://msca09aa.org/event/33rd-annual-heritage-day/
LOCATION:330 N State College Blvd\, 330 N State College Blvd.\, Anaheim\, CA\, 92806\, United States
CATEGORIES:Special Event
END:VEVENT
BEGIN:VEVENT
DTSTART;TZID=America/Los_Angeles:20211218T080000
DTEND;TZID=America/Los_Angeles:20211218T120000
DTSTAMP:20260420T155156
CREATED:20211115T004059Z
LAST-MODIFIED:20211115T004447Z
UID:5797-1639814400-1639828800@msca09aa.org
SUMMARY:26 Anniversary Committee of La Vina - Select the Logo & Theme Event
DESCRIPTION:The 26 Anniversary Committee of La Vina\, from Las Vegas NV\,\nwould love to invite you to participate in drawing the Logo and\nTheme for our annual Regional Event. \n“It is suggested that the drawing includes Illustration\, message\,\nthoughts of our Magazine La Vina of AA Deadline to submit your drawing and theme will be \nDate:  December 18th\, 2021\nTime: 8:00-12:00pm \nThere will be a: writing work shop\, a report from the Hosting committee and the\nwinner of the logo and theme will be announced. \n(Coffee\, donuts\, waters\, sodas\, and lunch after the meeting) \nIf you need more information or if you have any questions please call at anytime\nHosting Committee Chair: Leo M. (702) 303-9540 Secretary Ursula F. (702) 861-1377 \nFlyer:  Flyer Lema y Emblema Espanol \nFlyer:  Final Version Rivised Ingles \n 
URL:https://msca09aa.org/event/26-anniversary-committee-of-la-vina-logo-and-theme-event/
LOCATION:Grupo Libertad AA\, 1940 E. Sahara Ave. Suite D\, Las Vegas\, NV\, 89104\, United States
END:VEVENT
BEGIN:VEVENT
DTSTART;TZID=America/Los_Angeles:20211212T083000
DTEND;TZID=America/Los_Angeles:20211212T143000
DTSTAMP:20260420T155156
CREATED:20201222T062139Z
LAST-MODIFIED:20211103T182223Z
UID:1215-1639297800-1639319400@msca09aa.org
SUMMARY:Area Service Assembly (ASC) - Hybrid
DESCRIPTION:Hosted by District 10\n\nArea Service Assembly (ASC)\nDec. 12\, 2021\n@ 8:30 am – 2:30 pm\n\n\n\n\nWalton Intermediate School\n12181 Buaro St.\nGarden Grove\, CA 92840\n\n\n\n\n\nhybrid event\nZOOM conference call: Register in advance for this meeting:\nhttps://us06web.zoom.us/meeting/register/tZwod–upjouG9eRYrXtKzID4yWD-Rq-val1
URL:https://msca09aa.org/event/area-service-assembly-asc/
LOCATION:Walton Intermediate School\, 12181 Buaro St.\, Garden Grove\, CA\, 92840\, United States
CATEGORIES:ASC
END:VEVENT
BEGIN:VEVENT
DTSTART;TZID=America/Los_Angeles:20211113T130000
DTEND;TZID=America/Los_Angeles:20211113T163000
DTSTAMP:20260420T155156
CREATED:20211007T185557Z
LAST-MODIFIED:20211007T185557Z
UID:5486-1636808400-1636821000@msca09aa.org
SUMMARY:Traditions Workshop
DESCRIPTION:Hosted by GSR’s of District 10\nFREE Workshop with speakers and roundtable discussions on\nTraditions 1\, 3\, 4\, 5\, and 12\n\nSaturday\nNovember 13\, 2021\n1-4:30pm\n \nNo shared food or drinks.
URL:https://msca09aa.org/event/traditions-workshop/
LOCATION:Recovery Road\, 2370 E Orangethorpe Ave\, Anaheim\, CA\, 92831\, United States
CATEGORIES:Workshop
ATTACH;FMTTYPE=image/jpeg:https://msca09aa.org/wp-content/uploads/2021/10/Traditions-Workshop-Flyer.jpg
END:VEVENT
BEGIN:VEVENT
DTSTART;TZID=America/Los_Angeles:20211113T090000
DTEND;TZID=America/Los_Angeles:20211113T140000
DTSTAMP:20260420T155156
CREATED:20201222T062036Z
LAST-MODIFIED:20211031T184847Z
UID:1213-1636794000-1636812000@msca09aa.org
SUMMARY:Area 09 Servathon (Hybrid)
DESCRIPTION:Servathon\n\nSaturday\, November 13\, 2021\n9:00 a.m. – 2:00 p.m.\n\nWest Torrance High School\n20401 Victor St.\nTorrance 90503\nPark at the corner lot on Del Amo 8/vd. and Víctor St.\n\n\n\n\nRegister in advance for this meeting:\nhttps://us06web.zoom.us/meeting/register/tZIvde-trDktHNeLe8nVSjYjIow8zEs1TUmn\n\n\n\n\n\nFlyer:  Servathon-MSCA09-English-2021\nFlyer: Servathon-MSCA09-Spanish-2021
URL:https://msca09aa.org/event/area-09-servathon/
LOCATION:West Torrance High School\, 20401 Victor Street\, Torrance\, CA\, 90503\, United States
CATEGORIES:Special Event
END:VEVENT
BEGIN:VEVENT
DTSTART;TZID=America/Los_Angeles:20211107T080000
DTEND;TZID=America/Los_Angeles:20211107T150000
DTSTAMP:20260420T155156
CREATED:20201222T061918Z
LAST-MODIFIED:20211031T183815Z
UID:1211-1636272000-1636297200@msca09aa.org
SUMMARY:Area Service Committee (ASC) - Hybrid
DESCRIPTION:Hosted by District 19\nHYBRID Event\nRegister in advance for this meeting:\nhttps://us06web.zoom.us/meeting/register/tZ0rcO2ppjoqG9RzJF4wsEkXaCa3tO0vjiyx\n\n\n\n\n\n\n\nJurupa Community Center\nJurupa Area Recreation & Park District\n4810 Pedley Rd.\, Jurupa Valley CA 92509
URL:https://msca09aa.org/event/area-service-committee-asc-6/
LOCATION:Jurupa Community Center\, 4810 Pedley Road\, Jurupa Valley\, CA\, 92509\, United States
CATEGORIES:ASC
END:VEVENT
BEGIN:VEVENT
DTSTART;TZID=America/Los_Angeles:20211106T130000
DTEND;TZID=America/Los_Angeles:20211106T160000
DTSTAMP:20260420T155156
CREATED:20211004T183205Z
LAST-MODIFIED:20211011T224750Z
UID:5464-1636203600-1636214400@msca09aa.org
SUMMARY:Women Pioneers of A.A. Presentation (Hybrid)
DESCRIPTION:District 7 & Area 9 Archives presents\nWOMEN PIONEERS OF A.A. PRESENTATION\nDiscover the Women That Came Before Us\n\nSaturday\, November 6\, 2021\n1-4pm\nCome for Fun\, Facts and Fellowship!\n\nGarden Grove Alano Club\n(714) 534-2244\n9845 Belfast Drive\nGarden Grove\, CA 92844\n\n\nJoin Zoom Meeting\nhttps://us06web.zoom.us/j/83010476000?pwd=WkNsWWh6U2g0dnh5a2hmaWZhamJIdz09 \nMeeting ID: 830 1047 6000\nPasscode: pioneers
URL:https://msca09aa.org/event/women-pioneers-of-a-a-presentation/
LOCATION:Garden Grove Alano Club\, 9845 Belfast Drive\, Garden Grove\, CA\, 92844\, United States
CATEGORIES:Special Event
ATTACH;FMTTYPE=image/jpeg:https://msca09aa.org/wp-content/uploads/2021/10/Women Pioneers of AA 11-6-21 MITCHELL-scaled.jpg
END:VEVENT
BEGIN:VEVENT
DTSTART;TZID=America/Los_Angeles:20211010T080000
DTEND;TZID=America/Los_Angeles:20211010T150000
DTSTAMP:20260420T155156
CREATED:20201222T061759Z
LAST-MODIFIED:20211004T181618Z
UID:1209-1633852800-1633878000@msca09aa.org
SUMMARY:MSCA 09 Election Assembly (Hybrid)
DESCRIPTION:The October Area election will be held as a hybrid – with in-person and Zoom.  Members eligible to stand for area office and members eligible to vote can attend via Zoom to be part of the Election Assembly. \nArea 09 Election Assembly \nUFCW Local #324 Union Hall\,\n8550 Stanton Avenue\,\nBuena Park California 90622\nGoogle Maps:  https://goo.gl/maps/FY6ZhBxE7gx4fXJ2A\nThe Union Hall will open at 8:00 a.m. for in-person registration. \n\nZOOM conference call:    https://zoom.us/j/84577117247\nPassword: 451422\n\nThe Zoom room will open at 8:00 a.m. to allow for people to be identified as eligible or as a visitor.
URL:https://msca09aa.org/event/msca-09-elections/
LOCATION:UFCW Local #324 Union Hall\, 8550 Stanton Avenue\, Buena Park\, CA\, 90622\, United States
CATEGORIES:Assembly
END:VEVENT
BEGIN:VEVENT
DTSTART;VALUE=DATE:20210917
DTEND;VALUE=DATE:20210920
DTSTAMP:20260420T155156
CREATED:20210515T223726Z
LAST-MODIFIED:20210515T223726Z
UID:4080-1631836800-1632095999@msca09aa.org
SUMMARY:NAATW 2021 Virtual Workshop
DESCRIPTION:The 2021 National AA Technology Workshop will host our annual Workshop on the weekend of Sep 17-19\, 2021. Expect two full days of content. \nThe workshop will be online only. While we hoped to be in person this year\, the Steering Committee concluded that the health and financial risks were just too high. Given the organizing time it takes to put on an event\, we needed to make this decision now and chose the safe road. \nWe are excited to see how we have grown and thrived. Join us as we share and explore where technology has changed\, and stayed the same\, this year. \nStay tuned for an email request for volunteers\, which we will send out shortly. \nDoug G\nNAATW 2021 Chair\nchair@naatw.org
URL:https://msca09aa.org/event/naatw-2021-virtual-workshop/
LOCATION:ZOOM\, United States
CATEGORIES:Special Event
ORGANIZER;CN="NAATW":MAILTO:chair@naatw.org
END:VEVENT
BEGIN:VEVENT
DTSTART;TZID=America/Los_Angeles:20210912T083000
DTEND;TZID=America/Los_Angeles:20210912T143000
DTSTAMP:20260420T155156
CREATED:20201222T061658Z
LAST-MODIFIED:20210821T222650Z
UID:1207-1631435400-1631457000@msca09aa.org
SUMMARY:Area 09 Assembly
DESCRIPTION:September Area 09 Assembly\nHybrid meeting (in-person and online options)\n\nHosted by District 5\n\nZOOM conference call: Register in advance for this meeting:\nhttps://us06web.zoom.us/meeting/register/tZItcu-grT8vGN1i3C6iVlh3qFxrh1ByMpKQ\n 
URL:https://msca09aa.org/event/area-09-assembly/
LOCATION:Walton Intermediate School\, 12181 Buaro St.\, Garden Grove\, CA\, 92840\, United States
CATEGORIES:Assembly
END:VEVENT
BEGIN:VEVENT
DTSTART;TZID=America/Los_Angeles:20210808T083000
DTEND;TZID=America/Los_Angeles:20210808T143000
DTSTAMP:20260420T155156
CREATED:20201222T061600Z
LAST-MODIFIED:20210715T212700Z
UID:1205-1628411400-1628433000@msca09aa.org
SUMMARY:Area Service Committee (ASC)
DESCRIPTION:MSCA 09 Area Service Committee Meeting – August 8\, 2021\n\nWhen: Aug 8\, 2021 08:30 AM Pacific Time (US and Canada)Register in advance for this meeting:\nhttps://zoom.us/meeting/register/tJYud-2qqT8rHtU1zqfrylL65Pq_faij_99W\n\nAfter registering\, you will receive a confirmation email containing information about joining the meeting.
URL:https://msca09aa.org/event/area-service-committee-asc-5/
LOCATION:ZOOM\, United States
CATEGORIES:ASC
END:VEVENT
BEGIN:VEVENT
DTSTART;TZID=America/Los_Angeles:20210731T090000
DTEND;TZID=America/Los_Angeles:20210731T120000
DTSTAMP:20260420T155156
CREATED:20210511T182814Z
LAST-MODIFIED:20210623T200142Z
UID:4068-1627722000-1627732800@msca09aa.org
SUMMARY:4-Area DCM Sharing Session
DESCRIPTION:4-Area DCM Sharing Session\nDelegate Area’s 05 – 08 – 09 & 93\n  \nDate:  Saturday\, July 31\, 2021 \nTime:  9am to 12pm PDT \nZoom:  919 2712 1685 \nPasscode:  2021DCM4 \n  \nFlyer:  4AreaDCMSharing_2021FlyerRev2 \nFlyer:  4area-DCM-Sharing-Spanish-2021.07.31
URL:https://msca09aa.org/event/4-area-dcm-sharing-session/
LOCATION:ZOOM\, United States
CATEGORIES:Special Event
END:VEVENT
BEGIN:VEVENT
DTSTART;VALUE=DATE:20210711
DTEND;VALUE=DATE:20210712
DTSTAMP:20260420T155156
CREATED:20201222T061455Z
LAST-MODIFIED:20210702T202016Z
UID:1203-1625961600-1626047999@msca09aa.org
SUMMARY:FORO
DESCRIPTION:FORO – July 11\, 2021 – Online Meeting\nRegister in advance for this meeting:\nhttps://zoom.us/meeting/register/tJMvdO2grD0tEtzxyDF8HZi5riD6l1jCXXf0\n\nhttp://zoom.us/97234826788\npassword:  FORO\n\nUpdated:  4AreaDCMSharing_2021Program-English\nUpdated:  4AreaDCMSharing_2021Program_EspanŞol
URL:https://msca09aa.org/event/foro/
LOCATION:ZOOM\, United States
CATEGORIES:Special Event
END:VEVENT
BEGIN:VEVENT
DTSTART;TZID=America/Los_Angeles:20210613T083000
DTEND;TZID=America/Los_Angeles:20210613T143000
DTSTAMP:20260420T155156
CREATED:20201222T061352Z
LAST-MODIFIED:20210528T220630Z
UID:1201-1623573000-1623594600@msca09aa.org
SUMMARY:Area Service Committee (ASC)
DESCRIPTION:MSCA 09 June ASC – June 13\, 2021 – Online Meeting\nWhen: Jun 13\, 2021 08:30 AM Pacific Time (US and Canada) \nRegister in advance for this meeting:\nhttps://zoom.us/meeting/register/tJEtdeqoqTotHtW0ijPz7l7QistkO4yFs0hA \nAfter registering\, you will receive a confirmation email containing information about joining the meeting.
URL:https://msca09aa.org/event/area-service-committee-asc-4/
LOCATION:ZOOM\, United States
CATEGORIES:ASC
END:VEVENT
BEGIN:VEVENT
DTSTART;TZID=America/Los_Angeles:20210612T100000
DTEND;TZID=America/Los_Angeles:20210612T130000
DTSTAMP:20260420T155156
CREATED:20210531T182116Z
LAST-MODIFIED:20210531T194013Z
UID:4207-1623492000-1623502800@msca09aa.org
SUMMARY:A.A. Concepts:  9 thru 12 Workshop
DESCRIPTION:Hosted by District 5\nDate:  Saturday\, June 12\, 2021 \nTime:  10am to 1pm (PDT) \n \nPresenters:\nConcept 9:  Ryan H\, District 5 DCMC\nConcept 10:  Isaac M\, District 5 Alt-DCMC\nConcept 11:  Chris W\, District 5 Secretary\nConcept 12:  Vicki R\, District 5 Treasurer \nZoom:  457 182 8915 \nPassword:  469764 \nFlyer:  CONCEPTS 9-12 WORKSHOP_2021-06-12 (1) \n 
URL:https://msca09aa.org/event/a-a-concepts-9-thru-12-workshop/
LOCATION:ZOOM\, United States
END:VEVENT
BEGIN:VEVENT
DTSTART;TZID=America/Los_Angeles:20210516T083000
DTEND;TZID=America/Los_Angeles:20210516T143000
DTSTAMP:20260420T155156
CREATED:20201222T061048Z
LAST-MODIFIED:20230403T002855Z
UID:1196-1621153800-1621175400@msca09aa.org
SUMMARY:MSCA 09 Assembly: Delegate Shareback [Registration Required]
DESCRIPTION:Register in advance for this meeting:\nhttps://zoom.us/meeting/register/tJEld-ihrTgvH9dK36KPybU5JIRPYAOArTjw\nZOOM conference call at https://zoom.us/j/95801933553\nPassword: service \nAfter registering\, you will receive a confirmation email containing information about joining the meeting.
URL:https://msca09aa.org/event/area-assembly-delegate-shareback/
LOCATION:ZOOM\, United States
CATEGORIES:Assembly
END:VEVENT
BEGIN:VEVENT
DTSTART;TZID=America/Los_Angeles:20210424T110000
DTEND;TZID=America/Los_Angeles:20210424T170000
DTSTAMP:20260420T155156
CREATED:20210418T235550Z
LAST-MODIFIED:20210418T235551Z
UID:4017-1619262000-1619283600@msca09aa.org
SUMMARY:Big Morongo Bonanza
DESCRIPTION:Hosted by DCYPAA
URL:https://msca09aa.org/event/big-morongo-bonanza/
LOCATION:Covington Park\, 11165 Vale Drive\, Morongo Valley\, CA\, 92256\, United States
CATEGORIES:Special Event
ATTACH;FMTTYPE=image/jpeg:https://msca09aa.org/wp-content/uploads/2021/04/DCYPAA-Morongo-Bonanza-1.jpg
END:VEVENT
BEGIN:VEVENT
DTSTART;VALUE=DATE:20210417
DTEND;VALUE=DATE:20210425
DTSTAMP:20260420T155156
CREATED:20201222T062754Z
LAST-MODIFIED:20201222T062755Z
UID:1222-1618678800-1619283599@msca09aa.org
SUMMARY:General Service Conference
DESCRIPTION:
URL:https://msca09aa.org/event/general-service-conference/
LOCATION:Brooklyn\, NY
CATEGORIES:Special Event
END:VEVENT
BEGIN:VEVENT
DTSTART;TZID=America/Los_Angeles:20210411T083000
DTEND;TZID=America/Los_Angeles:20210411T143000
DTSTAMP:20260420T155156
CREATED:20210328T002730Z
LAST-MODIFIED:20210410T205640Z
UID:3850-1618129800-1618151400@msca09aa.org
SUMMARY:Area 09 Pre-Conference
DESCRIPTION:Topic: MSCA 09 Area Pre-Conference – April 11\, 2021\nTime: Apr 11\, 2021 08:30 AM Pacific Time (US and Canada)Join Zoom Meeting\nhttps://zoom.us/j/95801933553?pwd=MnZyeWtOM1h3aWNWV2hTTXJtMEJQQT09\n\n\n\n\n\nMeeting ID: 958 0193 3553\nPasscode: service\nAgenda:  Preconference Workshop Program.Final.English\nAgenda:  Preconference Workshop Program.Final.Spanish
URL:https://msca09aa.org/event/area-09-pre-conference/
LOCATION:ZOOM\, United States
CATEGORIES:Assembly
END:VEVENT
BEGIN:VEVENT
DTSTART;TZID=America/Los_Angeles:20210410T120000
DTEND;TZID=America/Los_Angeles:20210410T170000
DTSTAMP:20260420T155156
CREATED:20210306T191851Z
LAST-MODIFIED:20210324T215544Z
UID:3645-1618056000-1618074000@msca09aa.org
SUMMARY:Another Day of AA
DESCRIPTION:Your General Service District 09 (in Area 09)\nhosts\nAnother Day of AA\n\nEarl H.\nPlus\, other long-timers and general service presenters\n \n\nDate:  Saturday\, April 10 – 2021 \nTime:  12:00pm to 5:00pm Pacific Time \nZoom ID:  926 9877 0129 \nPasscode:  990412 \nDownload PDF Flyer: Another Day of AA – FINAL – April 10\, 2021
URL:https://msca09aa.org/event/another-day-of-aa/
LOCATION:ZOOM\, United States
CATEGORIES:Special Event
END:VEVENT
END:VCALENDAR