BEGIN:VCALENDAR
VERSION:2.0
PRODID:-//Mid-Southern California Area 09 - ECPv6.15.20//NONSGML v1.0//EN
CALSCALE:GREGORIAN
METHOD:PUBLISH
X-WR-CALNAME:Mid-Southern California Area 09
X-ORIGINAL-URL:https://msca09aa.org
X-WR-CALDESC:Events for Mid-Southern California Area 09
REFRESH-INTERVAL;VALUE=DURATION:PT1H
X-Robots-Tag:noindex
X-PUBLISHED-TTL:PT1H
BEGIN:VTIMEZONE
TZID:America/Los_Angeles
BEGIN:DAYLIGHT
TZOFFSETFROM:-0800
TZOFFSETTO:-0700
TZNAME:PDT
DTSTART:20210314T100000
END:DAYLIGHT
BEGIN:STANDARD
TZOFFSETFROM:-0700
TZOFFSETTO:-0800
TZNAME:PST
DTSTART:20211107T090000
END:STANDARD
BEGIN:DAYLIGHT
TZOFFSETFROM:-0800
TZOFFSETTO:-0700
TZNAME:PDT
DTSTART:20220313T100000
END:DAYLIGHT
BEGIN:STANDARD
TZOFFSETFROM:-0700
TZOFFSETTO:-0800
TZNAME:PST
DTSTART:20221106T090000
END:STANDARD
BEGIN:DAYLIGHT
TZOFFSETFROM:-0800
TZOFFSETTO:-0700
TZNAME:PDT
DTSTART:20230312T100000
END:DAYLIGHT
BEGIN:STANDARD
TZOFFSETFROM:-0700
TZOFFSETTO:-0800
TZNAME:PST
DTSTART:20231105T090000
END:STANDARD
BEGIN:DAYLIGHT
TZOFFSETFROM:-0800
TZOFFSETTO:-0700
TZNAME:PDT
DTSTART:20240310T100000
END:DAYLIGHT
BEGIN:STANDARD
TZOFFSETFROM:-0700
TZOFFSETTO:-0800
TZNAME:PST
DTSTART:20241103T090000
END:STANDARD
END:VTIMEZONE
BEGIN:VEVENT
DTSTART;TZID=America/Los_Angeles:20230519T083000
DTEND;TZID=America/Los_Angeles:20230519T150000
DTSTAMP:20260419T202421
CREATED:20231204T061645Z
LAST-MODIFIED:20231204T061645Z
UID:10480-1684485000-1684508400@msca09aa.org
SUMMARY:MSCA09 Area Assembly and Delegate Share Back
DESCRIPTION:Hosted by District 8\n\n\n\n\nYou are invited to a Zoom meeting.\nWhen:  May 19\, 2024\, 08:30 AM Pacific Time (US and Canada)\nRegister in advance for this meeting: \n\nhttps://us06web.zoom.us/meeting/register/tZEufuCopjIrG9Xd-_lgCTJjKCO2RwyzinvO\nAfter registering\, you will receive a confirmation email containing information about joining the meeting.
URL:https://msca09aa.org/event/msca09-area-assembly-20240519/
LOCATION:CA
CATEGORIES:Assembly
END:VEVENT
BEGIN:VEVENT
DTSTART;TZID=America/Los_Angeles:20230518T180000
DTEND;TZID=America/Los_Angeles:20230518T200000
DTSTAMP:20260419T202421
CREATED:20230517T224939Z
LAST-MODIFIED:20230520T170831Z
UID:8885-1684432800-1684440000@msca09aa.org
SUMMARY:A09 Workshop:  What the Conference is Actually Like
DESCRIPTION:Area 09 Monthly Service Study\nPlease join us this month\nWe have wonderful guest speakers to take us through the concepts and various topics throughout the year!\nSpanish Interpretion is available!\n\nTopic:  What the Conference is Actually Like\n\nDate: Thursday\, May 18\, 2023\,\nTimes are  below:\nCommittee Sharing Session: 6 pm – 7:00 p.m. PST\nService Manual Study: 7:00 p.m. – 8:00 p.m..PST\nFormat: Zoom\nMeeting ID: 873 6607 8505\nPassword: Area09p72
URL:https://msca09aa.org/event/area-09-service-sharing-workshop/
LOCATION:ZOOM\, United States
CATEGORIES:Alt Delegate,Workshop
ATTACH;FMTTYPE=image/png:https://msca09aa.org/wp-content/uploads/2023/05/MSCA-Area-09-service-workshop-Committee-Sharing-session.png
END:VEVENT
BEGIN:VEVENT
DTSTART;TZID=America/Los_Angeles:20230513T130000
DTEND;TZID=America/Los_Angeles:20230513T160000
DTSTAMP:20260419T202421
CREATED:20230421T231422Z
LAST-MODIFIED:20230421T231505Z
UID:8807-1683982800-1683993600@msca09aa.org
SUMMARY:Sponsorship Workshop
DESCRIPTION:Chapter 7\nWorking with Others\nSponsorship Workshop\n\nLaguna United Methodist Church\n24442 Moulton Pkwy\nLaguna Woods\, CA 92637\n\n1:00 – 1:45pm Lunch\n1:45 – 3:15pm Speakers\n3:15 – 4:00pm Q&A\nEvent Flyer: sponsorship workshop fly_001
URL:https://msca09aa.org/event/sponsorship-workshop/
LOCATION:Laguna United Methodist Church\, 24442 Moulton Pkwy\, Laguna Woods\, CA\, 92637\, United States
CATEGORIES:Workshop
ATTACH;FMTTYPE=image/png:https://msca09aa.org/wp-content/uploads/2023/04/Screenshot-2023-04-21-at-4.11.09-PM.png
END:VEVENT
BEGIN:VEVENT
DTSTART;TZID=America/Los_Angeles:20230507T150000
DTEND;TZID=America/Los_Angeles:20230507T160000
DTSTAMP:20260419T202421
CREATED:20230508T184118Z
LAST-MODIFIED:20230508T184148Z
UID:8838-1683471600-1683475200@msca09aa.org
SUMMARY:12 Concepts Workshop
DESCRIPTION:Are you a tad bit confused by the 12 Concepts for World Service?  If so\, join our District 09 in-depth discussion on the 1st & 3rd Sundays from 3-4pmPT.\n\nZOOM Meeting ID:  928 8170 4093\nPasscode:  642408\n\nFacilitated by Francine W.\, D-09 PI Chair\nCome prepared with the current issue of the AA Service Manual
URL:https://msca09aa.org/event/12-concepts-workshop/
LOCATION:ZOOM\, United States
CATEGORIES:Workshop
ATTACH;FMTTYPE=image/png:https://msca09aa.org/wp-content/uploads/2023/05/Concepts-Workshop-series-revised-date.png
END:VEVENT
BEGIN:VEVENT
DTSTART;TZID=America/Los_Angeles:20230507T100000
DTEND;TZID=America/Los_Angeles:20230507T130000
DTSTAMP:20260419T202421
CREATED:20230430T014024Z
LAST-MODIFIED:20230502T171502Z
UID:8817-1683453600-1683464400@msca09aa.org
SUMMARY:MSCA09 Archives "Open House"
DESCRIPTION:Mid-Southern California Area 09 Archives Committee presents the\nMSCA09 Archives Open House\n7111 Arlington Avenue\nSuite B\nRiverside\, CA\n\nSunday\, May 7 2023\n10:00am to 1:00pm\n\nProgram Theme:\n‘Spanish Language Districts – Their History and Growth in Area 09’\nGuest Speaker:  Alvaro “Al” P (Past MSCA09 Panel 50 Delegate)\nFood and Refreshments\n\nEnglish Flyer:  MSCA09 Archives Open House Flyer_2023-05-07_English_FINAL-Rev\nSpanish Flyer: MSCA09 Archives Open House Flyer_2023-05-07_Spanish_FINAL-Rev
URL:https://msca09aa.org/event/msca09-archives-open-house/
LOCATION:Archives\, 7111 Arlington Avenue - Suite B\, Riverside\, CA\, 92503\, United States
CATEGORIES:Special Event
ATTACH;FMTTYPE=image/jpeg:https://msca09aa.org/wp-content/uploads/2023/04/WhatsApp-Image-2023-04-29-at-18.32.55.jpg
ORGANIZER;CN="MSCA Archives":MAILTO:archives@msca09aa.org
END:VEVENT
BEGIN:VEVENT
DTSTART;TZID=America/Los_Angeles:20230427T190000
DTEND;TZID=America/Los_Angeles:20230427T194500
DTSTAMP:20260419T202421
CREATED:20230312T155646Z
LAST-MODIFIED:20230312T155656Z
UID:8608-1682622000-1682624700@msca09aa.org
SUMMARY:Treatment Committee Meeting
DESCRIPTION:Treatment Committee Zoom Meeting\n4th Monday of each month\n7:00 – 7:45pm\n\n\n\n\n Join Zoom Meeting\nhttps://us06web.zoom.us/j/85437550762\nMeeting ID: 854 3755 0762\nPasscode: 244472
URL:https://msca09aa.org/event/treatment-committee-meeting-copy/
LOCATION:ZOOM\, United States
CATEGORIES:Meeting
END:VEVENT
BEGIN:VEVENT
DTSTART;TZID=America/Los_Angeles:20230424T180000
DTEND;TZID=America/Los_Angeles:20230424T190000
DTSTAMP:20260419T202421
CREATED:20230312T174509Z
LAST-MODIFIED:20240210T024258Z
UID:8643-1682359200-1682362800@msca09aa.org
SUMMARY:Remote Communities Meeting
DESCRIPTION:Remote Communities Meeting\nLast Monday of Each Month\n6:00pm to 7:00pm via ZOOM\n\nJoin Zoom Meeting\nhttps://us02web.zoom.us/j/87346527029?pwd=K1d6YktOZ3I2dmp6dkVCelZIcGVxdz09\nMeeting ID: 873 4652 7029\nPasscode: 277176\nOne tap mobile\n+16699006833\,\,87346527029#\,\,\,\,*277176# US (San Jose)\n+16694449171\,\,87346527029#\,\,\,\,*277176# US
URL:https://msca09aa.org/event/remote-communities-meeting-2/
LOCATION:ZOOM\, United States
CATEGORIES:Meeting
ATTACH;FMTTYPE=image/jpeg:https://msca09aa.org/wp-content/uploads/2023/03/IMG_5177.jpg
END:VEVENT
BEGIN:VEVENT
DTSTART;TZID=America/Los_Angeles:20230416T160000
DTEND;TZID=America/Los_Angeles:20230416T170000
DTSTAMP:20260419T202421
CREATED:20230226T153148Z
LAST-MODIFIED:20230226T153148Z
UID:8468-1681660800-1681664400@msca09aa.org
SUMMARY:Chat with the Delegate
DESCRIPTION:To help reach A.A. members in addition to in-person and District meetings\, Delegate Mitchell B. will host Zoom meetings on Sundays between Feb.26 and April 16 as town halls and information sessions for discussion about Agenda Items for the 73rd General Service Conference\, April 23-29\, 2023. They are intended to be Q&A with feedback for the Delegate on agenda items or information for GSRs to take back to their groups.  The sessions will be one hour 4:00 – 5:00 p.m. to have discussions with the Delegate on agenda items.\nhttps://us06web.zoom.us/j/84332407464?pwd=TlphdFY1NW1Ha3BNeXBnMHJmczE5QT09\nZoom ID:  843 3240 7464  password:  service\n4:00 – 5:00 pm
URL:https://msca09aa.org/event/chat-with-the-delegate-4/
LOCATION:ZOOM\, United States
CATEGORIES:Special Event
END:VEVENT
BEGIN:VEVENT
DTSTART;TZID=America/Los_Angeles:20230415T090000
DTEND;TZID=America/Los_Angeles:20230415T150000
DTSTAMP:20260419T202421
CREATED:20221226T193730Z
LAST-MODIFIED:20230403T222611Z
UID:7891-1681549200-1681570800@msca09aa.org
SUMMARY:MSCA 09 Pre-Conference
DESCRIPTION:MSCA09 Pre-Conference\nHosted by District 18\n\n\n\nMID-SOUTHERN  09 CALIFORNIA AREA \nPRE- CONFERENCE – MOCK CONFERENCE \nHosted by District 18 & Alt Delegate \nSpecial Guest -Joel Past Trustee \nApril 15th \, 2023 \nWhere : Norma Hertzog Community Center 1845 Park Ave Costa Mesa\, CA 92627 \nMeeting ID: 820 5769 0090 \nPasscode: Panel72
URL:https://msca09aa.org/event/msca09-pre-conference-2/
LOCATION:CA
CATEGORIES:Assembly,Special Event
ATTACH;FMTTYPE=image/png:https://msca09aa.org/wp-content/uploads/2022/12/Circles_Chart_B_EN.png
END:VEVENT
BEGIN:VEVENT
DTSTART;TZID=America/Los_Angeles:20230409T160000
DTEND;TZID=America/Los_Angeles:20230409T170000
DTSTAMP:20260419T202421
CREATED:20230403T221211Z
LAST-MODIFIED:20230403T221211Z
UID:8775-1681056000-1681059600@msca09aa.org
SUMMARY:Chat with the Delegate
DESCRIPTION:To help reach A.A. members in addition to in-person and District meetings\, Delegate Mitchell B. will host Zoom meetings on Sundays between Feb.26 and April 16 as town halls and information sessions for discussion about Agenda Items for the 73rd General Service Conference\, April 23-29\, 2023. They are intended to be Q&A with feedback for the Delegate on agenda items or information for GSRs to take back to their groups.  The sessions will be one hour 4:00 – 5:00 p.m. to have discussions with the Delegate on agenda items.\nhttps://us06web.zoom.us/j/84332407464?pwd=TlphdFY1NW1Ha3BNeXBnMHJmczE5QT09\nZoom ID:  843 3240 7464  password:  service\n4:00 – 5:00 pm
URL:https://msca09aa.org/event/chat-with-the-delegate-5/
LOCATION:ZOOM\, United States
CATEGORIES:Special Event
END:VEVENT
BEGIN:VEVENT
DTSTART;TZID=America/Los_Angeles:20230402T160000
DTEND;TZID=America/Los_Angeles:20230402T170000
DTSTAMP:20260419T202421
CREATED:20230226T153115Z
LAST-MODIFIED:20230226T153115Z
UID:8466-1680451200-1680454800@msca09aa.org
SUMMARY:Chat with the Delegate
DESCRIPTION:To help reach A.A. members in addition to in-person and District meetings\, Delegate Mitchell B. will host Zoom meetings on Sundays between Feb.26 and April 16 as town halls and information sessions for discussion about Agenda Items for the 73rd General Service Conference\, April 23-29\, 2023. They are intended to be Q&A with feedback for the Delegate on agenda items or information for GSRs to take back to their groups.  The sessions will be one hour 4:00 – 5:00 p.m. to have discussions with the Delegate on agenda items.\nhttps://us06web.zoom.us/j/84332407464?pwd=TlphdFY1NW1Ha3BNeXBnMHJmczE5QT09\nZoom ID:  843 3240 7464  password:  service\n4:00 – 5:00 pm
URL:https://msca09aa.org/event/chat-with-the-delegate-3/
LOCATION:ZOOM\, United States
CATEGORIES:Special Event
END:VEVENT
BEGIN:VEVENT
DTSTART;TZID=America/Los_Angeles:20230401T133000
DTEND;TZID=America/Los_Angeles:20230401T163000
DTSTAMP:20260419T202421
CREATED:20230313T165324Z
LAST-MODIFIED:20240210T024246Z
UID:8683-1680355800-1680366600@msca09aa.org
SUMMARY:District 17:  Pre-Conference Workshop
DESCRIPTION:District 17\nPre-Conference Workshop\nSaturday\, April 1st – 1:30pm to 4:30pm\n**FOOD WILL BE SERVED**\nSerenity Circle Hall\n27574 Commerce Center Drive #139\nTemecula\nFor questions or info\, contact:  Julie F (951) 334-7619 or Heather B (951) 306-2236
URL:https://msca09aa.org/event/district-17-pre-conference-workshop/
LOCATION:Serenity Circle Hall\, 27574 Commerce Center Drive #139\, Temecula\, CA\, United States
CATEGORIES:Meeting,Workshop
ATTACH;FMTTYPE=image/png:https://msca09aa.org/wp-content/uploads/2023/03/District-17-Pre-Conference-Workshop-1.png
END:VEVENT
BEGIN:VEVENT
DTSTART;TZID=America/Los_Angeles:20230327T180000
DTEND;TZID=America/Los_Angeles:20230327T190000
DTSTAMP:20260419T202422
CREATED:20230312T174327Z
LAST-MODIFIED:20240210T024237Z
UID:8638-1679940000-1679943600@msca09aa.org
SUMMARY:Remote Communities Meeting
DESCRIPTION:Remote Communities Meeting\nLast Monday of Each Month\n6:00pm to 7:00pm via ZOOM\n\nJoin Zoom Meeting\nhttps://us02web.zoom.us/j/87346527029?pwd=K1d6YktOZ3I2dmp6dkVCelZIcGVxdz09\nMeeting ID: 873 4652 7029\nPasscode: 277176\n\nOne tap mobile\n+16699006833\,\,87346527029#\,\,\,\,*277176# US (San Jose)\n+16694449171\,\,87346527029#\,\,\,\,*277176# US
URL:https://msca09aa.org/event/remote-communities-meeting/
LOCATION:ZOOM\, United States
CATEGORIES:Meeting
ATTACH;FMTTYPE=image/jpeg:https://msca09aa.org/wp-content/uploads/2023/03/IMG_5177.jpg
END:VEVENT
BEGIN:VEVENT
DTSTART;TZID=America/Los_Angeles:20230326T160000
DTEND;TZID=America/Los_Angeles:20230326T170000
DTSTAMP:20260419T202422
CREATED:20230226T153037Z
LAST-MODIFIED:20240210T024225Z
UID:8464-1679846400-1679850000@msca09aa.org
SUMMARY:Chat with the Delegate
DESCRIPTION:To help reach A.A. members in addition to in-person and District meetings\, Delegate Mitchell B. will host Zoom meetings on Sundays between Feb.26 and April 16 as town halls and information sessions for discussion about Agenda Items for the 73rd General Service Conference\, April 23-29\, 2023. They are intended to be Q&A with feedback for the Delegate on agenda items or information for GSRs to take back to their groups.  The sessions will be one hour 4:00 – 5:00 p.m. to have discussions with the Delegate on agenda items.\nhttps://us06web.zoom.us/j/84332407464?pwd=TlphdFY1NW1Ha3BNeXBnMHJmczE5QT09\nZoom ID:  843 3240 7464  password:  service\n4:00 – 5:00 pm
URL:https://msca09aa.org/event/chat-with-the-delegate-2/
LOCATION:ZOOM\, United States
CATEGORIES:Special Event
END:VEVENT
BEGIN:VEVENT
DTSTART;TZID=America/Los_Angeles:20230325T090000
DTEND;TZID=America/Los_Angeles:20230325T150000
DTSTAMP:20260419T202422
CREATED:20230218T185043Z
LAST-MODIFIED:20240210T024215Z
UID:8370-1679734800-1679756400@msca09aa.org
SUMMARY:Pre-Conference Bootcamp
DESCRIPTION:Hosted by Districts 6\,12\, and 18.\nTopic: Bootcamp Pre ConferenceTime: Mar 25\, 2023 09:00 AM Pacific Time (US and Canada)\n\nJoin In-Person\nWalton Intermediate School\n12181 Buaro Street\nGarden Grove\, CA\n\nJoin Zoom Meetinghttps://us06web.zoom.us/j/83389847473?pwd=WUVoS0MyeGxsWFZ2U09CcVI1cW5FZz09Meeting ID: 833 8984 7473Passcode: serviceOne tap mobile+16699006833\,\,83389847473#\,\,\,\,*4806904# US (San Jose)+16694449171\,\,83389847473#\,\,\,\,*4806904# US
URL:https://msca09aa.org/event/pre-conference-bootcamp/
LOCATION:Walton Intermediate School\, 12181 Buaro St.\, Garden Grove\, CA\, 92840\, United States
CATEGORIES:Special Event
ATTACH;FMTTYPE=image/jpeg:https://msca09aa.org/wp-content/uploads/2023/02/bootcamp-logo.jpg
END:VEVENT
BEGIN:VEVENT
DTSTART;TZID=America/Los_Angeles:20230323T190000
DTEND;TZID=America/Los_Angeles:20230323T194500
DTSTAMP:20260419T202422
CREATED:20230312T154631Z
LAST-MODIFIED:20240210T024206Z
UID:8602-1679598000-1679600700@msca09aa.org
SUMMARY:Treatment Committee Meeting
DESCRIPTION:Treatment Committee Zoom Meeting\n4th Monday of each month\n7:00 – 7:45pm\n\n\n\n\n Join Zoom Meeting\nhttps://us06web.zoom.us/j/85437550762\nMeeting ID: 854 3755 0762\nPasscode: 244472
URL:https://msca09aa.org/event/treatment-committee-meeting/
LOCATION:ZOOM\, United States
CATEGORIES:Meeting
END:VEVENT
BEGIN:VEVENT
DTSTART;TZID=America/Los_Angeles:20230319T160000
DTEND;TZID=America/Los_Angeles:20230319T170000
DTSTAMP:20260419T202422
CREATED:20230226T152915Z
LAST-MODIFIED:20240210T024157Z
UID:8461-1679241600-1679245200@msca09aa.org
SUMMARY:Chat with the Delegate
DESCRIPTION:To help reach A.A. members in addition to in-person and District meetings\, Delegate Mitchell B. will host Zoom meetings on Sundays between Feb.26 and April 16 as town halls and information sessions for discussion about Agenda Items for the 73rd General Service Conference\, April 23-29\, 2023. They are intended to be Q&A with feedback for the Delegate on agenda items or information for GSRs to take back to their groups.  The sessions will be one hour 4:00 – 5:00 p.m. to have discussions with the Delegate on agenda items.\nhttps://us06web.zoom.us/j/84332407464?pwd=TlphdFY1NW1Ha3BNeXBnMHJmczE5QT09\nZoom ID:  843 3240 7464  password:  service\n4:00 – 5:00 pm
URL:https://msca09aa.org/event/chat-with-the-delegate-copy/
LOCATION:ZOOM\, United States
CATEGORIES:Special Event
END:VEVENT
BEGIN:VEVENT
DTSTART;TZID=America/Los_Angeles:20230312T083000
DTEND;TZID=America/Los_Angeles:20230312T143000
DTSTAMP:20260419T202422
CREATED:20221226T192542Z
LAST-MODIFIED:20240210T024137Z
UID:7887-1678609800-1678631400@msca09aa.org
SUMMARY:Area Service Committee (ASC)
DESCRIPTION:Hosted by District 07\n\nWalton Intermediate School\n12181 Buaro St\nGarden Grove CA 92840\nMarch 12\, 2023:  8:30am to 2:30pm\n\nRegister in advance for this meeting:\nhttps://us06web.zoom.us/meeting/register/tZ0qcOuprD4rE9NI81kv5_xL6dnSaF_OufNi\nAfter registering\, you will receive a confirmation email containing information about joining the meeting.
URL:https://msca09aa.org/event/area-service-committee-asc-14/
LOCATION:Walton Intermediate School\, 12181 Buaro St.\, Garden Grove\, CA\, 92840\, United States
CATEGORIES:ASC
ATTACH;FMTTYPE=image/png:https://msca09aa.org/wp-content/uploads/2022/12/Circles_Chart_B_EN.png
END:VEVENT
BEGIN:VEVENT
DTSTART;VALUE=DATE:20230303
DTEND;VALUE=DATE:20230306
DTSTAMP:20260419T202422
CREATED:20230122T210603Z
LAST-MODIFIED:20240210T024127Z
UID:8098-1677801600-1678060799@msca09aa.org
SUMMARY:PRAASA 2023
DESCRIPTION:PRAASA 2023\nHosted by Area 05\nMarch 3 – 5\, 2023\nRegister: https://www.praasa.org/register\n  \nWhat Happens at PRAASA\nThe Pacific Region Alcoholics Anonymous Service Assembly is a mix of panel presentations\, roundtable discussions\, open mic sharing\, and speakers. Many attendees also come for the great fellowship and bonding that takes place with others from the same service Area and with new friends made from other Areas. Topics for the presentations and sharing are focused on general service. PRAASA is held prior to the General Service Conference and includes topics that will be discussed at the upcoming conference along with issues that are of interest to members involved in general service. Roundtables provide an opportunity for members to discuss topics with people who have the same service position\, like the Corrections and DCM roundtables\, or who are interested in a particular topic\, like YPAA or technology. Come join over 1000 excited AA members from all over the Pacific Region and be part of this unforgettable event!
URL:https://msca09aa.org/event/praasa-2023/
LOCATION:LAX Marriott Hotel\, 5855 W Century Blvd.\, Los Angeles\, CA\, 90045\, United States
CATEGORIES:Special Event
ATTACH;FMTTYPE=image/png:https://msca09aa.org/wp-content/uploads/2023/01/2023_praasa_logo-transparent.png
ORGANIZER;CN="Area 05":MAILTO:delegate@area05aa.org
END:VEVENT
BEGIN:VEVENT
DTSTART;TZID=America/Los_Angeles:20230226T160000
DTEND;TZID=America/Los_Angeles:20230226T170000
DTSTAMP:20260419T202422
CREATED:20230226T152807Z
LAST-MODIFIED:20240210T024116Z
UID:8459-1677427200-1677430800@msca09aa.org
SUMMARY:Chat with the Delegate
DESCRIPTION:To help reach A.A. members in addition to in-person and District meetings\, Delegate Mitchell B. will host Zoom meetings on Sundays between Feb.26 and April 16 as town halls and information sessions for discussion about Agenda Items for the 73rd General Service Conference\, April 23-29\, 2023. They are intended to be Q&A with feedback for the Delegate on agenda items or information for GSRs to take back to their groups.  The sessions will be one hour 4:00 – 5:00 p.m. to have discussions with the Delegate on agenda items.\nhttps://us06web.zoom.us/j/84332407464?pwd=TlphdFY1NW1Ha3BNeXBnMHJmczE5QT09\nZoom ID:  843 3240 7464  password:  service\n4:00 – 5:00 pm
URL:https://msca09aa.org/event/chat-with-the-delegate/
LOCATION:ZOOM\, United States
CATEGORIES:Special Event
END:VEVENT
BEGIN:VEVENT
DTSTART;TZID=America/Los_Angeles:20230212T083000
DTEND;TZID=America/Los_Angeles:20230212T143000
DTSTAMP:20260419T202422
CREATED:20221226T192338Z
LAST-MODIFIED:20240210T024107Z
UID:7885-1676190600-1676212200@msca09aa.org
SUMMARY:Area Service Committee (ASC)
DESCRIPTION:Hosted by District 19\n\nSunday\, February 12\, @ 8:30am\nHesperia Unified School District\n15576 Main Street\nHesperia\, CA 92345\n\n 
URL:https://msca09aa.org/event/area-service-committee-asc-13/
LOCATION:Hesperia Unified School District\, 15576 Main Street\, Hesperia\, CA\, 92345\, United States
CATEGORIES:ASC
ATTACH;FMTTYPE=image/png:https://msca09aa.org/wp-content/uploads/2022/12/Circles_Chart_B_EN.png
END:VEVENT
BEGIN:VEVENT
DTSTART;VALUE=DATE:20230202
DTEND;VALUE=DATE:20230206
DTSTAMP:20260419T202422
CREATED:20230110T204148Z
LAST-MODIFIED:20240210T024329Z
UID:8029-1675296000-1675641599@msca09aa.org
SUMMARY:ACYPAA L: We Discovered A Common Solution
DESCRIPTION:
URL:https://msca09aa.org/event/acypaa-l-we-discovered-a-common-solution/
LOCATION:Anaheim Majestic Hotel\, 900 S Disneyland Drive\, Anaheim\, CA\, 92802\, United States
END:VEVENT
BEGIN:VEVENT
DTSTART;TZID=America/Los_Angeles:20230119T180000
DTEND;TZID=America/Los_Angeles:20230119T200000
DTSTAMP:20260419T202422
CREATED:20230110T204925Z
LAST-MODIFIED:20240210T024341Z
UID:8033-1674151200-1674158400@msca09aa.org
SUMMARY:ASC Sharing Session Jan 19th
DESCRIPTION:Concept 1: Doug – Delegate \nConcept 2: Jimmy W – Alt Delegate \nConcept 3: Corey D – Alt Delegate (Kentucky)
URL:https://msca09aa.org/event/asc-sharing-session-jan-19th/
LOCATION:CA
CATEGORIES:Alt Delegate
END:VEVENT
BEGIN:VEVENT
DTSTART;TZID=America/Los_Angeles:20230108T083000
DTEND;TZID=America/Los_Angeles:20230108T150000
DTSTAMP:20260419T202422
CREATED:20230101T183614Z
LAST-MODIFIED:20240210T024351Z
UID:7963-1673166600-1673190000@msca09aa.org
SUMMARY:MSCA09 Area Assembly
DESCRIPTION:Hosted by District 09\n\nThousand Palms Recreation Center\n31189 Robert Road\nThousand Palms\, CA 92276\n\n\nYou are invited to a Zoom meeting.\nWhen:  Jan 8\, 2023 08:30 AM Pacific Time (US and Canada) \nRegister in advance for this meeting:\n\nhttps://us06web.zoom.us/meeting/register/tZEufuCopjIrG9Xd-_lgCTJjKCO2RwyzinvO\nAfter registering\, you will receive a confirmation email containing information about joining the meeting.
URL:https://msca09aa.org/event/msca09-area-assembly/
LOCATION:Thousand Palms Recreation Center\, 31189 Robert Road\, Thousand Palms\, CA\, 92276\, United States
CATEGORIES:Assembly
END:VEVENT
BEGIN:VEVENT
DTSTART;TZID=America/Los_Angeles:20221217T110000
DTEND;TZID=America/Los_Angeles:20221217T140000
DTSTAMP:20260419T202422
CREATED:20221205T162222Z
LAST-MODIFIED:20221205T162421Z
UID:7789-1671274800-1671285600@msca09aa.org
SUMMARY:34th Annual Heritage Day
DESCRIPTION:34th Annual Heritage Day\nSaturday – December 17th\, 2022\n11am to 2pm\n\nHosted by District 8\n\nCome hear a panel of long-timers tell us “What It Was Like”\nor join us on ZOOM 813 5883 1671 (no password)
URL:https://msca09aa.org/event/34th-annual-heritage-day/
LOCATION:Archives\, 7111 Arlington Avenue - Suite B\, Riverside\, CA\, 92503\, United States
CATEGORIES:Special Event
ATTACH;FMTTYPE=image/png:https://msca09aa.org/wp-content/uploads/2022/12/Screenshot-2022-12-05-at-8.21.33-AM.png
ORGANIZER;CN="MSCA Archives":MAILTO:archives@msca09aa.org
END:VEVENT
BEGIN:VEVENT
DTSTART;TZID=America/Los_Angeles:20221215T190000
DTEND;TZID=America/Los_Angeles:20221215T200000
DTSTAMP:20260419T202422
CREATED:20220220T172012Z
LAST-MODIFIED:20221212T022534Z
UID:6381-1671130800-1671134400@msca09aa.org
SUMMARY:MSCA Area 09 Service Workshop
DESCRIPTION:Third Thursday of Every Month \nMeeting ID:  873 6607 8505\nPasscode: Area09p72
URL:https://msca09aa.org/event/msca-area-09-service-workshop-10/
LOCATION:ZOOM\, United States
CATEGORIES:Alt Delegate
END:VEVENT
BEGIN:VEVENT
DTSTART;TZID=America/Los_Angeles:20221211T083000
DTEND;TZID=America/Los_Angeles:20221211T143000
DTSTAMP:20260419T202422
CREATED:20210926T205429Z
LAST-MODIFIED:20221203T172247Z
UID:5406-1670747400-1670769000@msca09aa.org
SUMMARY:Area Service Committee (ASC)
DESCRIPTION:Hosted by District 15\n\nBacks Community Building\n201 N. Bradford Avenue\nPlacentia\, CA 92870\n\nRegister in advance for this meeting:\nhttps://us06web.zoom.us/meeting/register/tZYpcO-tpjgpEtSxhSq76ZoCI_eUpeO-SZV8\nAfter registering\, you will receive a confirmation email containing information about joining the meeting.
URL:https://msca09aa.org/event/area-service-committee-asc-12/
LOCATION:Backs Community Building\, 201 Bradford Avenue (Located in Kraemer Memorial Park)\, Placentia\, CA\, 92870\, United States
CATEGORIES:ASC
END:VEVENT
BEGIN:VEVENT
DTSTART;TZID=America/Los_Angeles:20221208T190000
DTEND;TZID=America/Los_Angeles:20221208T210000
DTSTAMP:20260419T202422
CREATED:20221119T090758Z
LAST-MODIFIED:20221204T033138Z
UID:7728-1670526000-1670533200@msca09aa.org
SUMMARY:Districts 1 & 3 Holiday Party
DESCRIPTION:All are invited to the General Service District 1 & 3 Holiday Party! In lieu of the monthly business meeting.
URL:https://msca09aa.org/event/districts-13-holiday-party/
LOCATION:Kiwanis Club HB\, 2515 Valley Dr\, Hermosa Beach\, CA\, 90254\, United States
CATEGORIES:Special Event
ATTACH;FMTTYPE=image/png:https://msca09aa.org/wp-content/uploads/2022/11/hosted-by-Districts-1-and-3-1-1.png
END:VEVENT
BEGIN:VEVENT
DTSTART;TZID=America/Los_Angeles:20221203T080000
DTEND;TZID=America/Los_Angeles:20221203T160000
DTSTAMP:20260419T202422
CREATED:20220815T215559Z
LAST-MODIFIED:20220815T215629Z
UID:7342-1670054400-1670083200@msca09aa.org
SUMMARY:7mo Taller de Mujeres Hispanas en AA
DESCRIPTION:7mo Taller de Mujeres Hispanas en AA\nAreas Participantes: 05\,06\,07\,08\,09\,93\nDiciembre 3\, 2022\n8 am – 4 pm/ Evento Hibrido\nFirst United Methodist Church\n2111 Camino del Rio South\nSan Diego\, CA 92108\nPara mas información:\n(760) 383-3043\n(619) 917-8442\nTallermujerehispanas7@area8aa.org\nwww.mujeresenaa.org\nRegistraciones Area 09\nContribucion   $10.00\nENGLISH INTERPRETATION IS AVAILABLE IN PERSON ONLY\nInformacion:\n(949)354-9880\n“Liherame de mi propio encadenamiento para que pueda cumplir tu voluntad”
URL:https://msca09aa.org/event/7mo-taller-de-mujeres-hispanas-en-aa/
LOCATION:First United Methodist Church\, 2111 Camino del Rio South\, San Diego\, CA\, 92108\, United States
CATEGORIES:Special Event
ATTACH;FMTTYPE=image/png:https://msca09aa.org/wp-content/uploads/2022/08/Screen-Shot-2022-08-15-at-2.51.16-PM.png
ORGANIZER;CN="Area 08":MAILTO:Tallermujerehispanas7@area8aa.org
END:VEVENT
BEGIN:VEVENT
DTSTART;TZID=America/Los_Angeles:20221120T130000
DTEND;TZID=America/Los_Angeles:20221120T160000
DTSTAMP:20260419T202422
CREATED:20221009T152228Z
LAST-MODIFIED:20221009T152229Z
UID:7561-1668949200-1668960000@msca09aa.org
SUMMARY:Who is even READING the Pamphlets??!?  We are!!!
DESCRIPTION:Hosted by District 10\nSpeaker on Pamphlet History\nRound Table Discussion on 5 Different Pamphlets\nTrivia & Prizes
URL:https://msca09aa.org/event/who-is-even-reading-the-pamphlets-we-are/
LOCATION:Recovery Road\, 2370 E Orangethorpe Ave\, Anaheim\, CA\, 92831\, United States
CATEGORIES:Workshop
ATTACH;FMTTYPE=image/png:https://msca09aa.org/wp-content/uploads/2022/10/Screen-Shot-2022-10-09-at-8.18.40-AM.png
END:VEVENT
END:VCALENDAR