BEGIN:VCALENDAR
VERSION:2.0
PRODID:-//Mid-Southern California Area 09 - ECPv6.15.20//NONSGML v1.0//EN
CALSCALE:GREGORIAN
METHOD:PUBLISH
X-WR-CALNAME:Mid-Southern California Area 09
X-ORIGINAL-URL:https://msca09aa.org
X-WR-CALDESC:Events for Mid-Southern California Area 09
REFRESH-INTERVAL;VALUE=DURATION:PT1H
X-Robots-Tag:noindex
X-PUBLISHED-TTL:PT1H
BEGIN:VTIMEZONE
TZID:America/Los_Angeles
BEGIN:DAYLIGHT
TZOFFSETFROM:-0800
TZOFFSETTO:-0700
TZNAME:PDT
DTSTART:20220313T100000
END:DAYLIGHT
BEGIN:STANDARD
TZOFFSETFROM:-0700
TZOFFSETTO:-0800
TZNAME:PST
DTSTART:20221106T090000
END:STANDARD
BEGIN:DAYLIGHT
TZOFFSETFROM:-0800
TZOFFSETTO:-0700
TZNAME:PDT
DTSTART:20230312T100000
END:DAYLIGHT
BEGIN:STANDARD
TZOFFSETFROM:-0700
TZOFFSETTO:-0800
TZNAME:PST
DTSTART:20231105T090000
END:STANDARD
BEGIN:DAYLIGHT
TZOFFSETFROM:-0800
TZOFFSETTO:-0700
TZNAME:PDT
DTSTART:20240310T100000
END:DAYLIGHT
BEGIN:STANDARD
TZOFFSETFROM:-0700
TZOFFSETTO:-0800
TZNAME:PST
DTSTART:20241103T090000
END:STANDARD
END:VTIMEZONE
BEGIN:VEVENT
DTSTART;TZID=America/Los_Angeles:20230720T180000
DTEND;TZID=America/Los_Angeles:20230720T200000
DTSTAMP:20260420T102052
CREATED:20230520T165346Z
LAST-MODIFIED:20230520T170734Z
UID:8934-1689876000-1689883200@msca09aa.org
SUMMARY:A09 Workshop:  How to Reach Anyone Anywhere
DESCRIPTION:Area 09 Monthly Service Study\nPlease join us this month\nWe have wonderful guest speakers to take us through the concepts and various topics throughout the year!\nSpanish Interpretion is available!\n\nTopic:  How to Reach Anyone Anywhere\n\nDate: Thursday\, July 20\, 2023\nTimes are  below:\nCommittee Sharing Session: 6 pm – 7:00 p.m. PST\nService Manual Study: 7:00 p.m. – 8:00 p.m..PST\nFormat: Zoom\nMeeting ID: 873 6607 8505\nPassword: Area09p72
URL:https://msca09aa.org/event/a09-workshop-how-to-teach-anyone-anywhere/
LOCATION:ZOOM\, United States
CATEGORIES:Alt Delegate,Workshop
ATTACH;FMTTYPE=image/png:https://msca09aa.org/wp-content/uploads/2023/05/MSCA-Area-09-service-workshop-Committee-Sharing-session.png
END:VEVENT
BEGIN:VEVENT
DTSTART;TZID=America/Los_Angeles:20230716T150000
DTEND;TZID=America/Los_Angeles:20230716T160000
DTSTAMP:20260420T102052
CREATED:20230508T184615Z
LAST-MODIFIED:20230508T184615Z
UID:8850-1689519600-1689523200@msca09aa.org
SUMMARY:12 Concepts Workshop
DESCRIPTION:Are you a tad bit confused by the 12 Concepts for World Service?  If so\, join our District 09 in-depth discussion on the 1st & 3rd Sundays from 3-4pmPT.\n\nZOOM Meeting ID:  928 8170 4093\nPasscode:  642408\n\nFacilitated by Francine W.\, D-09 PI Chair\nCome prepared with the current issue of the AA Service Manual
URL:https://msca09aa.org/event/12-concepts-workshop-6/
LOCATION:ZOOM\, United States
CATEGORIES:Workshop
ATTACH;FMTTYPE=image/png:https://msca09aa.org/wp-content/uploads/2023/05/Concepts-Workshop-series-revised-date.png
END:VEVENT
BEGIN:VEVENT
DTSTART;TZID=America/Los_Angeles:20230713T193000
DTEND;TZID=America/Los_Angeles:20230713T210000
DTSTAMP:20260420T102052
CREATED:20230611T174040Z
LAST-MODIFIED:20230611T174123Z
UID:9194-1689276600-1689282000@msca09aa.org
SUMMARY:First Four Editions of the Big Book
DESCRIPTION:The First Four Editions of the Big Book\nwith Michelle Mirza\nGSO Archivist\nwith Spanish Translation\n\nThursday – July 13\, 2023\n7:30pm to 9:00pm\nRoom opens at 7:00pm\nZoom ID: 998 938 7641\nPasscode:  714921\n\nFlyer: BB Workshop 7-13-23
URL:https://msca09aa.org/event/first-four-editions-of-the-big-book/
LOCATION:ZOOM\, United States
CATEGORIES:Workshop
ATTACH;FMTTYPE=image/png:https://msca09aa.org/wp-content/uploads/2023/06/Screenshot-2023-06-11-at-10.32.45-AM.png
END:VEVENT
BEGIN:VEVENT
DTSTART;TZID=America/Los_Angeles:20230709T110000
DTEND;TZID=America/Los_Angeles:20230709T150000
DTSTAMP:20260420T102052
CREATED:20230620T161908Z
LAST-MODIFIED:20230620T164017Z
UID:9250-1688900400-1688914800@msca09aa.org
SUMMARY:The Summer Picnic - Fun in the Sun
DESCRIPTION:Sponsored by District 12\n\nSunday – July 9\, 2023\n11:00am – 3:00pm\nDoheny State Park\n25300 Dana Point Harbor Drive\nDana Point\, CA 92629\n\nMeet at Area B near the front parking lot.  Parking is at a cost and limited.  Carpooling is strongly suggested.\n\nWe will be cooking Hamburgers & Hot Dogs\nBring your Favorite Side Dish or Desert\nFlyer:  Beach Party Picnic Flyer – English / Beach Party Picnic Flyer – Spanish
URL:https://msca09aa.org/event/the-summer-picnic-fun-in-the-sun/
CATEGORIES:Special Event
ATTACH;FMTTYPE=image/png:https://msca09aa.org/wp-content/uploads/2023/06/Screenshot-2023-06-20-at-9.06.43-AM.png
END:VEVENT
BEGIN:VEVENT
DTSTART;TZID=America/Los_Angeles:20230709T080000
DTEND;TZID=America/Los_Angeles:20230709T140000
DTSTAMP:20260420T102052
CREATED:20221226T194029Z
LAST-MODIFIED:20230329T215837Z
UID:7896-1688889600-1688911200@msca09aa.org
SUMMARY:FORO
DESCRIPTION:Hosted by Districts 25 & 8/11\nFORO de Area 09 MSCA\nJuly 9\, 2023\n8:00 a.m. – 2:00 p.m.\n\n\n\n\n\nIn Person Venue:  15576 Main Street\, Hesperia CA 92345 \nZoom ID:  873 6607 8505 | Passcode:  Area09p72\nInfo:  Alex W @ (954) 654-3149 \n\nService\, Service & More Service \nSpeakers\, Round Tables and A Lot of Information \nDress to Impress \nMexican Food
URL:https://msca09aa.org/event/foro-3/
LOCATION:Hesperia Unified School District\, 15576 Main Street\, Hesperia\, CA\, 92345\, United States
CATEGORIES:Forum,Special Event
ATTACH;FMTTYPE=image/png:https://msca09aa.org/wp-content/uploads/2022/12/FORO2023-AREA09-EN.png
END:VEVENT
BEGIN:VEVENT
DTSTART;TZID=America/Los_Angeles:20230704T170000
DTEND;TZID=America/Los_Angeles:20230704T180000
DTSTAMP:20260420T102052
CREATED:20230527T180130Z
LAST-MODIFIED:20230527T180130Z
UID:9012-1688490000-1688493600@msca09aa.org
SUMMARY:DCMC School
DESCRIPTION:DCMC School\n\nThe DCM School meets the 1st Tuesday of the month at 5-6pm PST\nMeeting ID: 819 9776 8403Passcode: DCM
URL:https://msca09aa.org/event/dcmc-school-2/
LOCATION:ZOOM\, United States
CATEGORIES:Committee Meeting
ATTACH;FMTTYPE=image/jpeg:https://msca09aa.org/wp-content/uploads/2020/12/DCM-School.jpg
END:VEVENT
BEGIN:VEVENT
DTSTART;TZID=America/Los_Angeles:20230702T150000
DTEND;TZID=America/Los_Angeles:20230702T160000
DTSTAMP:20260420T102052
CREATED:20230508T184545Z
LAST-MODIFIED:20230508T184545Z
UID:8848-1688310000-1688313600@msca09aa.org
SUMMARY:12 Concepts Workshop
DESCRIPTION:Are you a tad bit confused by the 12 Concepts for World Service?  If so\, join our District 09 in-depth discussion on the 1st & 3rd Sundays from 3-4pmPT.\n\nZOOM Meeting ID:  928 8170 4093\nPasscode:  642408\n\nFacilitated by Francine W.\, D-09 PI Chair\nCome prepared with the current issue of the AA Service Manual
URL:https://msca09aa.org/event/12-concepts-workshop-5/
LOCATION:ZOOM\, United States
CATEGORIES:Workshop
ATTACH;FMTTYPE=image/png:https://msca09aa.org/wp-content/uploads/2023/05/Concepts-Workshop-series-revised-date.png
END:VEVENT
BEGIN:VEVENT
DTSTART;TZID=America/Los_Angeles:20230626T180000
DTEND;TZID=America/Los_Angeles:20230626T190000
DTSTAMP:20260420T102052
CREATED:20230312T174610Z
LAST-MODIFIED:20230312T174610Z
UID:8647-1687802400-1687806000@msca09aa.org
SUMMARY:Remote Communities Meeting
DESCRIPTION:Remote Communities Meeting\nLast Monday of Each Month\n6:00pm to 7:00pm via ZOOM\n\nJoin Zoom Meeting\nhttps://us02web.zoom.us/j/87346527029?pwd=K1d6YktOZ3I2dmp6dkVCelZIcGVxdz09\nMeeting ID: 873 4652 7029\nPasscode: 277176\nOne tap mobile\n+16699006833\,\,87346527029#\,\,\,\,*277176# US (San Jose)\n+16694449171\,\,87346527029#\,\,\,\,*277176# US
URL:https://msca09aa.org/event/remote-communities-meeting-4/
LOCATION:ZOOM\, United States
CATEGORIES:Meeting
ATTACH;FMTTYPE=image/jpeg:https://msca09aa.org/wp-content/uploads/2023/03/IMG_5177.jpg
END:VEVENT
BEGIN:VEVENT
DTSTART;TZID=America/Los_Angeles:20230622T190000
DTEND;TZID=America/Los_Angeles:20230622T194500
DTSTAMP:20260420T102052
CREATED:20230312T155835Z
LAST-MODIFIED:20230620T163706Z
UID:8613-1687460400-1687463100@msca09aa.org
SUMMARY:Treatment Committee Meeting
DESCRIPTION:Treatment Committee Zoom Meeting\n4th Thursday of each month\n7:00 – 7:45pm\n\n\n\n\n Join Zoom Meeting\nhttps://us06web.zoom.us/j/85437550762\nMeeting ID: 854 3755 0762\nPasscode: 244472
URL:https://msca09aa.org/event/treatment-committee-meeting-copy-2/
LOCATION:ZOOM\, United States
CATEGORIES:Meeting
END:VEVENT
BEGIN:VEVENT
DTSTART;TZID=America/Los_Angeles:20230618T150000
DTEND;TZID=America/Los_Angeles:20230618T160000
DTSTAMP:20260420T102052
CREATED:20230508T184509Z
LAST-MODIFIED:20230508T184509Z
UID:8846-1687100400-1687104000@msca09aa.org
SUMMARY:12 Concepts Workshop
DESCRIPTION:Are you a tad bit confused by the 12 Concepts for World Service?  If so\, join our District 09 in-depth discussion on the 1st & 3rd Sundays from 3-4pmPT.\n\nZOOM Meeting ID:  928 8170 4093\nPasscode:  642408\n\nFacilitated by Francine W.\, D-09 PI Chair\nCome prepared with the current issue of the AA Service Manual
URL:https://msca09aa.org/event/12-concepts-workshop-4/
LOCATION:ZOOM\, United States
CATEGORIES:Workshop
ATTACH;FMTTYPE=image/png:https://msca09aa.org/wp-content/uploads/2023/05/Concepts-Workshop-series-revised-date.png
END:VEVENT
BEGIN:VEVENT
DTSTART;TZID=America/Los_Angeles:20230617T110000
DTEND;TZID=America/Los_Angeles:20230617T120000
DTSTAMP:20260420T102052
CREATED:20230527T174816Z
LAST-MODIFIED:20230527T174959Z
UID:9006-1686999600-1687003200@msca09aa.org
SUMMARY:Literature Committee Meeting
DESCRIPTION:Literature Committee Meeting\nSaturday – June 11\, 2023 @ 11:00am\nMeeting ID: 810 5976 9570 | PW: 068055
URL:https://msca09aa.org/event/literature-committee-meeting-2/
LOCATION:ZOOM\, United States
CATEGORIES:Committee Meeting
ATTACH;FMTTYPE=image/png:https://msca09aa.org/wp-content/uploads/2023/05/book-circle.png
END:VEVENT
BEGIN:VEVENT
DTSTART;TZID=America/Los_Angeles:20230615T180000
DTEND;TZID=America/Los_Angeles:20230615T200000
DTSTAMP:20260420T102052
CREATED:20230520T165136Z
LAST-MODIFIED:20230520T170803Z
UID:8931-1686852000-1686859200@msca09aa.org
SUMMARY:A09 Workshop:  The How\, Why and Joy of a Class A Trustee & Why We Keep Them Around
DESCRIPTION:Area 09 Monthly Service Study\nPlease join us this month\nWe have wonderful guest speakers to take us through the concepts and various topics throughout the year!\nSpanish Interpretion is available!\n\nTopic:  The How\, Why and Joy of a Class A Trustee & Why We Keep Them Around\n\nDate: Thursday\, June 15\, 2023\nTimes are  below:\nCommittee Sharing Session: 6 pm – 7:00 p.m. PST\nService Manual Study: 7:00 p.m. – 8:00 p.m..PST\nFormat: Zoom\nMeeting ID: 873 6607 8505\nPassword: Area09p72
URL:https://msca09aa.org/event/area-09-service-workshop-committee-sharing-session/
LOCATION:ZOOM\, United States
CATEGORIES:Alt Delegate,Workshop
ATTACH;FMTTYPE=image/png:https://msca09aa.org/wp-content/uploads/2023/05/MSCA-Area-09-service-workshop-Committee-Sharing-session.png
END:VEVENT
BEGIN:VEVENT
DTSTART;TZID=America/Los_Angeles:20230611T090000
DTEND;TZID=America/Los_Angeles:20230611T150000
DTSTAMP:20260420T102052
CREATED:20221226T193840Z
LAST-MODIFIED:20230520T162841Z
UID:7894-1686474000-1686495600@msca09aa.org
SUMMARY:Area Service Committee (ASC)
DESCRIPTION:Hosted by District 04\n\n\nArea Service Committee Meeting – Hybrid Event\nLong Beach City College\n**Liberal Arts Campus**\n4901 East Carson Street\nLong Beach\, CA 90808\n9:00am to 3:00pm\n\nJoin Zoom Meeting\nhttps://us06web.zoom.us/j/89345463165?pwd=SG80QmNxS2YxNDcwOFBJb29CY2E4UT09\nMeeting ID: 893 4546 3165\nPasscode: 516818\n\nDelegate Sharing\nDelegate Q & A\nCommittee Meetings\nParking Included\nTaco Meal (with suggested $10 contribution)
URL:https://msca09aa.org/event/area-service-committee-asc-copy/
LOCATION:Long Beach Community College\, 4901 East Carson Street\, Long Beach\, CA\, 90808\, United States
CATEGORIES:ASC
ATTACH;FMTTYPE=image/png:https://msca09aa.org/wp-content/uploads/2022/12/Screenshot-2023-05-20-at-9.23.40-AM.png
END:VEVENT
BEGIN:VEVENT
DTSTART;TZID=America/Los_Angeles:20230606T170000
DTEND;TZID=America/Los_Angeles:20230606T180000
DTSTAMP:20260420T102052
CREATED:20230527T175807Z
LAST-MODIFIED:20230527T180016Z
UID:9008-1686070800-1686074400@msca09aa.org
SUMMARY:DCMC School
DESCRIPTION:DCMC School\n\nThe DCM School meets the 1st Tuesday of the month at 5-6pm PST\nMeeting ID: 819 9776 8403Passcode: DCM
URL:https://msca09aa.org/event/dcmc-school/
LOCATION:ZOOM\, United States
CATEGORIES:Committee Meeting
ATTACH;FMTTYPE=image/jpeg:https://msca09aa.org/wp-content/uploads/2020/12/DCM-School.jpg
END:VEVENT
BEGIN:VEVENT
DTSTART;TZID=America/Los_Angeles:20230604T150000
DTEND;TZID=America/Los_Angeles:20230604T160000
DTSTAMP:20260420T102052
CREATED:20230508T184430Z
LAST-MODIFIED:20230508T184430Z
UID:8844-1685890800-1685894400@msca09aa.org
SUMMARY:12 Concepts Workshop
DESCRIPTION:Are you a tad bit confused by the 12 Concepts for World Service?  If so\, join our District 09 in-depth discussion on the 1st & 3rd Sundays from 3-4pmPT.\n\nZOOM Meeting ID:  928 8170 4093\nPasscode:  642408\n\nFacilitated by Francine W.\, D-09 PI Chair\nCome prepared with the current issue of the AA Service Manual
URL:https://msca09aa.org/event/12-concepts-workshop-3/
LOCATION:ZOOM\, United States
CATEGORIES:Workshop
ATTACH;FMTTYPE=image/png:https://msca09aa.org/wp-content/uploads/2023/05/Concepts-Workshop-series-revised-date.png
END:VEVENT
BEGIN:VEVENT
DTSTART;TZID=America/Los_Angeles:20230603T110000
DTEND;TZID=America/Los_Angeles:20230603T120000
DTSTAMP:20260420T102052
CREATED:20230527T173205Z
LAST-MODIFIED:20230527T174217Z
UID:9001-1685790000-1685793600@msca09aa.org
SUMMARY:Literature Committee Meeting
DESCRIPTION:Literature Committee Meeting\nSaturday – June 3\, 2023 @ 11:00am\nMeeting ID: 810 5976 9570 | PW: 068055
URL:https://msca09aa.org/event/literature-committee-meeting/
LOCATION:ZOOM\, United States
CATEGORIES:Committee Meeting
ATTACH;FMTTYPE=image/png:https://msca09aa.org/wp-content/uploads/2023/05/book-circle.png
END:VEVENT
BEGIN:VEVENT
DTSTART;TZID=America/Los_Angeles:20230529T180000
DTEND;TZID=America/Los_Angeles:20230529T190000
DTSTAMP:20260420T102052
CREATED:20230312T174537Z
LAST-MODIFIED:20230312T174537Z
UID:8645-1685383200-1685386800@msca09aa.org
SUMMARY:Remote Communities Meeting
DESCRIPTION:Remote Communities Meeting\nLast Monday of Each Month\n6:00pm to 7:00pm via ZOOM\n\nJoin Zoom Meeting\nhttps://us02web.zoom.us/j/87346527029?pwd=K1d6YktOZ3I2dmp6dkVCelZIcGVxdz09\nMeeting ID: 873 4652 7029\nPasscode: 277176\nOne tap mobile\n+16699006833\,\,87346527029#\,\,\,\,*277176# US (San Jose)\n+16694449171\,\,87346527029#\,\,\,\,*277176# US
URL:https://msca09aa.org/event/remote-communities-meeting-3/
LOCATION:ZOOM\, United States
CATEGORIES:Meeting
ATTACH;FMTTYPE=image/jpeg:https://msca09aa.org/wp-content/uploads/2023/03/IMG_5177.jpg
END:VEVENT
BEGIN:VEVENT
DTSTART;TZID=America/Los_Angeles:20230528T150000
DTEND;TZID=America/Los_Angeles:20230528T235900
DTSTAMP:20260420T102052
CREATED:20230430T014123Z
LAST-MODIFIED:20230520T164218Z
UID:8821-1685286000-1685318340@msca09aa.org
SUMMARY:AOCYPAA Presents "STEPS COME ALIVE"
DESCRIPTION:
URL:https://msca09aa.org/event/aocypaa-presents-steps-come-alive/
LOCATION:Laguna Beach Canyon Club\, 20456 Laguna Canyon Road\, Laguna Beach\, CA\, 92651\, United States
CATEGORIES:Special Event
ATTACH;FMTTYPE=image/jpeg:https://msca09aa.org/wp-content/uploads/2023/04/WhatsApp-Image-2023-04-29-at-18.32.55-11.jpg
END:VEVENT
BEGIN:VEVENT
DTSTART;TZID=America/Los_Angeles:20230525T190000
DTEND;TZID=America/Los_Angeles:20230525T194500
DTSTAMP:20260420T102052
CREATED:20230312T155738Z
LAST-MODIFIED:20230312T155738Z
UID:8611-1685041200-1685043900@msca09aa.org
SUMMARY:Treatment Committee Meeting
DESCRIPTION:Treatment Committee Zoom Meeting\n4th Monday of each month\n7:00 – 7:45pm\n\n\n\n\n Join Zoom Meeting\nhttps://us06web.zoom.us/j/85437550762\nMeeting ID: 854 3755 0762\nPasscode: 244472
URL:https://msca09aa.org/event/treatment-committee-meeting-2/
LOCATION:ZOOM\, United States
CATEGORIES:Meeting
END:VEVENT
BEGIN:VEVENT
DTSTART;TZID=America/Los_Angeles:20230521T150000
DTEND;TZID=America/Los_Angeles:20230521T160000
DTSTAMP:20260420T102052
CREATED:20230508T184344Z
LAST-MODIFIED:20230508T184344Z
UID:8842-1684681200-1684684800@msca09aa.org
SUMMARY:12 Concepts Workshop
DESCRIPTION:Are you a tad bit confused by the 12 Concepts for World Service?  If so\, join our District 09 in-depth discussion on the 1st & 3rd Sundays from 3-4pmPT.\n\nZOOM Meeting ID:  928 8170 4093\nPasscode:  642408\n\nFacilitated by Francine W.\, D-09 PI Chair\nCome prepared with the current issue of the AA Service Manual
URL:https://msca09aa.org/event/12-concepts-workshop-2/
LOCATION:ZOOM\, United States
CATEGORIES:Workshop
ATTACH;FMTTYPE=image/png:https://msca09aa.org/wp-content/uploads/2023/05/Concepts-Workshop-series-revised-date.png
END:VEVENT
BEGIN:VEVENT
DTSTART;TZID=America/Los_Angeles:20230521T090000
DTEND;TZID=America/Los_Angeles:20230521T150000
DTSTAMP:20260420T102052
CREATED:20221226T192054Z
LAST-MODIFIED:20230411T033008Z
UID:7881-1684659600-1684681200@msca09aa.org
SUMMARY:MSCA 09 Area Assembly - Delegate Shareback
DESCRIPTION:Hosted by District 14\n\n\nSunday – May 21\, 2023 | 9am to 3pm\nHemet Seven-Day Adventist Church\n27025 Girard Street\nHemet\, CA 92544\n\nRegister in advance for this meeting:\nhttps://us06web.zoom.us/meeting/register/tZcud-ytqTkuG9FKjrJvXo1VTUAfh7wcNecw\nAfter registering\, you will receive a confirmation email containing information about joining the meeting.\n\nEnglish Flyer: Shareback flyer- Hemet (1)\nSpanish Flyer:  Coming Soon
URL:https://msca09aa.org/event/msca-09-area-assembly-delegate-shareback/
LOCATION:Hemet Seven-Day Adventist Church\, 27025 Girard Street\, Hemet\, CA\, 92544\, United States
CATEGORIES:Assembly
ATTACH;FMTTYPE=image/png:https://msca09aa.org/wp-content/uploads/2022/12/Screenshot-2023-04-10-at-8.25.23-PM.png
END:VEVENT
BEGIN:VEVENT
DTSTART;TZID=America/Los_Angeles:20230520T180000
DTEND;TZID=America/Los_Angeles:20230520T210000
DTSTAMP:20260420T102052
CREATED:20230218T225236Z
LAST-MODIFIED:20230403T003246Z
UID:8376-1684605600-1684616400@msca09aa.org
SUMMARY:MSCA 09 Dinner Event - Delegate Shareback
DESCRIPTION:Hosted by District 18\nFor details\, email Jay (D18-DCMC) at district18dcmc@gmail.com
URL:https://msca09aa.org/event/area-09-delegate-shareback-dinner-event/
LOCATION:Norma Hertzog Community Center\, 1845 Park Avenue\, Costa Mesa\, CA\, 92627\, United States
CATEGORIES:Special Event
ATTACH;FMTTYPE=application/pdf:https://msca09aa.org/wp-content/uploads/2023/02/May-20-sharback-event-flyer-1.pdf
END:VEVENT
BEGIN:VEVENT
DTSTART;TZID=America/Los_Angeles:20230519T083000
DTEND;TZID=America/Los_Angeles:20230519T150000
DTSTAMP:20260420T102052
CREATED:20231204T061645Z
LAST-MODIFIED:20231204T061645Z
UID:10480-1684485000-1684508400@msca09aa.org
SUMMARY:MSCA09 Area Assembly and Delegate Share Back
DESCRIPTION:Hosted by District 8\n\n\n\n\nYou are invited to a Zoom meeting.\nWhen:  May 19\, 2024\, 08:30 AM Pacific Time (US and Canada)\nRegister in advance for this meeting: \n\nhttps://us06web.zoom.us/meeting/register/tZEufuCopjIrG9Xd-_lgCTJjKCO2RwyzinvO\nAfter registering\, you will receive a confirmation email containing information about joining the meeting.
URL:https://msca09aa.org/event/msca09-area-assembly-20240519/
CATEGORIES:Assembly
END:VEVENT
BEGIN:VEVENT
DTSTART;TZID=America/Los_Angeles:20230518T180000
DTEND;TZID=America/Los_Angeles:20230518T200000
DTSTAMP:20260420T102052
CREATED:20230517T224939Z
LAST-MODIFIED:20230520T170831Z
UID:8885-1684432800-1684440000@msca09aa.org
SUMMARY:A09 Workshop:  What the Conference is Actually Like
DESCRIPTION:Area 09 Monthly Service Study\nPlease join us this month\nWe have wonderful guest speakers to take us through the concepts and various topics throughout the year!\nSpanish Interpretion is available!\n\nTopic:  What the Conference is Actually Like\n\nDate: Thursday\, May 18\, 2023\,\nTimes are  below:\nCommittee Sharing Session: 6 pm – 7:00 p.m. PST\nService Manual Study: 7:00 p.m. – 8:00 p.m..PST\nFormat: Zoom\nMeeting ID: 873 6607 8505\nPassword: Area09p72
URL:https://msca09aa.org/event/area-09-service-sharing-workshop/
LOCATION:ZOOM\, United States
CATEGORIES:Alt Delegate,Workshop
ATTACH;FMTTYPE=image/png:https://msca09aa.org/wp-content/uploads/2023/05/MSCA-Area-09-service-workshop-Committee-Sharing-session.png
END:VEVENT
BEGIN:VEVENT
DTSTART;TZID=America/Los_Angeles:20230513T130000
DTEND;TZID=America/Los_Angeles:20230513T160000
DTSTAMP:20260420T102052
CREATED:20230421T231422Z
LAST-MODIFIED:20230421T231505Z
UID:8807-1683982800-1683993600@msca09aa.org
SUMMARY:Sponsorship Workshop
DESCRIPTION:Chapter 7\nWorking with Others\nSponsorship Workshop\n\nLaguna United Methodist Church\n24442 Moulton Pkwy\nLaguna Woods\, CA 92637\n\n1:00 – 1:45pm Lunch\n1:45 – 3:15pm Speakers\n3:15 – 4:00pm Q&A\nEvent Flyer: sponsorship workshop fly_001
URL:https://msca09aa.org/event/sponsorship-workshop/
LOCATION:Laguna United Methodist Church\, 24442 Moulton Pkwy\, Laguna Woods\, CA\, 92637\, United States
CATEGORIES:Workshop
ATTACH;FMTTYPE=image/png:https://msca09aa.org/wp-content/uploads/2023/04/Screenshot-2023-04-21-at-4.11.09-PM.png
END:VEVENT
BEGIN:VEVENT
DTSTART;TZID=America/Los_Angeles:20230507T150000
DTEND;TZID=America/Los_Angeles:20230507T160000
DTSTAMP:20260420T102052
CREATED:20230508T184118Z
LAST-MODIFIED:20230508T184148Z
UID:8838-1683471600-1683475200@msca09aa.org
SUMMARY:12 Concepts Workshop
DESCRIPTION:Are you a tad bit confused by the 12 Concepts for World Service?  If so\, join our District 09 in-depth discussion on the 1st & 3rd Sundays from 3-4pmPT.\n\nZOOM Meeting ID:  928 8170 4093\nPasscode:  642408\n\nFacilitated by Francine W.\, D-09 PI Chair\nCome prepared with the current issue of the AA Service Manual
URL:https://msca09aa.org/event/12-concepts-workshop/
LOCATION:ZOOM\, United States
CATEGORIES:Workshop
ATTACH;FMTTYPE=image/png:https://msca09aa.org/wp-content/uploads/2023/05/Concepts-Workshop-series-revised-date.png
END:VEVENT
BEGIN:VEVENT
DTSTART;TZID=America/Los_Angeles:20230507T100000
DTEND;TZID=America/Los_Angeles:20230507T130000
DTSTAMP:20260420T102052
CREATED:20230430T014024Z
LAST-MODIFIED:20230502T171502Z
UID:8817-1683453600-1683464400@msca09aa.org
SUMMARY:MSCA09 Archives "Open House"
DESCRIPTION:Mid-Southern California Area 09 Archives Committee presents the\nMSCA09 Archives Open House\n7111 Arlington Avenue\nSuite B\nRiverside\, CA\n\nSunday\, May 7 2023\n10:00am to 1:00pm\n\nProgram Theme:\n‘Spanish Language Districts – Their History and Growth in Area 09’\nGuest Speaker:  Alvaro “Al” P (Past MSCA09 Panel 50 Delegate)\nFood and Refreshments\n\nEnglish Flyer:  MSCA09 Archives Open House Flyer_2023-05-07_English_FINAL-Rev\nSpanish Flyer: MSCA09 Archives Open House Flyer_2023-05-07_Spanish_FINAL-Rev
URL:https://msca09aa.org/event/msca09-archives-open-house/
LOCATION:Archives\, 7111 Arlington Avenue - Suite B\, Riverside\, CA\, 92503\, United States
CATEGORIES:Special Event
ATTACH;FMTTYPE=image/jpeg:https://msca09aa.org/wp-content/uploads/2023/04/WhatsApp-Image-2023-04-29-at-18.32.55.jpg
ORGANIZER;CN="MSCA Archives":MAILTO:archives@msca09aa.org
END:VEVENT
BEGIN:VEVENT
DTSTART;TZID=America/Los_Angeles:20230427T190000
DTEND;TZID=America/Los_Angeles:20230427T194500
DTSTAMP:20260420T102052
CREATED:20230312T155646Z
LAST-MODIFIED:20230312T155656Z
UID:8608-1682622000-1682624700@msca09aa.org
SUMMARY:Treatment Committee Meeting
DESCRIPTION:Treatment Committee Zoom Meeting\n4th Monday of each month\n7:00 – 7:45pm\n\n\n\n\n Join Zoom Meeting\nhttps://us06web.zoom.us/j/85437550762\nMeeting ID: 854 3755 0762\nPasscode: 244472
URL:https://msca09aa.org/event/treatment-committee-meeting-copy/
LOCATION:ZOOM\, United States
CATEGORIES:Meeting
END:VEVENT
BEGIN:VEVENT
DTSTART;TZID=America/Los_Angeles:20230424T180000
DTEND;TZID=America/Los_Angeles:20230424T190000
DTSTAMP:20260420T102052
CREATED:20230312T174509Z
LAST-MODIFIED:20240210T024258Z
UID:8643-1682359200-1682362800@msca09aa.org
SUMMARY:Remote Communities Meeting
DESCRIPTION:Remote Communities Meeting\nLast Monday of Each Month\n6:00pm to 7:00pm via ZOOM\n\nJoin Zoom Meeting\nhttps://us02web.zoom.us/j/87346527029?pwd=K1d6YktOZ3I2dmp6dkVCelZIcGVxdz09\nMeeting ID: 873 4652 7029\nPasscode: 277176\nOne tap mobile\n+16699006833\,\,87346527029#\,\,\,\,*277176# US (San Jose)\n+16694449171\,\,87346527029#\,\,\,\,*277176# US
URL:https://msca09aa.org/event/remote-communities-meeting-2/
LOCATION:ZOOM\, United States
CATEGORIES:Meeting
ATTACH;FMTTYPE=image/jpeg:https://msca09aa.org/wp-content/uploads/2023/03/IMG_5177.jpg
END:VEVENT
BEGIN:VEVENT
DTSTART;TZID=America/Los_Angeles:20230416T160000
DTEND;TZID=America/Los_Angeles:20230416T170000
DTSTAMP:20260420T102052
CREATED:20230226T153148Z
LAST-MODIFIED:20230226T153148Z
UID:8468-1681660800-1681664400@msca09aa.org
SUMMARY:Chat with the Delegate
DESCRIPTION:To help reach A.A. members in addition to in-person and District meetings\, Delegate Mitchell B. will host Zoom meetings on Sundays between Feb.26 and April 16 as town halls and information sessions for discussion about Agenda Items for the 73rd General Service Conference\, April 23-29\, 2023. They are intended to be Q&A with feedback for the Delegate on agenda items or information for GSRs to take back to their groups.  The sessions will be one hour 4:00 – 5:00 p.m. to have discussions with the Delegate on agenda items.\nhttps://us06web.zoom.us/j/84332407464?pwd=TlphdFY1NW1Ha3BNeXBnMHJmczE5QT09\nZoom ID:  843 3240 7464  password:  service\n4:00 – 5:00 pm
URL:https://msca09aa.org/event/chat-with-the-delegate-4/
LOCATION:ZOOM\, United States
CATEGORIES:Special Event
END:VEVENT
END:VCALENDAR