BEGIN:VCALENDAR
VERSION:2.0
PRODID:-//Mid-Southern California Area 09 - ECPv6.15.20//NONSGML v1.0//EN
CALSCALE:GREGORIAN
METHOD:PUBLISH
X-ORIGINAL-URL:https://msca09aa.org
X-WR-CALDESC:Events for Mid-Southern California Area 09
REFRESH-INTERVAL;VALUE=DURATION:PT1H
X-Robots-Tag:noindex
X-PUBLISHED-TTL:PT1H
BEGIN:VTIMEZONE
TZID:America/Los_Angeles
BEGIN:DAYLIGHT
TZOFFSETFROM:-0800
TZOFFSETTO:-0700
TZNAME:PDT
DTSTART:20220313T100000
END:DAYLIGHT
BEGIN:STANDARD
TZOFFSETFROM:-0700
TZOFFSETTO:-0800
TZNAME:PST
DTSTART:20221106T090000
END:STANDARD
BEGIN:DAYLIGHT
TZOFFSETFROM:-0800
TZOFFSETTO:-0700
TZNAME:PDT
DTSTART:20230312T100000
END:DAYLIGHT
BEGIN:STANDARD
TZOFFSETFROM:-0700
TZOFFSETTO:-0800
TZNAME:PST
DTSTART:20231105T090000
END:STANDARD
BEGIN:DAYLIGHT
TZOFFSETFROM:-0800
TZOFFSETTO:-0700
TZNAME:PDT
DTSTART:20240310T100000
END:DAYLIGHT
BEGIN:STANDARD
TZOFFSETFROM:-0700
TZOFFSETTO:-0800
TZNAME:PST
DTSTART:20241103T090000
END:STANDARD
END:VTIMEZONE
BEGIN:VEVENT
DTSTART;TZID=America/Los_Angeles:20231123T190000
DTEND;TZID=America/Los_Angeles:20231123T194500
DTSTAMP:20260422T235734
CREATED:20230312T161223Z
LAST-MODIFIED:20230620T163519Z
UID:8626-1700766000-1700768700@msca09aa.org
SUMMARY:Treatment Committee Meeting
DESCRIPTION:Treatment Committee Zoom Meeting\n4th Thursday of each month\n7:00 – 7:45pm\n\n\n\n\n Join Zoom Meeting\nhttps://us06web.zoom.us/j/85437550762\nMeeting ID: 854 3755 0762\nPasscode: 244472
URL:https://msca09aa.org/event/treatment-committee-meeting-8/
LOCATION:ZOOM\, United States
CATEGORIES:Meeting
END:VEVENT
BEGIN:VEVENT
DTSTART;TZID=America/Los_Angeles:20231127T180000
DTEND;TZID=America/Los_Angeles:20231127T190000
DTSTAMP:20260422T235734
CREATED:20230312T174842Z
LAST-MODIFIED:20230312T174842Z
UID:8657-1701108000-1701111600@msca09aa.org
SUMMARY:Remote Communities Meeting
DESCRIPTION:Remote Communities Meeting\nLast Monday of Each Month\n6:00pm to 7:00pm via ZOOM\n\nJoin Zoom Meeting\nhttps://us02web.zoom.us/j/87346527029?pwd=K1d6YktOZ3I2dmp6dkVCelZIcGVxdz09\nMeeting ID: 873 4652 7029\nPasscode: 277176\nOne tap mobile\n+16699006833\,\,87346527029#\,\,\,\,*277176# US (San Jose)\n+16694449171\,\,87346527029#\,\,\,\,*277176# US
URL:https://msca09aa.org/event/remote-communities-meeting-9/
LOCATION:ZOOM\, United States
CATEGORIES:Meeting
ATTACH;FMTTYPE=image/jpeg:https://msca09aa.org/wp-content/uploads/2023/03/IMG_5177.jpg
END:VEVENT
END:VCALENDAR