BEGIN:VCALENDAR
VERSION:2.0
PRODID:-//Mid-Southern California Area 09 - ECPv6.15.20//NONSGML v1.0//EN
CALSCALE:GREGORIAN
METHOD:PUBLISH
X-ORIGINAL-URL:https://msca09aa.org
X-WR-CALDESC:Events for Mid-Southern California Area 09
REFRESH-INTERVAL;VALUE=DURATION:PT1H
X-Robots-Tag:noindex
X-PUBLISHED-TTL:PT1H
BEGIN:VTIMEZONE
TZID:America/Los_Angeles
BEGIN:DAYLIGHT
TZOFFSETFROM:-0800
TZOFFSETTO:-0700
TZNAME:PDT
DTSTART:20190310T100000
END:DAYLIGHT
BEGIN:STANDARD
TZOFFSETFROM:-0700
TZOFFSETTO:-0800
TZNAME:PST
DTSTART:20191103T090000
END:STANDARD
BEGIN:DAYLIGHT
TZOFFSETFROM:-0800
TZOFFSETTO:-0700
TZNAME:PDT
DTSTART:20200308T100000
END:DAYLIGHT
BEGIN:STANDARD
TZOFFSETFROM:-0700
TZOFFSETTO:-0800
TZNAME:PST
DTSTART:20201101T090000
END:STANDARD
BEGIN:DAYLIGHT
TZOFFSETFROM:-0800
TZOFFSETTO:-0700
TZNAME:PDT
DTSTART:20210314T100000
END:DAYLIGHT
BEGIN:STANDARD
TZOFFSETFROM:-0700
TZOFFSETTO:-0800
TZNAME:PST
DTSTART:20211107T090000
END:STANDARD
END:VTIMEZONE
BEGIN:VEVENT
DTSTART;VALUE=DATE:20201218
DTEND;VALUE=DATE:20201220
DTSTAMP:20260423T075127
CREATED:20201207T081608Z
LAST-MODIFIED:20240210T024359Z
UID:113-1608307200-1608393599@msca09aa.org
SUMMARY:2020: Experience\, Strength & Hope Forum
DESCRIPTION:We are happy to announce a Virtual Western U.S./Canada Forum on December 19\, 2020: “2020: Experience\, Strength & Hope – what it was like\, what happened\, and what it is like now.” \nThe one-day event will feature participation from the Pacific\, Southwest\, West Central and Western Canada Regions.  As with traditional Regional Forums\, the day will include workshops\, presentations\, Q&A’s\, General Sharing and much\, much more! \nRegistration will open on November 20\, 2020.  Register at https://www.eventbrite.com/e/western-uscanada-virtual-forum-registration-128516372931 \nAll members are invited\, so get on the virtual bus!  Bring a newcomer! \nIn fellowship\, \nSandra W. \nRegional Forums
URL:https://msca09aa.org/event/2020-experience-strength-hope-forum/
LOCATION:ZOOM\, United States
CATEGORIES:Forum
END:VEVENT
END:VCALENDAR