BEGIN:VCALENDAR
VERSION:2.0
PRODID:-//Mid-Southern California Area 09 - ECPv6.15.20//NONSGML v1.0//EN
CALSCALE:GREGORIAN
METHOD:PUBLISH
X-WR-CALNAME:Mid-Southern California Area 09
X-ORIGINAL-URL:https://msca09aa.org
X-WR-CALDESC:Events for Mid-Southern California Area 09
REFRESH-INTERVAL;VALUE=DURATION:PT1H
X-Robots-Tag:noindex
X-PUBLISHED-TTL:PT1H
BEGIN:VTIMEZONE
TZID:America/Los_Angeles
BEGIN:DAYLIGHT
TZOFFSETFROM:-0800
TZOFFSETTO:-0700
TZNAME:PDT
DTSTART:20200308T100000
END:DAYLIGHT
BEGIN:STANDARD
TZOFFSETFROM:-0700
TZOFFSETTO:-0800
TZNAME:PST
DTSTART:20201101T090000
END:STANDARD
BEGIN:DAYLIGHT
TZOFFSETFROM:-0800
TZOFFSETTO:-0700
TZNAME:PDT
DTSTART:20210314T100000
END:DAYLIGHT
BEGIN:STANDARD
TZOFFSETFROM:-0700
TZOFFSETTO:-0800
TZNAME:PST
DTSTART:20211107T090000
END:STANDARD
BEGIN:DAYLIGHT
TZOFFSETFROM:-0800
TZOFFSETTO:-0700
TZNAME:PDT
DTSTART:20220313T100000
END:DAYLIGHT
BEGIN:STANDARD
TZOFFSETFROM:-0700
TZOFFSETTO:-0800
TZNAME:PST
DTSTART:20221106T090000
END:STANDARD
END:VTIMEZONE
BEGIN:VEVENT
DTSTART;TZID=America/Los_Angeles:20210118T190000
DTEND;TZID=America/Los_Angeles:20210118T203000
DTSTAMP:20260424T193711
CREATED:20210112T193522Z
LAST-MODIFIED:20210112T193634Z
UID:2631-1610996400-1611001800@msca09aa.org
SUMMARY:Electronic Media Sub-Committee Meeting
DESCRIPTION:ALL ARE WELCOME TO JOIN US \nNext Meeting on Jan 18th 7:00 – 8:30pm.\n\nZoom Meeting:861 4086 6994 Passcode: EMS \n\nAgenda:  Jan 18th 2021 Agenda EMC\n\n \nFaith – Webservant \nJustin – secretary/treasurer\nStacey- Online Meeting Chick \nAlex – Chair/Researcher/App/inventor \nMitchell – Member at large (Holds us in check) 
URL:https://msca09aa.org/event/electronic-media-sub-committee-meeting/
LOCATION:ZOOM\, United States
CATEGORIES:Committee Meeting
ORGANIZER;CN="EMS":MAILTO:sca09.tech.committee@gmail.com
END:VEVENT
END:VCALENDAR