BEGIN:VCALENDAR
VERSION:2.0
PRODID:-//Mid-Southern California Area 09 - ECPv6.15.20//NONSGML v1.0//EN
CALSCALE:GREGORIAN
METHOD:PUBLISH
X-WR-CALNAME:Mid-Southern California Area 09
X-ORIGINAL-URL:https://msca09aa.org
X-WR-CALDESC:Events for Mid-Southern California Area 09
REFRESH-INTERVAL;VALUE=DURATION:PT1H
X-Robots-Tag:noindex
X-PUBLISHED-TTL:PT1H
BEGIN:VTIMEZONE
TZID:America/Los_Angeles
BEGIN:DAYLIGHT
TZOFFSETFROM:-0800
TZOFFSETTO:-0700
TZNAME:PDT
DTSTART:20210314T100000
END:DAYLIGHT
BEGIN:STANDARD
TZOFFSETFROM:-0700
TZOFFSETTO:-0800
TZNAME:PST
DTSTART:20211107T090000
END:STANDARD
BEGIN:DAYLIGHT
TZOFFSETFROM:-0800
TZOFFSETTO:-0700
TZNAME:PDT
DTSTART:20220313T100000
END:DAYLIGHT
BEGIN:STANDARD
TZOFFSETFROM:-0700
TZOFFSETTO:-0800
TZNAME:PST
DTSTART:20221106T090000
END:STANDARD
BEGIN:DAYLIGHT
TZOFFSETFROM:-0800
TZOFFSETTO:-0700
TZNAME:PDT
DTSTART:20230312T100000
END:DAYLIGHT
BEGIN:STANDARD
TZOFFSETFROM:-0700
TZOFFSETTO:-0800
TZNAME:PST
DTSTART:20231105T090000
END:STANDARD
END:VTIMEZONE
BEGIN:VEVENT
DTSTART;VALUE=DATE:20221112
DTEND;VALUE=DATE:20221113
DTSTAMP:20260420T002850
CREATED:20220220T174446Z
LAST-MODIFIED:20220220T174446Z
UID:6404-1668211200-1668297599@msca09aa.org
SUMMARY:MSCA Area 09 Committee Chair Quarterly Check-In
DESCRIPTION:
URL:https://msca09aa.org/event/msca-area-09-committee-chair-quarterly-check-in-3/
LOCATION:ZOOM\, United States
CATEGORIES:Alt Delegate
END:VEVENT
BEGIN:VEVENT
DTSTART;TZID=America/Los_Angeles:20221020T190000
DTEND;TZID=America/Los_Angeles:20221020T200000
DTSTAMP:20260420T002850
CREATED:20220220T171653Z
LAST-MODIFIED:20220220T171653Z
UID:6377-1666292400-1666296000@msca09aa.org
SUMMARY:MSCA Area 09 Service Workshop
DESCRIPTION:Third Thursday of Every Month \nMeeting ID:  873 6607 8505\nPasscode: Area09p72
URL:https://msca09aa.org/event/msca-area-09-service-workshop-8/
LOCATION:ZOOM\, United States
CATEGORIES:Alt Delegate
END:VEVENT
BEGIN:VEVENT
DTSTART;TZID=America/Los_Angeles:20220915T190000
DTEND;TZID=America/Los_Angeles:20220915T200000
DTSTAMP:20260420T002850
CREATED:20220220T171523Z
LAST-MODIFIED:20220220T171523Z
UID:6375-1663268400-1663272000@msca09aa.org
SUMMARY:MSCA Area 09 Service Workshop
DESCRIPTION:Third Thursday of Every Month \nMeeting ID:  873 6607 8505\nPasscode: Area09p72
URL:https://msca09aa.org/event/msca-area-09-service-workshop-7/
LOCATION:ZOOM\, United States
CATEGORIES:Alt Delegate
END:VEVENT
BEGIN:VEVENT
DTSTART;TZID=America/Los_Angeles:20220818T190000
DTEND;TZID=America/Los_Angeles:20220818T200000
DTSTAMP:20260420T002850
CREATED:20220220T170700Z
LAST-MODIFIED:20220220T170700Z
UID:6373-1660849200-1660852800@msca09aa.org
SUMMARY:MSCA Area 09 Service Workshop
DESCRIPTION:Third Thursday of Every Month \nMeeting ID:  873 6607 8505\nPasscode: Area09p72s
URL:https://msca09aa.org/event/msca-area-09-service-workshop-6/
LOCATION:ZOOM\, United States
CATEGORIES:Alt Delegate
END:VEVENT
BEGIN:VEVENT
DTSTART;TZID=America/Los_Angeles:20220721T190000
DTEND;TZID=America/Los_Angeles:20220721T200000
DTSTAMP:20260420T002850
CREATED:20220220T170347Z
LAST-MODIFIED:20220220T170347Z
UID:6371-1658430000-1658433600@msca09aa.org
SUMMARY:MSCA Area 09 Service Workshop
DESCRIPTION:Third Thursday of Every Month \nMeeting ID:  873 6607 8505\nPasscode: Area09p72ser
URL:https://msca09aa.org/event/msca-area-09-service-workshop-5/
LOCATION:ZOOM\, United States
CATEGORIES:Alt Delegate
END:VEVENT
BEGIN:VEVENT
DTSTART;VALUE=DATE:20220710
DTEND;VALUE=DATE:20220711
DTSTAMP:20260420T002850
CREATED:20220220T174341Z
LAST-MODIFIED:20220220T174341Z
UID:6402-1657411200-1657497599@msca09aa.org
SUMMARY:MSCA Area 09 Committee Chair Quarterly Check-In
DESCRIPTION:
URL:https://msca09aa.org/event/msca-area-09-committee-chair-quarterly-check-in-2/
LOCATION:ZOOM\, United States
CATEGORIES:Alt Delegate
END:VEVENT
BEGIN:VEVENT
DTSTART;TZID=America/Los_Angeles:20220616T190000
DTEND;TZID=America/Los_Angeles:20220616T200000
DTSTAMP:20260420T002850
CREATED:20220220T170215Z
LAST-MODIFIED:20220425T181148Z
UID:6369-1655406000-1655409600@msca09aa.org
SUMMARY:MSCA Area 09 Service Workshop
DESCRIPTION:Third Thursday of Every Month \nMeeting ID:  873 6607 8505\nPasscode: Area09p72service
URL:https://msca09aa.org/event/msca-area-09-service-workshop-4/
LOCATION:ZOOM\, United States
CATEGORIES:Alt Delegate
END:VEVENT
BEGIN:VEVENT
DTSTART;TZID=America/Los_Angeles:20220519T190000
DTEND;TZID=America/Los_Angeles:20220519T200000
DTSTAMP:20260420T002850
CREATED:20220220T170100Z
LAST-MODIFIED:20220425T181052Z
UID:6367-1652986800-1652990400@msca09aa.org
SUMMARY:MSCA Area 09 Service Workshop
DESCRIPTION:Third Thursday of Every Month \nMeeting ID:  873 6607 8505\nPasscode: Area09p72
URL:https://msca09aa.org/event/msca-area-09-service-workshop-3/
LOCATION:ZOOM\, United States
CATEGORIES:Alt Delegate
END:VEVENT
BEGIN:VEVENT
DTSTART;TZID=America/Los_Angeles:20220421T190000
DTEND;TZID=America/Los_Angeles:20220421T200000
DTSTAMP:20260420T002850
CREATED:20220220T165801Z
LAST-MODIFIED:20220408T204723Z
UID:6363-1650567600-1650571200@msca09aa.org
SUMMARY:MSCA Area 09 Service Workshop
DESCRIPTION:Third Thursday of Every Month \nMeeting ID:  873 6607 8505\nPasscode: Area09p72
URL:https://msca09aa.org/event/msca-area-09-service-workshop-2/
LOCATION:ZOOM\, United States
CATEGORIES:Alt Delegate
END:VEVENT
BEGIN:VEVENT
DTSTART;VALUE=DATE:20220410
DTEND;VALUE=DATE:20220411
DTSTAMP:20260420T002850
CREATED:20220220T174248Z
LAST-MODIFIED:20220220T174248Z
UID:6400-1649548800-1649635199@msca09aa.org
SUMMARY:MSCA Area 09 Committee Chair Quarterly Check-In
DESCRIPTION:
URL:https://msca09aa.org/event/msca-area-09-committee-chair-quarterly-check-in/
LOCATION:ZOOM\, United States
CATEGORIES:Alt Delegate
END:VEVENT
BEGIN:VEVENT
DTSTART;TZID=America/Los_Angeles:20220317T190000
DTEND;TZID=America/Los_Angeles:20220317T200000
DTSTAMP:20260420T002850
CREATED:20220220T165543Z
LAST-MODIFIED:20220220T172206Z
UID:6360-1647543600-1647547200@msca09aa.org
SUMMARY:MSCA Area 09 Service Workshop
DESCRIPTION:Third Thursday of Every Month \nMeeting ID:  873 6607 8505\nPasscode: Area09p72
URL:https://msca09aa.org/event/msca-area-09-service-workshop/
LOCATION:ZOOM\, United States
CATEGORIES:Alt Delegate
ATTACH;FMTTYPE=image/png:https://msca09aa.org/wp-content/uploads/2022/02/image0-2.png
END:VEVENT
END:VCALENDAR