BEGIN:VCALENDAR
VERSION:2.0
PRODID:-//Mid-Southern California Area 09 - ECPv6.15.20//NONSGML v1.0//EN
CALSCALE:GREGORIAN
METHOD:PUBLISH
X-ORIGINAL-URL:https://msca09aa.org
X-WR-CALDESC:Events for Mid-Southern California Area 09
REFRESH-INTERVAL;VALUE=DURATION:PT1H
X-Robots-Tag:noindex
X-PUBLISHED-TTL:PT1H
BEGIN:VTIMEZONE
TZID:America/Los_Angeles
BEGIN:DAYLIGHT
TZOFFSETFROM:-0800
TZOFFSETTO:-0700
TZNAME:PDT
DTSTART:20240310T100000
END:DAYLIGHT
BEGIN:STANDARD
TZOFFSETFROM:-0700
TZOFFSETTO:-0800
TZNAME:PST
DTSTART:20241103T090000
END:STANDARD
BEGIN:DAYLIGHT
TZOFFSETFROM:-0800
TZOFFSETTO:-0700
TZNAME:PDT
DTSTART:20250309T100000
END:DAYLIGHT
BEGIN:STANDARD
TZOFFSETFROM:-0700
TZOFFSETTO:-0800
TZNAME:PST
DTSTART:20251102T090000
END:STANDARD
BEGIN:DAYLIGHT
TZOFFSETFROM:-0800
TZOFFSETTO:-0700
TZNAME:PDT
DTSTART:20260308T100000
END:DAYLIGHT
BEGIN:STANDARD
TZOFFSETFROM:-0700
TZOFFSETTO:-0800
TZNAME:PST
DTSTART:20261101T090000
END:STANDARD
END:VTIMEZONE
BEGIN:VEVENT
DTSTART;TZID=America/Los_Angeles:20250417T180000
DTEND;TZID=America/Los_Angeles:20250417T201500
DTSTAMP:20260419T155010
CREATED:20250107T001841Z
LAST-MODIFIED:20250410T152417Z
UID:53345-1744912800-1744920900@msca09aa.org
SUMMARY:2025 MSCA 09 Monthly Service Study and Committee Sharing - 4/17
DESCRIPTION:2025 MSCA 09 Monthly Service Study\n& Committee Sharing Session\n\n\n\n\nWHEN: 3rd Thursday of Every Month\nWHERE: “Virtual Only”\nMeeting ID: 873 6607 8505 (Zoom link: https://us06web.zoom.us/j/87366078505_) \nPasscode: Area09p74 \n6:00 pm—7:00pm-pst SERVICE STUDY \n7:15 pm—8:15pm-pst MSCA 09 COMMITTEE SHARING SESSION \n*ALL ARE WELCOME TO ATTEND! \n\n\n\n\n\n\nApril 17\, 2025 – Concepts 7 and 8\nConcept 7 – Claudio B (Area 07 Alternate Delegate)\nConcept 8 – Francine W.\, Panel 74 Area 09 Grapevine Chair\n\n\n\n\n[su_row][su_column size=”1/4″ center=”no” class=””][/su_column] [su_column size=”1/4″ center=”no” class=””][/su_column][/su_row]
URL:https://msca09aa.org/event/2025-msca-09-monthly-service-study-and-committee-sharing-4-17/
LOCATION:ZOOM Service Study\, ZOOM Virtual only\, Meeting ID: 873 6607 8505 Passcode: Area09p74
CATEGORIES:Service Study 3rd Thursday
ATTACH;FMTTYPE=image/png:https://msca09aa.org/wp-content/uploads/2025/01/ServiceManualStudy_English.png
ORGANIZER;CN="Alt Delegate - Manya W.":MAILTO:delegatealt@msca09aa.org
END:VEVENT
END:VCALENDAR