BEGIN:VCALENDAR
VERSION:2.0
PRODID:-//Mid-Southern California Area 09 - ECPv6.15.20//NONSGML v1.0//EN
CALSCALE:GREGORIAN
METHOD:PUBLISH
X-ORIGINAL-URL:https://msca09aa.org
X-WR-CALDESC:Events for Mid-Southern California Area 09
REFRESH-INTERVAL;VALUE=DURATION:PT1H
X-Robots-Tag:noindex
X-PUBLISHED-TTL:PT1H
BEGIN:VTIMEZONE
TZID:America/Los_Angeles
BEGIN:DAYLIGHT
TZOFFSETFROM:-0800
TZOFFSETTO:-0700
TZNAME:PDT
DTSTART:20240310T100000
END:DAYLIGHT
BEGIN:STANDARD
TZOFFSETFROM:-0700
TZOFFSETTO:-0800
TZNAME:PST
DTSTART:20241103T090000
END:STANDARD
BEGIN:DAYLIGHT
TZOFFSETFROM:-0800
TZOFFSETTO:-0700
TZNAME:PDT
DTSTART:20250309T100000
END:DAYLIGHT
BEGIN:STANDARD
TZOFFSETFROM:-0700
TZOFFSETTO:-0800
TZNAME:PST
DTSTART:20251102T090000
END:STANDARD
BEGIN:DAYLIGHT
TZOFFSETFROM:-0800
TZOFFSETTO:-0700
TZNAME:PDT
DTSTART:20260308T100000
END:DAYLIGHT
BEGIN:STANDARD
TZOFFSETFROM:-0700
TZOFFSETTO:-0800
TZNAME:PST
DTSTART:20261101T090000
END:STANDARD
END:VTIMEZONE
BEGIN:VEVENT
DTSTART;TZID=America/Los_Angeles:20250713T080000
DTEND;TZID=America/Los_Angeles:20250713T140000
DTSTAMP:20260420T174405
CREATED:20250512T154411Z
LAST-MODIFIED:20250616T161446Z
UID:54263-1752393600-1752415200@msca09aa.org
SUMMARY:FORO 2025
DESCRIPTION:*Sports-themed”: Wear your favorite jersey\, bring your favorite sports equipment\, and learn about general service in Spanish!\n\nJuly 13 @ 8:00 am – 2:00 pm\nFORO 2025: El Dorado Parks\, Recreation and Marine 2760 N Studebaker Rd\, Long Beach\, CA\, United States*
URL:https://msca09aa.org/event/foro-2025/
LOCATION:Parks\, Recreation and Marine\, 2760 N Studebaker Rd\, Long Beach\, CA\, 90815\, United States
ATTACH;FMTTYPE=image/png:https://msca09aa.org/wp-content/uploads/2025/05/AREA09-FORO-English.png
END:VEVENT
END:VCALENDAR